| Back to Multiple platform build/check report for BioC 3.21: simplified long |
|
This page was generated on 2025-10-16 11:41 -0400 (Thu, 16 Oct 2025).
| Hostname | OS | Arch (*) | R version | Installed pkgs |
|---|---|---|---|---|
| nebbiolo1 | Linux (Ubuntu 24.04.3 LTS) | x86_64 | 4.5.1 (2025-06-13) -- "Great Square Root" | 4833 |
| merida1 | macOS 12.7.6 Monterey | x86_64 | 4.5.1 RC (2025-06-05 r88288) -- "Great Square Root" | 4614 |
| kjohnson1 | macOS 13.7.5 Ventura | arm64 | 4.5.1 Patched (2025-06-14 r88325) -- "Great Square Root" | 4555 |
| kunpeng2 | Linux (openEuler 24.03 LTS) | aarch64 | R Under development (unstable) (2025-02-19 r87757) -- "Unsuffered Consequences" | 4586 |
| Click on any hostname to see more info about the system (e.g. compilers) (*) as reported by 'uname -p', except on Windows and Mac OS X | ||||
| Package 494/2341 | Hostname | OS / Arch | INSTALL | BUILD | CHECK | BUILD BIN | ||||||||
| cypress 1.4.0 (landing page) Shilin Yu
| nebbiolo1 | Linux (Ubuntu 24.04.3 LTS) / x86_64 | OK | OK | OK | |||||||||
| merida1 | macOS 12.7.6 Monterey / x86_64 | OK | OK | OK | OK | |||||||||
| kjohnson1 | macOS 13.7.5 Ventura / arm64 | OK | OK | OK | OK | |||||||||
| kunpeng2 | Linux (openEuler 24.03 LTS) / aarch64 | OK | OK | OK | ||||||||||
|
To the developers/maintainers of the cypress package: - Allow up to 24 hours (and sometimes 48 hours) for your latest push to git@git.bioconductor.org:packages/cypress.git to reflect on this report. See Troubleshooting Build Report for more information. - Use the following Renviron settings to reproduce errors and warnings. - If 'R CMD check' started to fail recently on the Linux builder(s) over a missing dependency, add the missing dependency to 'Suggests:' in your DESCRIPTION file. See Renviron.bioc for more information. - See Martin Grigorov's blog post for how to debug Linux ARM64 related issues on a x86_64 host. |
| Package: cypress |
| Version: 1.4.0 |
| Command: /home/biocbuild/R/R/bin/R CMD check --install=check:cypress.install-out.txt --library=/home/biocbuild/R/R/site-library --no-vignettes --timings cypress_1.4.0.tar.gz |
| StartedAt: 2025-10-14 08:05:26 -0000 (Tue, 14 Oct 2025) |
| EndedAt: 2025-10-14 08:18:23 -0000 (Tue, 14 Oct 2025) |
| EllapsedTime: 776.5 seconds |
| RetCode: 0 |
| Status: OK |
| CheckDir: cypress.Rcheck |
| Warnings: 0 |
##############################################################################
##############################################################################
###
### Running command:
###
### /home/biocbuild/R/R/bin/R CMD check --install=check:cypress.install-out.txt --library=/home/biocbuild/R/R/site-library --no-vignettes --timings cypress_1.4.0.tar.gz
###
##############################################################################
##############################################################################
* using log directory ‘/home/biocbuild/bbs-3.21-bioc/meat/cypress.Rcheck’
* using R Under development (unstable) (2025-02-19 r87757)
* using platform: aarch64-unknown-linux-gnu
* R was compiled by
aarch64-unknown-linux-gnu-gcc (GCC) 14.2.0
GNU Fortran (GCC) 14.2.0
* running under: openEuler 24.03 (LTS-SP1)
* using session charset: UTF-8
* using option ‘--no-vignettes’
* checking for file ‘cypress/DESCRIPTION’ ... OK
* checking extension type ... Package
* this is package ‘cypress’ version ‘1.4.0’
* package encoding: UTF-8
* checking package namespace information ... OK
* checking package dependencies ... OK
* checking if this is a source package ... OK
* checking if there is a namespace ... OK
* checking for hidden files and directories ... OK
* checking for portable file names ... OK
* checking for sufficient/correct file permissions ... OK
* checking whether package ‘cypress’ can be installed ... OK
* checking installed package size ... OK
* checking package directory ... OK
* checking ‘build’ directory ... OK
* checking DESCRIPTION meta-information ... OK
* checking top-level files ... OK
* checking for left-over files ... OK
* checking index information ... OK
* checking package subdirectories ... OK
* checking code files for non-ASCII characters ... OK
* checking R files for syntax errors ... OK
* checking whether the package can be loaded ... OK
* checking whether the package can be loaded with stated dependencies ... OK
* checking whether the package can be unloaded cleanly ... OK
* checking whether the namespace can be loaded with stated dependencies ... OK
* checking whether the namespace can be unloaded cleanly ... OK
* checking loading without being on the library search path ... OK
* checking dependencies in R code ... OK
* checking S3 generic/method consistency ... OK
* checking replacement functions ... OK
* checking foreign function calls ... OK
* checking R code for possible problems ... OK
* checking Rd files ... OK
* checking Rd metadata ... OK
* checking Rd cross-references ... OK
* checking for missing documentation entries ... OK
* checking for code/documentation mismatches ... OK
* checking Rd \usage sections ... OK
* checking Rd contents ... OK
* checking for unstated dependencies in examples ... OK
* checking contents of ‘data’ directory ... OK
* checking data for non-ASCII characters ... OK
* checking data for ASCII and uncompressed saves ... OK
* checking files in ‘vignettes’ ... OK
* checking examples ... OK
Examples with CPU (user + system) or elapsed time > 5s
user system elapsed
simFromParam 138.122 18.294 60.423
* checking for unstated dependencies in ‘tests’ ... OK
* checking tests ...
Running ‘runTest.R’
OK
* checking for unstated dependencies in vignettes ... OK
* checking package vignettes ... OK
* checking running R code from vignettes ... SKIPPED
* checking re-building of vignette outputs ... SKIPPED
* checking PDF version of manual ... OK
* DONE
Status: OK
cypress.Rcheck/00install.out
############################################################################## ############################################################################## ### ### Running command: ### ### /home/biocbuild/R/R/bin/R CMD INSTALL cypress ### ############################################################################## ############################################################################## * installing to library ‘/home/biocbuild/R/R-devel_2025-02-19/site-library’ * installing *source* package ‘cypress’ ... ** this is package ‘cypress’ version ‘1.4.0’ ** using staged installation ** R ** data ** inst ** byte-compile and prepare package for lazy loading ** help *** installing help indices ** building package indices ** installing vignettes ** testing if installed package can be loaded from temporary location ** testing if installed package can be loaded from final location ** testing if installed package keeps a record of temporary installation path * DONE (cypress)
cypress.Rcheck/tests/runTest.Rout
R Under development (unstable) (2025-02-19 r87757) -- "Unsuffered Consequences"
Copyright (C) 2025 The R Foundation for Statistical Computing
Platform: aarch64-unknown-linux-gnu
R is free software and comes with ABSOLUTELY NO WARRANTY.
You are welcome to redistribute it under certain conditions.
Type 'license()' or 'licence()' for distribution details.
R is a collaborative project with many contributors.
Type 'contributors()' for more information and
'citation()' on how to cite R or R packages in publications.
Type 'demo()' for some demos, 'help()' for on-line help, or
'help.start()' for an HTML browser interface to help.
Type 'q()' to quit R.
> BiocGenerics:::testPackage("cypress")
Complete experiment design for CYPRESS.
LFC: 1 Sample Size: 8
the design formula contains one or more numeric variables with integer values,
specifying a model with increasing fold change for higher values.
did you mean for this to be a factor? if so, first convert
this variable to a factor using the factor() function
estimating size factors
estimating dispersions
gene-wise dispersion estimates
mean-dispersion relationship
final dispersion estimates
fitting model and testing
the design formula contains one or more numeric variables with integer values,
specifying a model with increasing fold change for higher values.
did you mean for this to be a factor? if so, first convert
this variable to a factor using the factor() function
estimating size factors
estimating dispersions
gene-wise dispersion estimates
mean-dispersion relationship
-- note: fitType='parametric', but the dispersion trend was not well captured by the
function: y = a/x + b, and a local regression fit was automatically substituted.
specify fitType='local' or 'mean' to avoid this message next time.
final dispersion estimates
fitting model and testing
1 rows did not converge in beta, labelled in mcols(object)$betaConv. Use larger maxit argument with nbinomWaldTest
LFC: 1 Sample Size: 10
the design formula contains one or more numeric variables with integer values,
specifying a model with increasing fold change for higher values.
did you mean for this to be a factor? if so, first convert
this variable to a factor using the factor() function
estimating size factors
estimating dispersions
gene-wise dispersion estimates
mean-dispersion relationship
-- note: fitType='parametric', but the dispersion trend was not well captured by the
function: y = a/x + b, and a local regression fit was automatically substituted.
specify fitType='local' or 'mean' to avoid this message next time.
final dispersion estimates
fitting model and testing
1 rows did not converge in beta, labelled in mcols(object)$betaConv. Use larger maxit argument with nbinomWaldTest
the design formula contains one or more numeric variables with integer values,
specifying a model with increasing fold change for higher values.
did you mean for this to be a factor? if so, first convert
this variable to a factor using the factor() function
estimating size factors
estimating dispersions
gene-wise dispersion estimates
mean-dispersion relationship
-- note: fitType='parametric', but the dispersion trend was not well captured by the
function: y = a/x + b, and a local regression fit was automatically substituted.
specify fitType='local' or 'mean' to avoid this message next time.
final dispersion estimates
fitting model and testing
LFC: 1.5 Sample Size: 8
the design formula contains one or more numeric variables with integer values,
specifying a model with increasing fold change for higher values.
did you mean for this to be a factor? if so, first convert
this variable to a factor using the factor() function
estimating size factors
estimating dispersions
gene-wise dispersion estimates
mean-dispersion relationship
final dispersion estimates
fitting model and testing
the design formula contains one or more numeric variables with integer values,
specifying a model with increasing fold change for higher values.
did you mean for this to be a factor? if so, first convert
this variable to a factor using the factor() function
estimating size factors
estimating dispersions
gene-wise dispersion estimates
mean-dispersion relationship
-- note: fitType='parametric', but the dispersion trend was not well captured by the
function: y = a/x + b, and a local regression fit was automatically substituted.
specify fitType='local' or 'mean' to avoid this message next time.
final dispersion estimates
fitting model and testing
LFC: 1.5 Sample Size: 10
the design formula contains one or more numeric variables with integer values,
specifying a model with increasing fold change for higher values.
did you mean for this to be a factor? if so, first convert
this variable to a factor using the factor() function
estimating size factors
estimating dispersions
gene-wise dispersion estimates
mean-dispersion relationship
-- note: fitType='parametric', but the dispersion trend was not well captured by the
function: y = a/x + b, and a local regression fit was automatically substituted.
specify fitType='local' or 'mean' to avoid this message next time.
final dispersion estimates
fitting model and testing
1 rows did not converge in beta, labelled in mcols(object)$betaConv. Use larger maxit argument with nbinomWaldTest
the design formula contains one or more numeric variables with integer values,
specifying a model with increasing fold change for higher values.
did you mean for this to be a factor? if so, first convert
this variable to a factor using the factor() function
estimating size factors
estimating dispersions
gene-wise dispersion estimates
mean-dispersion relationship
-- note: fitType='parametric', but the dispersion trend was not well captured by the
function: y = a/x + b, and a local regression fit was automatically substituted.
specify fitType='local' or 'mean' to avoid this message next time.
final dispersion estimates
fitting model and testing
Complete simulation for CYPRESS.
Complete experiment design for CYPRESS.
LFC: 1 Sample Size: 8
No prior inference information, run TOAST for first round inference
inference with tree: single
inference with tree: full
No prior inference information, run TOAST for first round inference
inference with tree: single
inference with tree: full
LFC: 1 Sample Size: 10
No prior inference information, run TOAST for first round inference
inference with tree: single
inference with tree: full
No prior inference information, run TOAST for first round inference
inference with tree: single
inference with tree: full
LFC: 1.5 Sample Size: 8
No prior inference information, run TOAST for first round inference
inference with tree: single
inference with tree: full
No prior inference information, run TOAST for first round inference
inference with tree: single
inference with tree: full
LFC: 1.5 Sample Size: 10
No prior inference information, run TOAST for first round inference
inference with tree: single
inference with tree: full
No prior inference information, run TOAST for first round inference
inference with tree: single
inference with tree: full
Complete simulation for CYPRESS.
RUNIT TEST PROTOCOL -- Tue Oct 14 08:18:19 2025
***********************************************
Number of test functions: 2
Number of errors: 0
Number of failures: 0
1 Test Suite :
cypress RUnit Tests - 2 test functions, 0 errors, 0 failures
Number of test functions: 2
Number of errors: 0
Number of failures: 0
>
>
> proc.time()
user system elapsed
511.325 63.894 453.715
cypress.Rcheck/cypress-Ex.timings
| name | user | system | elapsed | |
| ASD_prop | 0.117 | 0.000 | 0.117 | |
| GSE60424Power | 0.004 | 0.000 | 0.004 | |
| GSE60424_param | 0.002 | 0.000 | 0.001 | |
| asdPower | 0.002 | 0.000 | 0.003 | |
| asd_param | 0.021 | 0.000 | 0.021 | |
| cypress-class | 0.002 | 0.000 | 0.002 | |
| cypress-methods | 0.005 | 0.004 | 0.010 | |
| ibdPower | 0.003 | 0.000 | 0.003 | |
| ibd_param | 0.022 | 0.000 | 0.022 | |
| plotFDC | 0.031 | 0.004 | 0.035 | |
| plotPower | 0.025 | 0.000 | 0.025 | |
| plotTDR | 0.021 | 0.000 | 0.020 | |
| quickPower | 0.004 | 0.000 | 0.004 | |
| simFromData | 0 | 0 | 0 | |
| simFromParam | 138.122 | 18.294 | 60.423 | |