Back to Multiple platform build/check report for BioC 3.22:   simplified   long
AB[C]DEFGHIJKLMNOPQRSTUVWXYZ

This page was generated on 2025-11-20 12:03 -0500 (Thu, 20 Nov 2025).

HostnameOSArch (*)R versionInstalled pkgs
nebbiolo2Linux (Ubuntu 24.04.3 LTS)x86_644.5.2 (2025-10-31) -- "[Not] Part in a Rumble" 4615
merida1macOS 12.7.6 Montereyx86_644.5.2 Patched (2025-11-05 r88990) -- "[Not] Part in a Rumble" 4610
kjohnson1macOS 13.7.5 Venturaarm644.5.2 Patched (2025-11-04 r88984) -- "[Not] Part in a Rumble" 4598
taishanLinux (openEuler 24.03 LTS)aarch644.5.0 (2025-04-11) -- "How About a Twenty-Six" 4668
Click on any hostname to see more info about the system (e.g. compilers)      (*) as reported by 'uname -p', except on Windows and Mac OS X

Package 499/2361HostnameOS / ArchINSTALLBUILDCHECKBUILD BIN
cyanoFilter 1.18.0  (landing page)
Oluwafemi Olusoji
Snapshot Date: 2025-11-17 13:45 -0500 (Mon, 17 Nov 2025)
git_url: https://git.bioconductor.org/packages/cyanoFilter
git_branch: RELEASE_3_22
git_last_commit: e3c99a3
git_last_commit_date: 2025-10-29 11:07:55 -0500 (Wed, 29 Oct 2025)
nebbiolo2Linux (Ubuntu 24.04.3 LTS) / x86_64  OK    OK    OK  UNNEEDED, same version is already published
merida1macOS 12.7.6 Monterey / x86_64  OK    OK    OK    OK  UNNEEDED, same version is already published
kjohnson1macOS 13.7.5 Ventura / arm64  OK    OK    OK    OK  UNNEEDED, same version is already published
taishanLinux (openEuler 24.03 LTS) / aarch64  OK    OK    OK  


CHECK results for cyanoFilter on nebbiolo2

To the developers/maintainers of the cyanoFilter package:
- Allow up to 24 hours (and sometimes 48 hours) for your latest push to git@git.bioconductor.org:packages/cyanoFilter.git to reflect on this report. See Troubleshooting Build Report for more information.
- Use the following Renviron settings to reproduce errors and warnings.
- If 'R CMD check' started to fail recently on the Linux builder(s) over a missing dependency, add the missing dependency to 'Suggests:' in your DESCRIPTION file. See Renviron.bioc for more information.

raw results


Summary

Package: cyanoFilter
Version: 1.18.0
Command: /home/biocbuild/bbs-3.22-bioc/R/bin/R CMD check --install=check:cyanoFilter.install-out.txt --library=/home/biocbuild/bbs-3.22-bioc/R/site-library --timings cyanoFilter_1.18.0.tar.gz
StartedAt: 2025-11-18 02:34:24 -0500 (Tue, 18 Nov 2025)
EndedAt: 2025-11-18 02:38:47 -0500 (Tue, 18 Nov 2025)
EllapsedTime: 263.2 seconds
RetCode: 0
Status:   OK  
CheckDir: cyanoFilter.Rcheck
Warnings: 0

Command output

##############################################################################
##############################################################################
###
### Running command:
###
###   /home/biocbuild/bbs-3.22-bioc/R/bin/R CMD check --install=check:cyanoFilter.install-out.txt --library=/home/biocbuild/bbs-3.22-bioc/R/site-library --timings cyanoFilter_1.18.0.tar.gz
###
##############################################################################
##############################################################################


* using log directory ‘/home/biocbuild/bbs-3.22-bioc/meat/cyanoFilter.Rcheck’
* using R version 4.5.2 (2025-10-31)
* using platform: x86_64-pc-linux-gnu
* R was compiled by
    gcc (Ubuntu 13.3.0-6ubuntu2~24.04) 13.3.0
    GNU Fortran (Ubuntu 13.3.0-6ubuntu2~24.04) 13.3.0
* running under: Ubuntu 24.04.3 LTS
* using session charset: UTF-8
* checking for file ‘cyanoFilter/DESCRIPTION’ ... OK
* checking extension type ... Package
* this is package ‘cyanoFilter’ version ‘1.18.0’
* package encoding: UTF-8
* checking package namespace information ... OK
* checking package dependencies ... OK
* checking if this is a source package ... OK
* checking if there is a namespace ... OK
* checking for hidden files and directories ... OK
* checking for portable file names ... OK
* checking for sufficient/correct file permissions ... OK
* checking whether package ‘cyanoFilter’ can be installed ... OK
* checking installed package size ... OK
* checking package directory ... OK
* checking ‘build’ directory ... OK
* checking DESCRIPTION meta-information ... OK
* checking top-level files ... OK
* checking for left-over files ... OK
* checking index information ... OK
* checking package subdirectories ... OK
* checking code files for non-ASCII characters ... OK
* checking R files for syntax errors ... OK
* checking whether the package can be loaded ... OK
* checking whether the package can be loaded with stated dependencies ... OK
* checking whether the package can be unloaded cleanly ... OK
* checking whether the namespace can be loaded with stated dependencies ... OK
* checking whether the namespace can be unloaded cleanly ... OK
* checking loading without being on the library search path ... OK
* checking dependencies in R code ... OK
* checking S3 generic/method consistency ... OK
* checking replacement functions ... OK
* checking foreign function calls ... OK
* checking R code for possible problems ... OK
* checking Rd files ... OK
* checking Rd metadata ... OK
* checking Rd cross-references ... OK
* checking for missing documentation entries ... OK
* checking for code/documentation mismatches ... OK
* checking Rd \usage sections ... OK
* checking Rd contents ... OK
* checking for unstated dependencies in examples ... OK
* checking files in ‘vignettes’ ... OK
* checking examples ... OK
Examples with CPU (user + system) or elapsed time > 5s
          user system elapsed
gateFunc 8.341  0.771   7.365
* checking for unstated dependencies in vignettes ... OK
* checking package vignettes ... OK
* checking re-building of vignette outputs ... OK
* checking PDF version of manual ... OK
* DONE

Status: OK


Installation output

cyanoFilter.Rcheck/00install.out

##############################################################################
##############################################################################
###
### Running command:
###
###   /home/biocbuild/bbs-3.22-bioc/R/bin/R CMD INSTALL cyanoFilter
###
##############################################################################
##############################################################################


* installing to library ‘/home/biocbuild/bbs-3.22-bioc/R/site-library’
* installing *source* package ‘cyanoFilter’ ...
** this is package ‘cyanoFilter’ version ‘1.18.0’
** using staged installation
** R
** inst
** byte-compile and prepare package for lazy loading
** help
*** installing help indices
** building package indices
** installing vignettes
** testing if installed package can be loaded from temporary location
** testing if installed package can be loaded from final location
** testing if installed package keeps a record of temporary installation path
* DONE (cyanoFilter)

Tests output


Example timings

cyanoFilter.Rcheck/cyanoFilter-Ex.timings

nameusersystemelapsed
MarginEvents0.6550.0170.673
PhytoFilter0.7320.0200.752
PhytopFilter0.5160.0260.542
accTest0.5200.0040.524
accuracy0.3270.0010.328
cellmargin0.2510.0180.269
clusterExtract0.6410.0050.646
clusterExtractp0.6480.0100.659
debrisNc0.4980.0080.506
fullFlowframe-MarginEvents-method0.2390.0050.244
fullFlowframe-PhytopFilter-method0.4910.0040.496
fullFlowframe0.2420.0030.246
gateFunc8.3410.7717.365
ggpairsDens4.5980.3504.949
ggplotDens0.6250.0260.651
ggplotDens21.1170.0661.184
goodfcs0.0380.0020.040
is.DebrisFilter000
is.MarginEvents0.0000.0000.001
is.PhytopFilter000
is.flowFrame0.0010.0000.000
is.flowSet000
lnTrans0.1620.0080.170
newFlowframe0.1710.0070.178
nona0.0820.0020.084
noneg0.1270.0040.131
oneDgate0.1700.0210.191
pairsPlot1.5300.0511.581
pigmentGate0.2220.0050.228
reducedFlowframe-MarginEvents-method0.2490.0040.254
reducedFlowframe0.2450.0050.250
retain0.0130.0000.013
rowNumbers0.1740.0040.178
summaries-DebrisFilter-method0.2400.0030.243
summaries-MarginEvents-method0.2530.0030.257
summaries-PhytopFilter-method0.5050.0080.514
summaries0.2530.0000.253