| Back to Multiple platform build/check report for BioC 3.21: simplified long |
|
This page was generated on 2025-04-22 13:17 -0400 (Tue, 22 Apr 2025).
| Hostname | OS | Arch (*) | R version | Installed pkgs |
|---|---|---|---|---|
| nebbiolo1 | Linux (Ubuntu 24.04.1 LTS) | x86_64 | 4.5.0 RC (2025-04-04 r88126) -- "How About a Twenty-Six" | 4831 |
| palomino7 | Windows Server 2022 Datacenter | x64 | 4.5.0 RC (2025-04-04 r88126 ucrt) -- "How About a Twenty-Six" | 4573 |
| lconway | macOS 12.7.1 Monterey | x86_64 | 4.5.0 RC (2025-04-04 r88126) -- "How About a Twenty-Six" | 4599 |
| kjohnson3 | macOS 13.7.1 Ventura | arm64 | 4.5.0 RC (2025-04-04 r88126) -- "How About a Twenty-Six" | 4553 |
| kunpeng2 | Linux (openEuler 24.03 LTS) | aarch64 | R Under development (unstable) (2025-02-19 r87757) -- "Unsuffered Consequences" | 4570 |
| Click on any hostname to see more info about the system (e.g. compilers) (*) as reported by 'uname -p', except on Windows and Mac OS X | ||||
| Package 472/2341 | Hostname | OS / Arch | INSTALL | BUILD | CHECK | BUILD BIN | ||||||||
| crlmm 1.66.0 (landing page) Benilton S Carvalho
| nebbiolo1 | Linux (Ubuntu 24.04.1 LTS) / x86_64 | OK | OK | WARNINGS | |||||||||
| palomino7 | Windows Server 2022 Datacenter / x64 | OK | OK | WARNINGS | OK | |||||||||
| lconway | macOS 12.7.1 Monterey / x86_64 | OK | OK | WARNINGS | OK | |||||||||
| kjohnson3 | macOS 13.7.1 Ventura / arm64 | OK | OK | WARNINGS | OK | |||||||||
| kunpeng2 | Linux (openEuler 24.03 LTS) / aarch64 | OK | OK | WARNINGS | ||||||||||
|
To the developers/maintainers of the crlmm package: - Allow up to 24 hours (and sometimes 48 hours) for your latest push to git@git.bioconductor.org:packages/crlmm.git to reflect on this report. See Troubleshooting Build Report for more information. - Use the following Renviron settings to reproduce errors and warnings. - If 'R CMD check' started to fail recently on the Linux builder(s) over a missing dependency, add the missing dependency to 'Suggests:' in your DESCRIPTION file. See Renviron.bioc for more information. |
| Package: crlmm |
| Version: 1.66.0 |
| Command: rm -rf crlmm.buildbin-libdir && mkdir crlmm.buildbin-libdir && /Users/biocbuild/BBS/utils/build-universal.sh crlmm_1.66.0.tar.gz /Library/Frameworks/R.framework/Resources/bin/R crlmm.buildbin-libdir |
| StartedAt: 2025-04-21 22:31:28 -0400 (Mon, 21 Apr 2025) |
| EndedAt: 2025-04-21 22:31:44 -0400 (Mon, 21 Apr 2025) |
| EllapsedTime: 16.3 seconds |
| RetCode: 0 |
| Status: OK |
| PackageFile: crlmm_1.66.0.tgz |
| PackageFileSize: 5.202 MiB |
##############################################################################
##############################################################################
###
### Running command:
###
### rm -rf crlmm.buildbin-libdir && mkdir crlmm.buildbin-libdir && /Users/biocbuild/BBS/utils/build-universal.sh crlmm_1.66.0.tar.gz /Library/Frameworks/R.framework/Resources/bin/R crlmm.buildbin-libdir
###
##############################################################################
##############################################################################
>>>>>>>
>>>>>>> INSTALLATION WITH 'R CMD INSTALL --preclean --no-multiarch --library=crlmm.buildbin-libdir crlmm_1.66.0.tar.gz'
>>>>>>>
* installing *source* package ‘crlmm’ ...
** this is package ‘crlmm’ version ‘1.66.0’
** using staged installation
** libs
using C compiler: ‘Apple clang version 15.0.0 (clang-1500.1.0.2.5)’
using SDK: ‘MacOSX11.3.sdk’
clang -arch arm64 -I"/Library/Frameworks/R.framework/Resources/include" -DNDEBUG -I'/Library/Frameworks/R.framework/Versions/4.5-arm64/Resources/library/preprocessCore/include' -I/opt/R/arm64/include -fPIC -falign-functions=64 -Wall -g -O2 -c gtypeCaller.c -o gtypeCaller.o
clang -arch arm64 -I"/Library/Frameworks/R.framework/Resources/include" -DNDEBUG -I'/Library/Frameworks/R.framework/Versions/4.5-arm64/Resources/library/preprocessCore/include' -I/opt/R/arm64/include -fPIC -falign-functions=64 -Wall -g -O2 -c init.c -o init.o
clang -arch arm64 -I"/Library/Frameworks/R.framework/Resources/include" -DNDEBUG -I'/Library/Frameworks/R.framework/Versions/4.5-arm64/Resources/library/preprocessCore/include' -I/opt/R/arm64/include -fPIC -falign-functions=64 -Wall -g -O2 -c trimmed.c -o trimmed.o
clang -arch arm64 -I"/Library/Frameworks/R.framework/Resources/include" -DNDEBUG -I'/Library/Frameworks/R.framework/Versions/4.5-arm64/Resources/library/preprocessCore/include' -I/opt/R/arm64/include -fPIC -falign-functions=64 -Wall -g -O2 -c utils.c -o utils.o
utils.c:81:13: warning: variable 'n1' set but not used [-Wunused-but-set-variable]
int i, j, n1, n2, n3;
^
utils.c:81:17: warning: variable 'n2' set but not used [-Wunused-but-set-variable]
int i, j, n1, n2, n3;
^
utils.c:81:21: warning: variable 'n3' set but not used [-Wunused-but-set-variable]
int i, j, n1, n2, n3;
^
utils.c:207:13: warning: variable 'n1' set but not used [-Wunused-but-set-variable]
int i, j, n1, n2, n3;
^
utils.c:207:17: warning: variable 'n2' set but not used [-Wunused-but-set-variable]
int i, j, n1, n2, n3;
^
utils.c:207:21: warning: variable 'n3' set but not used [-Wunused-but-set-variable]
int i, j, n1, n2, n3;
^
6 warnings generated.
clang -arch arm64 -dynamiclib -Wl,-headerpad_max_install_names -undefined dynamic_lookup -L/Library/Frameworks/R.framework/Resources/lib -L/opt/R/arm64/lib -o crlmm.so gtypeCaller.o init.o trimmed.o utils.o -F/Library/Frameworks/R.framework/.. -framework R
installing to /Users/biocbuild/bbs-3.21-bioc/meat/crlmm.buildbin-libdir/00LOCK-crlmm/00new/crlmm/libs
** R
** data
** inst
** byte-compile and prepare package for lazy loading
No methods found in package ‘oligoClasses’ for request: ‘mean’ when loading ‘crlmm’
** help
*** installing help indices
** building package indices
** installing vignettes
** testing if installed package can be loaded from temporary location
No methods found in package ‘oligoClasses’ for request: ‘mean’ when loading ‘crlmm’
** checking absolute paths in shared objects and dynamic libraries
** testing if installed package can be loaded from final location
No methods found in package ‘oligoClasses’ for request: ‘mean’ when loading ‘crlmm’
** testing if installed package keeps a record of temporary installation path
* DONE (crlmm)
>>>>>>>
>>>>>>> FIXING PATHS TO DYNAMIC LIBRARIES FOR crlmm.buildbin-libdir/crlmm/libs/crlmm.so
>>>>>>>
>>>>>>> Paths before fix:
crlmm.buildbin-libdir/crlmm/libs/crlmm.so:
crlmm.so (compatibility version 0.0.0, current version 0.0.0)
/Library/Frameworks/R.framework/Versions/4.5-arm64/Resources/lib/libR.dylib (compatibility version 4.5.0, current version 4.5.0)
/usr/lib/libSystem.B.dylib (compatibility version 1.0.0, current version 1292.100.5)
>>>>>>> Fix with install_name_tool:
install_name_tool -change "/usr/local/lib/libgcc_s.1.1.dylib" "/Library/Frameworks/R.framework/Versions/4.5-arm64/Resources/lib/libgcc_s.1.1.dylib" "crlmm.buildbin-libdir/crlmm/libs/crlmm.so"
install_name_tool -change "/usr/local/lib/libgfortran.5.dylib" "/Library/Frameworks/R.framework/Versions/4.5-arm64/Resources/lib/libgfortran.5.dylib" "crlmm.buildbin-libdir/crlmm/libs/crlmm.so"
install_name_tool -change "/usr/local/lib/libquadmath.0.dylib" "/Library/Frameworks/R.framework/Versions/4.5-arm64/Resources/lib/libquadmath.0.dylib" "crlmm.buildbin-libdir/crlmm/libs/crlmm.so"
>>>>>>> Paths after fix:
crlmm.buildbin-libdir/crlmm/libs/crlmm.so:
crlmm.so (compatibility version 0.0.0, current version 0.0.0)
/Library/Frameworks/R.framework/Versions/4.5-arm64/Resources/lib/libR.dylib (compatibility version 4.5.0, current version 4.5.0)
/usr/lib/libSystem.B.dylib (compatibility version 1.0.0, current version 1292.100.5)