| Back to Multiple platform build/check report for BioC 3.21: simplified long |
|
This page was generated on 2025-10-16 11:37 -0400 (Thu, 16 Oct 2025).
| Hostname | OS | Arch (*) | R version | Installed pkgs |
|---|---|---|---|---|
| nebbiolo1 | Linux (Ubuntu 24.04.3 LTS) | x86_64 | 4.5.1 (2025-06-13) -- "Great Square Root" | 4833 |
| merida1 | macOS 12.7.6 Monterey | x86_64 | 4.5.1 RC (2025-06-05 r88288) -- "Great Square Root" | 4614 |
| kjohnson1 | macOS 13.7.5 Ventura | arm64 | 4.5.1 Patched (2025-06-14 r88325) -- "Great Square Root" | 4555 |
| kunpeng2 | Linux (openEuler 24.03 LTS) | aarch64 | R Under development (unstable) (2025-02-19 r87757) -- "Unsuffered Consequences" | 4586 |
| Click on any hostname to see more info about the system (e.g. compilers) (*) as reported by 'uname -p', except on Windows and Mac OS X | ||||
| Package 450/2341 | Hostname | OS / Arch | INSTALL | BUILD | CHECK | BUILD BIN | ||||||||
| cosmosR 1.16.0 (landing page) Attila Gabor
| nebbiolo1 | Linux (Ubuntu 24.04.3 LTS) / x86_64 | OK | OK | OK | |||||||||
| merida1 | macOS 12.7.6 Monterey / x86_64 | OK | OK | OK | OK | |||||||||
| kjohnson1 | macOS 13.7.5 Ventura / arm64 | OK | OK | OK | OK | |||||||||
| kunpeng2 | Linux (openEuler 24.03 LTS) / aarch64 | OK | OK | OK | ||||||||||
|
To the developers/maintainers of the cosmosR package: - Allow up to 24 hours (and sometimes 48 hours) for your latest push to git@git.bioconductor.org:packages/cosmosR.git to reflect on this report. See Troubleshooting Build Report for more information. - Use the following Renviron settings to reproduce errors and warnings. - If 'R CMD check' started to fail recently on the Linux builder(s) over a missing dependency, add the missing dependency to 'Suggests:' in your DESCRIPTION file. See Renviron.bioc for more information. |
| Package: cosmosR |
| Version: 1.16.0 |
| Command: /home/biocbuild/bbs-3.21-bioc/R/bin/R CMD check --install=check:cosmosR.install-out.txt --library=/home/biocbuild/bbs-3.21-bioc/R/site-library --timings cosmosR_1.16.0.tar.gz |
| StartedAt: 2025-10-15 22:03:37 -0400 (Wed, 15 Oct 2025) |
| EndedAt: 2025-10-15 22:04:59 -0400 (Wed, 15 Oct 2025) |
| EllapsedTime: 82.1 seconds |
| RetCode: 0 |
| Status: OK |
| CheckDir: cosmosR.Rcheck |
| Warnings: 0 |
##############################################################################
##############################################################################
###
### Running command:
###
### /home/biocbuild/bbs-3.21-bioc/R/bin/R CMD check --install=check:cosmosR.install-out.txt --library=/home/biocbuild/bbs-3.21-bioc/R/site-library --timings cosmosR_1.16.0.tar.gz
###
##############################################################################
##############################################################################
* using log directory ‘/home/biocbuild/bbs-3.21-bioc/meat/cosmosR.Rcheck’
* using R version 4.5.1 (2025-06-13)
* using platform: x86_64-pc-linux-gnu
* R was compiled by
gcc (Ubuntu 13.3.0-6ubuntu2~24.04) 13.3.0
GNU Fortran (Ubuntu 13.3.0-6ubuntu2~24.04) 13.3.0
* running under: Ubuntu 24.04.3 LTS
* using session charset: UTF-8
* checking for file ‘cosmosR/DESCRIPTION’ ... OK
* checking extension type ... Package
* this is package ‘cosmosR’ version ‘1.16.0’
* package encoding: UTF-8
* checking package namespace information ... OK
* checking package dependencies ... OK
* checking if this is a source package ... OK
* checking if there is a namespace ... OK
* checking for hidden files and directories ... OK
* checking for portable file names ... OK
* checking for sufficient/correct file permissions ... OK
* checking whether package ‘cosmosR’ can be installed ... OK
* checking installed package size ... OK
* checking package directory ... OK
* checking ‘build’ directory ... OK
* checking DESCRIPTION meta-information ... OK
* checking top-level files ... NOTE
File
LICENSE
is not mentioned in the DESCRIPTION file.
* checking for left-over files ... OK
* checking index information ... OK
* checking package subdirectories ... OK
* checking code files for non-ASCII characters ... OK
* checking R files for syntax errors ... OK
* checking whether the package can be loaded ... OK
* checking whether the package can be loaded with stated dependencies ... OK
* checking whether the package can be unloaded cleanly ... OK
* checking whether the namespace can be loaded with stated dependencies ... OK
* checking whether the namespace can be unloaded cleanly ... OK
* checking loading without being on the library search path ... OK
* checking dependencies in R code ... NOTE
There are ::: calls to the package's namespace in its code. A package
almost never needs to use ::: for its own objects:
‘keep_controllable_neighbours’
* checking S3 generic/method consistency ... OK
* checking replacement functions ... OK
* checking foreign function calls ... OK
* checking R code for possible problems ... NOTE
decompress_solution_network: no visible binding for global variable
‘HMDB_mapper_vec’
format_COSMOS_res: no visible binding for global variable
‘HMDB_mapper_vec’
meta_network_cleanup: no visible binding for global variable ‘target’
meta_network_cleanup: no visible binding for global variable ‘.’
Undefined global functions or variables:
. HMDB_mapper_vec target
* checking Rd files ... OK
* checking Rd metadata ... OK
* checking Rd cross-references ... OK
* checking for missing documentation entries ... OK
* checking for code/documentation mismatches ... OK
* checking Rd \usage sections ... OK
* checking Rd contents ... OK
* checking for unstated dependencies in examples ... OK
* checking contents of ‘data’ directory ... OK
* checking data for non-ASCII characters ... OK
* checking data for ASCII and uncompressed saves ... OK
* checking R/sysdata.rda ... OK
* checking files in ‘vignettes’ ... OK
* checking examples ... OK
* checking for unstated dependencies in ‘tests’ ... OK
* checking tests ...
Running ‘testthat.R’
OK
* checking for unstated dependencies in vignettes ... OK
* checking package vignettes ... OK
* checking re-building of vignette outputs ... OK
* checking PDF version of manual ... OK
* DONE
Status: 3 NOTEs
See
‘/home/biocbuild/bbs-3.21-bioc/meat/cosmosR.Rcheck/00check.log’
for details.
cosmosR.Rcheck/00install.out
############################################################################## ############################################################################## ### ### Running command: ### ### /home/biocbuild/bbs-3.21-bioc/R/bin/R CMD INSTALL cosmosR ### ############################################################################## ############################################################################## * installing to library ‘/home/biocbuild/bbs-3.21-bioc/R/site-library’ * installing *source* package ‘cosmosR’ ... ** this is package ‘cosmosR’ version ‘1.16.0’ ** using staged installation ** R ** data ** inst ** byte-compile and prepare package for lazy loading ** help *** installing help indices *** copying figures ** building package indices ** installing vignettes ** testing if installed package can be loaded from temporary location ** testing if installed package can be loaded from final location ** testing if installed package keeps a record of temporary installation path * DONE (cosmosR)
cosmosR.Rcheck/tests/testthat.Rout
R version 4.5.1 (2025-06-13) -- "Great Square Root"
Copyright (C) 2025 The R Foundation for Statistical Computing
Platform: x86_64-pc-linux-gnu
R is free software and comes with ABSOLUTELY NO WARRANTY.
You are welcome to redistribute it under certain conditions.
Type 'license()' or 'licence()' for distribution details.
R is a collaborative project with many contributors.
Type 'contributors()' for more information and
'citation()' on how to cite R or R packages in publications.
Type 'demo()' for some demos, 'help()' for on-line help, or
'help.start()' for an HTML browser interface to help.
Type 'q()' to quit R.
> library(testthat)
> library(cosmosR)
>
> test_check("cosmosR")
[1] "COSMOS: all 3 signaling nodes from data were found in the meta PKN"
[1] "COSMOS: all 2 metabolic nodes from data were found in the meta PKN"
[1] "COSMOS: 2975 of the 9300 genes in expression data were found as transcription factor target"
[1] "COSMOS: 2975 of the 5321 transcription factor targets were found in expression data"
[1] "COSMOS: removing unexpressed nodes from PKN..."
[1] "COSMOS: 0 interactions removed"
[1] "COSMOS: removing nodes that are not reachable from inputs within 8 steps"
[1] "COSMOS: 26 from 101 interactions are removed from the PKN"
[1] "COSMOS: 1 input/measured nodes are not in PKN any more: Metab__HMDB0000190_c and 0 more."
[1] "COSMOS: removing nodes that are not observable by measurements within 8 steps"
[1] "COSMOS: 50 from 75 interactions are removed from the PKN"
[1] "COSMOS: 2 input/measured nodes are not in PKN any more: USF1, SRF and 0 more."
[1] "COSMOS: 0 interactions are removed from the PKN based on consistency check between TF activity and gene expression"
[1] "COSMOS: all 1 signaling nodes from data were found in the meta PKN"
[1] "COSMOS: all 1 metabolic nodes from data were found in the meta PKN"
[1] "COSMOS: 2975 of the 9300 genes in expression data were found as transcription factor target"
[1] "COSMOS: 2975 of the 5321 transcription factor targets were found in expression data"
[1] "COSMOS: all 3 signaling nodes from data were found in the meta PKN"
[1] "COSMOS: all 2 metabolic nodes from data were found in the meta PKN"
[1] "COSMOS: 2975 of the 9300 genes in expression data were found as transcription factor target"
[1] "COSMOS: 2975 of the 5321 transcription factor targets were found in expression data"
[1] "COSMOS: removing unexpressed nodes from PKN..."
[1] "COSMOS: 0 interactions removed"
[1] "COSMOS: removing nodes that are not reachable from inputs within 8 steps"
[1] "COSMOS: 0 from 101 interactions are removed from the PKN"
[1] "COSMOS: removing nodes that are not observable by measurements within 8 steps"
[1] "COSMOS: 54 from 101 interactions are removed from the PKN"
[1] "COSMOS: 1 input/measured nodes are not in PKN any more: Metab__HMDB0000190_c and 0 more."
[1] "COSMOS: 0 interactions are removed from the PKN based on consistency check between TF activity and gene expression"
[1] "COSMOS: all 3 signaling nodes from data were found in the meta PKN"
[1] "COSMOS: all 1 metabolic nodes from data were found in the meta PKN"
[1] "COSMOS: 2975 of the 9300 genes in expression data were found as transcription factor target"
[1] "COSMOS: 2975 of the 5321 transcription factor targets were found in expression data"
[1] "COSMOS: all 3 signaling nodes from data were found in the meta PKN"
[1] "COSMOS: all 2 metabolic nodes from data were found in the meta PKN"
[1] "COSMOS: 2975 of the 9300 genes in expression data were found as transcription factor target"
[1] "COSMOS: 2975 of the 5321 transcription factor targets were found in expression data"
[1] "COSMOS: removing nodes that are not reachable from inputs within 15 steps"
[1] "COSMOS: 0 from 101 interactions are removed from the PKN"
[1] "COSMOS: removing nodes that are not observable by measurements within 15 steps"
[1] "COSMOS: 54 from 101 interactions are removed from the PKN"
[1] "COSMOS: 1 input/measured nodes are not in PKN any more: Metab__HMDB0000190_c and 0 more."
[1] "COSMOS: 0 interactions are removed from the PKN based on consistency check between TF activity and gene expression"
[1] "COSMOS: all 3 signaling nodes from data were found in the meta PKN"
[1] "COSMOS: all 1 metabolic nodes from data were found in the meta PKN"
[1] "COSMOS: 2975 of the 9300 genes in expression data were found as transcription factor target"
[1] "COSMOS: 2975 of the 5321 transcription factor targets were found in expression data"
[1] "lpSolve does not scale well with large PKNs. This solver is mainly for testing purposes. To run COSMSO, we recommend using cplex, or cbc solvers."
[1] "lpSolve does not scale well with large PKNs. This solver is mainly for testing purposes. To run COSMSO, we recommend using cplex, or cbc solvers."
[1] "COSMOS: all 3 signaling nodes from data were found in the meta PKN"
[1] "COSMOS: all 2 metabolic nodes from data were found in the meta PKN"
[1] "COSMOS: 2975 of the 9300 genes in expression data were found as transcription factor target"
[1] "COSMOS: 2975 of the 5321 transcription factor targets were found in expression data"
[1] "COSMOS: removing nodes that are not reachable from inputs within 15 steps"
[1] "COSMOS: 0 from 101 interactions are removed from the PKN"
[1] "COSMOS: removing nodes that are not observable by measurements within 15 steps"
[1] "COSMOS: 52 from 101 interactions are removed from the PKN"
[1] "COSMOS: 2 input/measured nodes are not in PKN any more: USF1, SRF and 0 more."
[1] "COSMOS: 0 interactions are removed from the PKN based on consistency check between TF activity and gene expression"
[1] "COSMOS: all 1 signaling nodes from data were found in the meta PKN"
[1] "COSMOS: all 2 metabolic nodes from data were found in the meta PKN"
[1] "COSMOS: 2975 of the 9300 genes in expression data were found as transcription factor target"
[1] "COSMOS: 2975 of the 5321 transcription factor targets were found in expression data"
[1] "lpSolve does not scale well with large PKNs. This solver is mainly for testing purposes. To run COSMSO, we recommend using cplex, or cbc solvers."
[1] "lpSolve does not scale well with large PKNs. This solver is mainly for testing purposes. To run COSMSO, we recommend using cplex, or cbc solvers."
[ FAIL 0 | WARN 3 | SKIP 0 | PASS 34 ]
[ FAIL 0 | WARN 3 | SKIP 0 | PASS 34 ]
>
> proc.time()
user system elapsed
4.354 0.306 4.646
cosmosR.Rcheck/cosmosR-Ex.timings
| name | user | system | elapsed | |
| HMDB_mapper_vec | 0.244 | 0.028 | 0.273 | |
| compress_same_children | 0.003 | 0.000 | 0.004 | |
| decompress_solution_network | 0.250 | 0.015 | 0.267 | |
| decoupleRnival | 1.282 | 0.013 | 1.295 | |
| default_CARNIVAL_options | 0.153 | 0.013 | 0.165 | |
| display_node_neighboorhood | 2.917 | 0.101 | 3.022 | |
| extract_nodes_for_ORA | 2.285 | 0.083 | 2.368 | |
| filter_incohrent_TF_target | 0.572 | 0.013 | 0.586 | |
| load_tf_regulon_dorothea | 0.042 | 0.007 | 0.049 | |
| meta_network | 0.109 | 0.002 | 0.111 | |
| meta_network_cleanup | 0.172 | 0.005 | 0.177 | |
| preprocess_COSMOS_metabolism_to_signaling | 0.310 | 0.019 | 0.329 | |
| preprocess_COSMOS_signaling_to_metabolism | 0.835 | 0.013 | 0.848 | |
| reduce_solution_network | 0.601 | 0.000 | 0.600 | |
| run_COSMOS_metabolism_to_signaling | 0.510 | 0.021 | 0.532 | |
| run_COSMOS_signaling_to_metabolism | 1.549 | 0.060 | 1.609 | |
| toy_RNA | 0.017 | 0.000 | 0.017 | |
| toy_metabolic_input | 0.000 | 0.001 | 0.001 | |
| toy_network | 0.000 | 0.001 | 0.001 | |
| toy_signaling_input | 0.000 | 0.001 | 0.000 | |