| Back to Multiple platform build/check report for BioC 3.21: simplified long |
|
This page was generated on 2025-04-22 13:16 -0400 (Tue, 22 Apr 2025).
| Hostname | OS | Arch (*) | R version | Installed pkgs |
|---|---|---|---|---|
| nebbiolo1 | Linux (Ubuntu 24.04.1 LTS) | x86_64 | 4.5.0 RC (2025-04-04 r88126) -- "How About a Twenty-Six" | 4831 |
| palomino7 | Windows Server 2022 Datacenter | x64 | 4.5.0 RC (2025-04-04 r88126 ucrt) -- "How About a Twenty-Six" | 4573 |
| lconway | macOS 12.7.1 Monterey | x86_64 | 4.5.0 RC (2025-04-04 r88126) -- "How About a Twenty-Six" | 4599 |
| kjohnson3 | macOS 13.7.1 Ventura | arm64 | 4.5.0 RC (2025-04-04 r88126) -- "How About a Twenty-Six" | 4553 |
| kunpeng2 | Linux (openEuler 24.03 LTS) | aarch64 | R Under development (unstable) (2025-02-19 r87757) -- "Unsuffered Consequences" | 4570 |
| Click on any hostname to see more info about the system (e.g. compilers) (*) as reported by 'uname -p', except on Windows and Mac OS X | ||||
| Package 439/2341 | Hostname | OS / Arch | INSTALL | BUILD | CHECK | BUILD BIN | ||||||||
| conumee 1.42.0 (landing page) Volker Hovestadt
| nebbiolo1 | Linux (Ubuntu 24.04.1 LTS) / x86_64 | OK | OK | OK | |||||||||
| palomino7 | Windows Server 2022 Datacenter / x64 | ... NOT SUPPORTED ... | ||||||||||||
| lconway | macOS 12.7.1 Monterey / x86_64 | OK | OK | OK | OK | |||||||||
| kjohnson3 | macOS 13.7.1 Ventura / arm64 | OK | OK | OK | OK | |||||||||
| kunpeng2 | Linux (openEuler 24.03 LTS) / aarch64 | OK | OK | OK | ||||||||||
|
To the developers/maintainers of the conumee package: - Allow up to 24 hours (and sometimes 48 hours) for your latest push to git@git.bioconductor.org:packages/conumee.git to reflect on this report. See Troubleshooting Build Report for more information. - Use the following Renviron settings to reproduce errors and warnings. - If 'R CMD check' started to fail recently on the Linux builder(s) over a missing dependency, add the missing dependency to 'Suggests:' in your DESCRIPTION file. See Renviron.bioc for more information. |
| Package: conumee |
| Version: 1.42.0 |
| Command: /Library/Frameworks/R.framework/Resources/bin/R CMD check --install=check:conumee.install-out.txt --library=/Library/Frameworks/R.framework/Resources/library --no-vignettes --timings conumee_1.42.0.tar.gz |
| StartedAt: 2025-04-21 19:55:28 -0400 (Mon, 21 Apr 2025) |
| EndedAt: 2025-04-21 20:18:21 -0400 (Mon, 21 Apr 2025) |
| EllapsedTime: 1372.4 seconds |
| RetCode: 0 |
| Status: OK |
| CheckDir: conumee.Rcheck |
| Warnings: 0 |
##############################################################################
##############################################################################
###
### Running command:
###
### /Library/Frameworks/R.framework/Resources/bin/R CMD check --install=check:conumee.install-out.txt --library=/Library/Frameworks/R.framework/Resources/library --no-vignettes --timings conumee_1.42.0.tar.gz
###
##############################################################################
##############################################################################
* using log directory ‘/Users/biocbuild/bbs-3.21-bioc/meat/conumee.Rcheck’
* using R version 4.5.0 RC (2025-04-04 r88126)
* using platform: x86_64-apple-darwin20
* R was compiled by
Apple clang version 14.0.0 (clang-1400.0.29.202)
GNU Fortran (GCC) 14.2.0
* running under: macOS Monterey 12.7.6
* using session charset: UTF-8
* using option ‘--no-vignettes’
* checking for file ‘conumee/DESCRIPTION’ ... OK
* this is package ‘conumee’ version ‘1.42.0’
* checking package namespace information ... OK
* checking package dependencies ... OK
* checking if this is a source package ... OK
* checking if there is a namespace ... OK
* checking for hidden files and directories ... NOTE
Found the following hidden files and directories:
.BBSoptions
These were most likely included in error. See section ‘Package
structure’ in the ‘Writing R Extensions’ manual.
* checking for portable file names ... OK
* checking for sufficient/correct file permissions ... OK
* checking whether package ‘conumee’ can be installed ... OK
* checking installed package size ... OK
* checking package directory ... OK
* checking ‘build’ directory ... OK
* checking DESCRIPTION meta-information ... OK
* checking top-level files ... OK
* checking for left-over files ... OK
* checking index information ... OK
* checking package subdirectories ... OK
* checking code files for non-ASCII characters ... OK
* checking R files for syntax errors ... OK
* checking whether the package can be loaded ... OK
* checking whether the package can be loaded with stated dependencies ... OK
* checking whether the package can be unloaded cleanly ... OK
* checking whether the namespace can be loaded with stated dependencies ... OK
* checking whether the namespace can be unloaded cleanly ... OK
* checking dependencies in R code ... OK
* checking S3 generic/method consistency ... OK
* checking replacement functions ... OK
* checking foreign function calls ... OK
* checking R code for possible problems ... NOTE
CNV.load,GenomicRatioSet: no visible global function definition for
‘assays’
CNV.load,matrix: no visible binding for global variable ‘anno’
Undefined global functions or variables:
anno assays
* checking Rd files ... OK
* checking Rd metadata ... OK
* checking Rd cross-references ... OK
* checking for missing documentation entries ... OK
* checking for code/documentation mismatches ... OK
* checking Rd \usage sections ... OK
* checking Rd contents ... OK
* checking for unstated dependencies in examples ... OK
* checking contents of ‘data’ directory ... OK
* checking data for non-ASCII characters ... OK
* checking data for ASCII and uncompressed saves ... OK
* checking R/sysdata.rda ... OK
* checking files in ‘vignettes’ ... OK
* checking examples ... OK
Examples with CPU (user + system) or elapsed time > 5s
user system elapsed
CNV.genomeplot 63.937 2.942 67.531
CNV.write 62.550 2.794 65.783
CNV.detailplot_wrap 59.883 3.381 63.751
CNV.detailplot 58.956 3.393 62.819
CNV.analysis-class 57.750 2.734 60.912
CNV.segment 53.722 2.567 58.364
CNV.fit 37.086 1.359 38.669
CNV.detail 32.760 1.911 35.532
CNV.bin 32.654 1.416 34.314
CNV.create_anno 30.301 1.793 32.301
CNV.anno-class 29.205 1.627 31.052
read.450k.url 7.272 0.669 11.292
* checking for unstated dependencies in vignettes ... OK
* checking package vignettes ... OK
* checking running R code from vignettes ... SKIPPED
* checking re-building of vignette outputs ... SKIPPED
* checking PDF version of manual ... OK
* DONE
Status: 2 NOTEs
See
‘/Users/biocbuild/bbs-3.21-bioc/meat/conumee.Rcheck/00check.log’
for details.
conumee.Rcheck/00install.out
############################################################################## ############################################################################## ### ### Running command: ### ### /Library/Frameworks/R.framework/Resources/bin/R CMD INSTALL conumee ### ############################################################################## ############################################################################## * installing to library ‘/Library/Frameworks/R.framework/Versions/4.5-x86_64/Resources/library’ * installing *source* package ‘conumee’ ... ** this is package ‘conumee’ version ‘1.42.0’ ** using staged installation ** R ** data ** inst ** byte-compile and prepare package for lazy loading ** help *** installing help indices ** building package indices ** installing vignettes ** testing if installed package can be loaded from temporary location ** testing if installed package can be loaded from final location ** testing if installed package keeps a record of temporary installation path * DONE (conumee)
conumee.Rcheck/conumee-Ex.timings
| name | user | system | elapsed | |
| CNV.analysis-class | 57.750 | 2.734 | 60.912 | |
| CNV.anno-class | 29.205 | 1.627 | 31.052 | |
| CNV.bin | 32.654 | 1.416 | 34.314 | |
| CNV.create_anno | 30.301 | 1.793 | 32.301 | |
| CNV.data-class | 1.412 | 0.021 | 1.437 | |
| CNV.detail | 32.760 | 1.911 | 35.532 | |
| CNV.detailplot | 58.956 | 3.393 | 62.819 | |
| CNV.detailplot_wrap | 59.883 | 3.381 | 63.751 | |
| CNV.fit | 37.086 | 1.359 | 38.669 | |
| CNV.genomeplot | 63.937 | 2.942 | 67.531 | |
| CNV.load | 1.980 | 0.148 | 2.151 | |
| CNV.segment | 53.722 | 2.567 | 58.364 | |
| CNV.write | 62.550 | 2.794 | 65.783 | |
| read.450k.url | 7.272 | 0.669 | 11.292 | |