Back to Multiple platform build/check report for BioC 3.22:   simplified   long
AB[C]DEFGHIJKLMNOPQRSTUVWXYZ

This page was generated on 2025-11-20 12:04 -0500 (Thu, 20 Nov 2025).

HostnameOSArch (*)R versionInstalled pkgs
nebbiolo2Linux (Ubuntu 24.04.3 LTS)x86_644.5.2 (2025-10-31) -- "[Not] Part in a Rumble" 4615
merida1macOS 12.7.6 Montereyx86_644.5.2 Patched (2025-11-05 r88990) -- "[Not] Part in a Rumble" 4610
kjohnson1macOS 13.7.5 Venturaarm644.5.2 Patched (2025-11-04 r88984) -- "[Not] Part in a Rumble" 4598
taishanLinux (openEuler 24.03 LTS)aarch644.5.0 (2025-04-11) -- "How About a Twenty-Six" 4668
Click on any hostname to see more info about the system (e.g. compilers)      (*) as reported by 'uname -p', except on Windows and Mac OS X

Package 426/2361HostnameOS / ArchINSTALLBUILDCHECKBUILD BIN
comapr 1.14.0  (landing page)
Ruqian Lyu
Snapshot Date: 2025-11-17 13:45 -0500 (Mon, 17 Nov 2025)
git_url: https://git.bioconductor.org/packages/comapr
git_branch: RELEASE_3_22
git_last_commit: d12ea38
git_last_commit_date: 2025-10-29 11:14:26 -0500 (Wed, 29 Oct 2025)
nebbiolo2Linux (Ubuntu 24.04.3 LTS) / x86_64  OK    OK    ERROR  
merida1macOS 12.7.6 Monterey / x86_64  OK    OK    ERROR    OK  
kjohnson1macOS 13.7.5 Ventura / arm64  OK    OK    ERROR    OK  
taishanLinux (openEuler 24.03 LTS) / aarch64  OK    OK    ERROR  


CHECK results for comapr on merida1

To the developers/maintainers of the comapr package:
- Allow up to 24 hours (and sometimes 48 hours) for your latest push to git@git.bioconductor.org:packages/comapr.git to reflect on this report. See Troubleshooting Build Report for more information.
- Use the following Renviron settings to reproduce errors and warnings.
- If 'R CMD check' started to fail recently on the Linux builder(s) over a missing dependency, add the missing dependency to 'Suggests:' in your DESCRIPTION file. See Renviron.bioc for more information.

raw results


Summary

Package: comapr
Version: 1.14.0
Command: /Library/Frameworks/R.framework/Resources/bin/R CMD check --install=check:comapr.install-out.txt --library=/Library/Frameworks/R.framework/Resources/library --no-vignettes --timings comapr_1.14.0.tar.gz
StartedAt: 2025-11-18 05:34:52 -0500 (Tue, 18 Nov 2025)
EndedAt: 2025-11-18 05:48:09 -0500 (Tue, 18 Nov 2025)
EllapsedTime: 797.2 seconds
RetCode: 1
Status:   ERROR  
CheckDir: comapr.Rcheck
Warnings: NA

Command output

##############################################################################
##############################################################################
###
### Running command:
###
###   /Library/Frameworks/R.framework/Resources/bin/R CMD check --install=check:comapr.install-out.txt --library=/Library/Frameworks/R.framework/Resources/library --no-vignettes --timings comapr_1.14.0.tar.gz
###
##############################################################################
##############################################################################


* using log directory ‘/Users/biocbuild/bbs-3.22-bioc/meat/comapr.Rcheck’
* using R version 4.5.2 Patched (2025-11-05 r88990)
* using platform: x86_64-apple-darwin20
* R was compiled by
    Apple clang version 14.0.0 (clang-1400.0.29.202)
    GNU Fortran (GCC) 14.2.0
* running under: macOS Monterey 12.7.6
* using session charset: UTF-8
* using option ‘--no-vignettes’
* checking for file ‘comapr/DESCRIPTION’ ... OK
* this is package ‘comapr’ version ‘1.14.0’
* package encoding: UTF-8
* checking package namespace information ... OK
* checking package dependencies ... OK
* checking if this is a source package ... OK
* checking if there is a namespace ... OK
* checking for hidden files and directories ... OK
* checking for portable file names ... OK
* checking for sufficient/correct file permissions ... OK
* checking whether package ‘comapr’ can be installed ... OK
* checking installed package size ... OK
* checking package directory ... OK
* checking ‘build’ directory ... OK
* checking DESCRIPTION meta-information ... OK
* checking top-level files ... OK
* checking for left-over files ... OK
* checking index information ... OK
* checking package subdirectories ... OK
* checking code files for non-ASCII characters ... OK
* checking R files for syntax errors ... OK
* checking whether the package can be loaded ... OK
* checking whether the package can be loaded with stated dependencies ... OK
* checking whether the package can be unloaded cleanly ... OK
* checking whether the namespace can be loaded with stated dependencies ... OK
* checking whether the namespace can be unloaded cleanly ... OK
* checking dependencies in R code ... OK
* checking S3 generic/method consistency ... OK
* checking replacement functions ... OK
* checking foreign function calls ... OK
* checking R code for possible problems ... OK
* checking Rd files ... NOTE
checkRd: (-1) perCellChrQC.Rd:22: Lost braces; missing escapes or markup?
    22 | \item{path, }{the path to the files, with name patterns *{chrom}_vi.mtx,
       |                                                          ^
checkRd: (-1) perCellChrQC.Rd:23: Lost braces; missing escapes or markup?
    23 | *{chrom}_viSegInfo.txt, end with slash}
       |  ^
checkRd: (-1) perSegChrQC.Rd:21: Lost braces; missing escapes or markup?
    21 | \item{path, }{the path to the files, with name patterns *{chrom}_vi.mtx,
       |                                                          ^
checkRd: (-1) perSegChrQC.Rd:22: Lost braces; missing escapes or markup?
    22 | *{chrom}_viSegInfo.txt, end with slash}
       |  ^
checkRd: (-1) readHapState.Rd:28: Lost braces; missing escapes or markup?
    28 | \item{path, }{the path to the files, with name patterns *{chrom}_vi.mtx,
       |                                                          ^
checkRd: (-1) readHapState.Rd:29: Lost braces; missing escapes or markup?
    29 | *{chrom}_viSegInfo.txt, end with slash}
       |  ^
* checking Rd metadata ... OK
* checking Rd cross-references ... OK
* checking for missing documentation entries ... OK
* checking for code/documentation mismatches ... OK
* checking Rd \usage sections ... OK
* checking Rd contents ... OK
* checking for unstated dependencies in examples ... OK
* checking contents of ‘data’ directory ... OK
* checking data for non-ASCII characters ... OK
* checking data for ASCII and uncompressed saves ... OK
* checking files in ‘vignettes’ ... OK
* checking examples ... OK
Examples with CPU (user + system) or elapsed time > 5s
               user system elapsed
bootstrapDist 4.954  0.233   5.266
* checking for unstated dependencies in ‘tests’ ... OK
* checking tests ...
  Running ‘testthat.R’
 ERROR
Running the tests in ‘tests/testthat.R’ failed.
Last 13 lines of output:
  Differences:
  `actual`:   FALSE
  `expected`: TRUE 
  
  ── Failure ('test-plotmissingGT.R:15:3'): Plot missing GT works ────────────────
  Expected `class(p4)[1] == "gg"` to be TRUE.
  Differences:
  `actual`:   FALSE
  `expected`: TRUE 
  
  
  [ FAIL 2 | WARN 3 | SKIP 0 | PASS 89 ]
  Error:
  ! Test failures.
  Execution halted
* checking for unstated dependencies in vignettes ... OK
* checking package vignettes ... OK
* checking running R code from vignettes ... SKIPPED
* checking re-building of vignette outputs ... SKIPPED
* checking PDF version of manual ... OK
* DONE

Status: 1 ERROR, 1 NOTE
See
  ‘/Users/biocbuild/bbs-3.22-bioc/meat/comapr.Rcheck/00check.log’
for details.


Installation output

comapr.Rcheck/00install.out

##############################################################################
##############################################################################
###
### Running command:
###
###   /Library/Frameworks/R.framework/Resources/bin/R CMD INSTALL comapr
###
##############################################################################
##############################################################################


* installing to library ‘/Library/Frameworks/R.framework/Versions/4.5-x86_64/Resources/library’
* installing *source* package ‘comapr’ ...
** this is package ‘comapr’ version ‘1.14.0’
** using staged installation
** R
** data
** inst
** byte-compile and prepare package for lazy loading
** help
*** installing help indices
** building package indices
** installing vignettes
** testing if installed package can be loaded from temporary location
** testing if installed package can be loaded from final location
** testing if installed package keeps a record of temporary installation path
* DONE (comapr)

Tests output

comapr.Rcheck/tests/testthat.Rout.fail


R version 4.5.2 Patched (2025-11-05 r88990) -- "[Not] Part in a Rumble"
Copyright (C) 2025 The R Foundation for Statistical Computing
Platform: x86_64-apple-darwin20

R is free software and comes with ABSOLUTELY NO WARRANTY.
You are welcome to redistribute it under certain conditions.
Type 'license()' or 'licence()' for distribution details.

R is a collaborative project with many contributors.
Type 'contributors()' for more information and
'citation()' on how to cite R or R packages in publications.

Type 'demo()' for some demos, 'help()' for on-line help, or
'help.start()' for an HTML browser interface to help.
Type 'q()' to quit R.

> library(testthat)
> library(comapr)
> 
> test_check("comapr")
Saving _problems/test-plotmissingGT-12.R
Saving _problems/test-plotmissingGT-15.R
[ FAIL 2 | WARN 3 | SKIP 0 | PASS 89 ]

══ Failed tests ════════════════════════════════════════════════════════════════
── Failure ('test-plotmissingGT.R:12:3'): Plot missing GT works ────────────────
Expected `class(p1)[1] == "gg"` to be TRUE.
Differences:
`actual`:   FALSE
`expected`: TRUE 

── Failure ('test-plotmissingGT.R:15:3'): Plot missing GT works ────────────────
Expected `class(p4)[1] == "gg"` to be TRUE.
Differences:
`actual`:   FALSE
`expected`: TRUE 


[ FAIL 2 | WARN 3 | SKIP 0 | PASS 89 ]
Error:
! Test failures.
Execution halted

Example timings

comapr.Rcheck/comapr-Ex.timings

nameusersystemelapsed
bootstrapDist4.9540.2335.266
calGeneticDist0.2650.0800.355
combineHapState2.5710.3313.013
correctGT0.0160.0070.022
countBinState0.7060.1081.203
countCOs1.3170.1781.504
countGT0.4650.0690.538
filterGT0.2570.0260.289
findDupSamples0.0140.0040.018
getAFTracks2.2580.0242.395
getCellAFTrack2.2000.0192.371
getCellCORange0.9250.0081.018
getCellDPTrack0.9960.0061.062
getDistortedMarkers0.8120.0110.857
getMeanDPTrack0.1140.0020.119
getSNPDensityTrack0.1010.0020.110
perCellChrQC0.2140.0020.224
perSegChrQC0.1040.0040.110
permuteDist0.0540.0020.060
plotCount1.8250.0141.910
plotGTFreq1.5010.0131.541
plotGeneticDist1.1580.0091.176
plotWholeGenome1.1690.0101.190
readColMM0.0140.0020.015
readHapState0.2310.0030.235