Back to Multiple platform build/check report for BioC 3.22:   simplified   long
AB[C]DEFGHIJKLMNOPQRSTUVWXYZ

This page was generated on 2025-11-24 12:06 -0500 (Mon, 24 Nov 2025).

HostnameOSArch (*)R versionInstalled pkgs
nebbiolo2Linux (Ubuntu 24.04.3 LTS)x86_644.5.2 (2025-10-31) -- "[Not] Part in a Rumble" 4873
merida1macOS 12.7.6 Montereyx86_644.5.2 Patched (2025-11-05 r88990) -- "[Not] Part in a Rumble" 4654
kjohnson1macOS 13.7.5 Venturaarm644.5.2 Patched (2025-11-04 r88984) -- "[Not] Part in a Rumble" 4600
taishanLinux (openEuler 24.03 LTS)aarch644.5.0 (2025-04-11) -- "How About a Twenty-Six" 4668
Click on any hostname to see more info about the system (e.g. compilers)      (*) as reported by 'uname -p', except on Windows and Mac OS X

Package 425/2361HostnameOS / ArchINSTALLBUILDCHECKBUILD BIN
cola 2.16.0  (landing page)
Zuguang Gu
Snapshot Date: 2025-11-20 15:01 -0500 (Thu, 20 Nov 2025)
git_url: https://git.bioconductor.org/packages/cola
git_branch: RELEASE_3_22
git_last_commit: 796a58f
git_last_commit_date: 2025-10-29 10:49:39 -0500 (Wed, 29 Oct 2025)
nebbiolo2Linux (Ubuntu 24.04.3 LTS) / x86_64  OK    OK    OK  UNNEEDED, same version is already published
merida1macOS 12.7.6 Monterey / x86_64  OK    OK    OK    OK  UNNEEDED, same version is already published
kjohnson1macOS 13.7.5 Ventura / arm64  OK    OK    OK    OK  UNNEEDED, same version is already published
taishanLinux (openEuler 24.03 LTS) / aarch64  OK    OK    OK  


CHECK results for cola on kjohnson1

To the developers/maintainers of the cola package:
- Allow up to 24 hours (and sometimes 48 hours) for your latest push to git@git.bioconductor.org:packages/cola.git to reflect on this report. See Troubleshooting Build Report for more information.
- Use the following Renviron settings to reproduce errors and warnings.
- If 'R CMD check' started to fail recently on the Linux builder(s) over a missing dependency, add the missing dependency to 'Suggests:' in your DESCRIPTION file. See Renviron.bioc for more information.

raw results


Summary

Package: cola
Version: 2.16.0
Command: /Library/Frameworks/R.framework/Resources/bin/R CMD check --install=check:cola.install-out.txt --library=/Library/Frameworks/R.framework/Resources/library --no-vignettes --timings cola_2.16.0.tar.gz
StartedAt: 2025-11-21 20:41:56 -0500 (Fri, 21 Nov 2025)
EndedAt: 2025-11-21 20:46:57 -0500 (Fri, 21 Nov 2025)
EllapsedTime: 301.7 seconds
RetCode: 0
Status:   OK  
CheckDir: cola.Rcheck
Warnings: 0

Command output

##############################################################################
##############################################################################
###
### Running command:
###
###   /Library/Frameworks/R.framework/Resources/bin/R CMD check --install=check:cola.install-out.txt --library=/Library/Frameworks/R.framework/Resources/library --no-vignettes --timings cola_2.16.0.tar.gz
###
##############################################################################
##############################################################################


* using log directory ‘/Users/biocbuild/bbs-3.22-bioc/meat/cola.Rcheck’
* using R version 4.5.2 Patched (2025-11-04 r88984)
* using platform: aarch64-apple-darwin20
* R was compiled by
    Apple clang version 16.0.0 (clang-1600.0.26.6)
    GNU Fortran (GCC) 14.2.0
* running under: macOS Ventura 13.7.8
* using session charset: UTF-8
* using option ‘--no-vignettes’
* checking for file ‘cola/DESCRIPTION’ ... OK
* checking extension type ... Package
* this is package ‘cola’ version ‘2.16.0’
* checking package namespace information ... OK
* checking package dependencies ... INFO
Imports includes 27 non-default packages.
Importing from so many packages makes the package vulnerable to any of
them becoming unavailable.  Move as many as possible to Suggests and
use conditionally.
* checking if this is a source package ... OK
* checking if there is a namespace ... OK
* checking for hidden files and directories ... OK
* checking for portable file names ... OK
* checking for sufficient/correct file permissions ... OK
* checking whether package ‘cola’ can be installed ... OK
* used C++ compiler: ‘Apple clang version 15.0.0 (clang-1500.0.40.1)’
* used SDK: ‘MacOSX11.3.1.sdk’
* checking installed package size ... INFO
  installed size is  5.8Mb
  sub-directories of 1Mb or more:
    data      3.2Mb
    extdata   1.0Mb
* checking package directory ... OK
* checking ‘build’ directory ... OK
* checking DESCRIPTION meta-information ... NOTE
License stub is invalid DCF.
* checking top-level files ... OK
* checking for left-over files ... OK
* checking index information ... OK
* checking package subdirectories ... OK
* checking code files for non-ASCII characters ... OK
* checking R files for syntax errors ... OK
* checking whether the package can be loaded ... OK
* checking whether the package can be loaded with stated dependencies ... OK
* checking whether the package can be unloaded cleanly ... OK
* checking whether the namespace can be loaded with stated dependencies ... OK
* checking whether the namespace can be unloaded cleanly ... OK
* checking whether startup messages can be suppressed ... OK
* checking dependencies in R code ... OK
* checking S3 generic/method consistency ... OK
* checking replacement functions ... OK
* checking foreign function calls ... OK
* checking R code for possible problems ... OK
* checking Rd files ... OK
* checking Rd metadata ... OK
* checking Rd cross-references ... NOTE
Non-topic package-anchored link(s) in Rd file 'collect_classes-ConsensusPartitionList-method.Rd':
  ‘[ComplexHeatmap:draw-HeatmapList-method]{draw,HeatmapList-method}’

See section 'Cross-references' in the 'Writing R Extensions' manual.

Found the following Rd file(s) with Rd \link{} targets missing package
anchors:
  predict_classes-ConsensusPartition-method.Rd: colorRamp2
  predict_classes-matrix-method.Rd: colorRamp2
Please provide package anchors for all Rd \link{} targets not in the
package itself and the base packages.
* checking for missing documentation entries ... OK
* checking for code/documentation mismatches ... OK
* checking Rd \usage sections ... OK
* checking Rd contents ... OK
* checking for unstated dependencies in examples ... OK
* checking contents of ‘data’ directory ... OK
* checking data for non-ASCII characters ... OK
* checking data for ASCII and uncompressed saves ... OK
* checking line endings in C/C++/Fortran sources/headers ... OK
* checking compiled code ... NOTE
Note: information on .o files is not available
* checking files in ‘vignettes’ ... OK
* checking examples ... OK
Examples with CPU (user + system) or elapsed time > 5s
                                                  user system elapsed
consensus_partition                             18.257  0.266  25.538
get_signatures-ConsensusPartition-method         5.413  0.179   7.793
compare_signatures-HierarchicalPartition-method  4.962  0.171   7.322
top_rows_heatmap-matrix-method                   4.282  0.237   6.333
* checking for unstated dependencies in ‘tests’ ... OK
* checking tests ...
  Running ‘test-all.R’
 OK
* checking for unstated dependencies in vignettes ... OK
* checking package vignettes ... OK
* checking running R code from vignettes ... SKIPPED
* checking re-building of vignette outputs ... SKIPPED
* checking PDF version of manual ... OK
* DONE

Status: 3 NOTEs
See
  ‘/Users/biocbuild/bbs-3.22-bioc/meat/cola.Rcheck/00check.log’
for details.


Installation output

cola.Rcheck/00install.out

##############################################################################
##############################################################################
###
### Running command:
###
###   /Library/Frameworks/R.framework/Resources/bin/R CMD INSTALL cola
###
##############################################################################
##############################################################################


* installing to library ‘/Library/Frameworks/R.framework/Versions/4.5-arm64/Resources/library’
* installing *source* package ‘cola’ ...
** this is package ‘cola’ version ‘2.16.0’
** using staged installation
** libs
using C++ compiler: ‘Apple clang version 15.0.0 (clang-1500.0.40.1)’
using SDK: ‘MacOSX11.3.1.sdk’
clang++ -arch arm64 -std=gnu++17 -I"/Library/Frameworks/R.framework/Resources/include" -DNDEBUG  -I'/Library/Frameworks/R.framework/Versions/4.5-arm64/Resources/library/Rcpp/include' -I/opt/R/arm64/include    -fPIC  -falign-functions=64 -Wall -g -O2   -c RcppExports.cpp -o RcppExports.o
clang++ -arch arm64 -std=gnu++17 -I"/Library/Frameworks/R.framework/Resources/include" -DNDEBUG  -I'/Library/Frameworks/R.framework/Versions/4.5-arm64/Resources/library/Rcpp/include' -I/opt/R/arm64/include    -fPIC  -falign-functions=64 -Wall -g -O2   -c atc.cpp -o atc.o
clang++ -arch arm64 -std=gnu++17 -I"/Library/Frameworks/R.framework/Resources/include" -DNDEBUG  -I'/Library/Frameworks/R.framework/Versions/4.5-arm64/Resources/library/Rcpp/include' -I/opt/R/arm64/include    -fPIC  -falign-functions=64 -Wall -g -O2   -c cal_consensus_mat.cpp -o cal_consensus_mat.o
clang++ -arch arm64 -std=gnu++17 -I"/Library/Frameworks/R.framework/Resources/include" -DNDEBUG  -I'/Library/Frameworks/R.framework/Versions/4.5-arm64/Resources/library/Rcpp/include' -I/opt/R/arm64/include    -fPIC  -falign-functions=64 -Wall -g -O2   -c pdist.cpp -o pdist.o
clang++ -arch arm64 -std=gnu++17 -dynamiclib -Wl,-headerpad_max_install_names -undefined dynamic_lookup -L/Library/Frameworks/R.framework/Resources/lib -L/opt/R/arm64/lib -o cola.so RcppExports.o atc.o cal_consensus_mat.o pdist.o -F/Library/Frameworks/R.framework/.. -framework R
installing to /Library/Frameworks/R.framework/Versions/4.5-arm64/Resources/library/00LOCK-cola/00new/cola/libs
** R
** data
** inst
** byte-compile and prepare package for lazy loading
** help
*** installing help indices
** building package indices
** installing vignettes
** testing if installed package can be loaded from temporary location
** checking absolute paths in shared objects and dynamic libraries
** testing if installed package can be loaded from final location
** testing if installed package keeps a record of temporary installation path
* DONE (cola)

Tests output

cola.Rcheck/tests/test-all.Rout


R version 4.5.2 Patched (2025-11-04 r88984) -- "[Not] Part in a Rumble"
Copyright (C) 2025 The R Foundation for Statistical Computing
Platform: aarch64-apple-darwin20

R is free software and comes with ABSOLUTELY NO WARRANTY.
You are welcome to redistribute it under certain conditions.
Type 'license()' or 'licence()' for distribution details.

R is a collaborative project with many contributors.
Type 'contributors()' for more information and
'citation()' on how to cite R or R packages in publications.

Type 'demo()' for some demos, 'help()' for on-line help, or
'help.start()' for an HTML browser interface to help.
Type 'q()' to quit R.

> library(testthat)
> suppressWarnings(suppressPackageStartupMessages(library(cola)))
> 
> test_check("cola")
[ FAIL 0 | WARN 0 | SKIP 0 | PASS 18 ]
> 
> 
> proc.time()
   user  system elapsed 
  5.177   0.322   7.515 

Example timings

cola.Rcheck/cola-Ex.timings

nameusersystemelapsed
ATC0.0440.0060.091
ATC_approx000
ConsensusPartition-class0.0000.0000.001
ConsensusPartitionList-class0.0000.0010.001
DownSamplingConsensusPartition-class0.0000.0000.001
Extract.ConsensusPartitionList0.6410.0241.027
Extract.HierarchicalPartition0.2140.0100.349
ExtractExtract.ConsensusPartitionList0.6270.0130.892
ExtractExtract.HierarchicalPartition000
FCC0.2120.0130.345
HierarchicalPartition-class000
PAC0.2090.0130.308
aPAC0.2140.0140.323
adjust_matrix0.0080.0030.011
adjust_outlier0.0000.0010.001
all_leaves-HierarchicalPartition-method0.1840.0100.263
all_nodes-HierarchicalPartition-method0.1820.0100.260
all_partition_methods0.0010.0000.002
all_top_value_methods0.0010.0000.000
cola0.0510.0010.056
cola_opt0.0280.0020.033
cola_report-ConsensusPartition-method000
cola_report-ConsensusPartitionList-method0.0010.0000.001
cola_report-HierarchicalPartition-method0.0000.0000.001
cola_report-dispatch0.0010.0010.001
cola_rl0.0990.0110.161
collect_classes-ConsensusPartition-method2.3900.0733.451
collect_classes-ConsensusPartitionList-method3.3840.0534.778
collect_classes-HierarchicalPartition-method2.4380.0653.243
collect_classes-dispatch0.0000.0010.000
collect_plots-ConsensusPartition-method000
collect_plots-ConsensusPartitionList-method000
collect_plots-dispatch000
collect_stats-ConsensusPartition-method000
collect_stats-ConsensusPartitionList-method0.5290.0150.676
collect_stats-dispatch0.0000.0000.001
colnames-ConsensusPartition-method000
colnames-ConsensusPartitionList-method0.0000.0010.000
colnames-DownSamplingConsensusPartition-method0.0000.0000.001
colnames-HierarchicalPartition-method0.0000.0000.001
colnames-dispatch0.0000.0000.001
compare_partitions-ConsensusPartition-method0.0010.0000.001
compare_signatures-ConsensusPartition-method000
compare_signatures-HierarchicalPartition-method4.9620.1717.322
compare_signatures-dispatch000
concordance0.2050.0100.266
config_ATC0.0010.0000.001
consensus_heatmap-ConsensusPartition-method0.6880.0161.014
consensus_partition18.257 0.26625.538
consensus_partition_by_down_sampling0.0000.0010.000
correspond_between_rankings0.0770.0040.125
correspond_between_two_rankings0.0360.0020.062
david_enrichment0.0010.0000.000
dim.ConsensusPartition0.0000.0010.000
dim.ConsensusPartitionList000
dim.DownSamplingConsensusPartition000
dim.HierarchicalPartition0.0000.0000.001
dimension_reduction-ConsensusPartition-method0.8160.0461.257
dimension_reduction-DownSamplingConsensusPartition-method2.1210.0653.104
dimension_reduction-HierarchicalPartition-method0.6610.0360.927
dimension_reduction-dispatch000
dimension_reduction-matrix-method000
find_best_km000
functional_enrichment-ANY-method000
functional_enrichment-ConsensusPartition-method000
functional_enrichment-ConsensusPartitionList-method0.0000.0000.001
functional_enrichment-HierarchicalPartition-method000
functional_enrichment-dispatch000
get_anno-ConsensusPartition-method000
get_anno-ConsensusPartitionList-method000
get_anno-DownSamplingConsensusPartition-method0.1280.0060.164
get_anno-HierarchicalPartition-method000
get_anno-dispatch0.0010.0000.000
get_anno_col-ConsensusPartition-method0.0000.0000.001
get_anno_col-ConsensusPartitionList-method000
get_anno_col-HierarchicalPartition-method000
get_anno_col-dispatch000
get_children_nodes-HierarchicalPartition-method000
get_classes-ConsensusPartition-method0.2010.0180.262
get_classes-ConsensusPartitionList-method0.2170.0140.341
get_classes-DownSamplingConsensusPartition-method0.1280.0090.165
get_classes-HierarchicalPartition-method0.1980.0080.280
get_classes-dispatch000
get_consensus-ConsensusPartition-method0.2120.0390.341
get_matrix-ConsensusPartition-method0.4210.6301.458
get_matrix-ConsensusPartitionList-method0.4310.6411.481
get_matrix-DownSamplingConsensusPartition-method000
get_matrix-HierarchicalPartition-method0.0000.0010.000
get_matrix-dispatch000
get_membership-ConsensusPartition-method0.2030.0330.310
get_membership-ConsensusPartitionList-method0.1990.0110.259
get_membership-dispatch0.0000.0010.000
get_param-ConsensusPartition-method0.2300.0220.430
get_signatures-ConsensusPartition-method5.4130.1797.793
get_signatures-DownSamplingConsensusPartition-method000
get_signatures-HierarchicalPartition-method0.0010.0000.000
get_signatures-dispatch0.0000.0010.001
get_stats-ConsensusPartition-method0.2700.0110.356
get_stats-ConsensusPartitionList-method0.2140.0120.331
get_stats-dispatch000
golub_cola0.2360.0130.337
golub_cola_ds0.1610.0090.244
golub_cola_rh0.2490.0100.341
hierarchical_partition0.0000.0000.001
is_best_k-ConsensusPartition-method0.2130.0090.286
is_best_k-ConsensusPartitionList-method0.2170.0110.369
is_best_k-dispatch0.0010.0000.000
is_leaf_node-HierarchicalPartition-method0.2410.0160.374
is_stable_k-ConsensusPartition-method0.2100.0110.408
is_stable_k-ConsensusPartitionList-method0.2170.0100.346
is_stable_k-dispatch000
knee_finder20.0320.0040.051
knitr_add_tab_item000
knitr_insert_tabs0.0010.0000.000
map_to_entrez_id000
max_depth-HierarchicalPartition-method0.1910.0080.312
membership_heatmap-ConsensusPartition-method0.6270.0200.993
merge_node-HierarchicalPartition-method000
merge_node_param000
ncol-ConsensusPartition-method000
ncol-ConsensusPartitionList-method000
ncol-DownSamplingConsensusPartition-method000
ncol-HierarchicalPartition-method0.0000.0010.000
ncol-dispatch000
node_info-HierarchicalPartition-method0.0000.0010.000
node_level-HierarchicalPartition-method0.0000.0000.001
nrow-ConsensusPartition-method0.0000.0010.001
nrow-ConsensusPartitionList-method0.0000.0000.001
nrow-HierarchicalPartition-method0.0000.0010.001
nrow-dispatch0.0000.0010.000
plot_ecdf-ConsensusPartition-method0.2210.0090.313
predict_classes-ConsensusPartition-method000
predict_classes-dispatch000
predict_classes-matrix-method000
print.hc_table_suggest_best_k0.0000.0000.001
recalc_stats000
register_NMF000
register_SOM0.0000.0010.000
register_partition_methods0.8680.0151.276
register_top_value_methods0.0010.0010.002
relabel_class0.0080.0020.011
remove_partition_methods000
remove_top_value_methods000
rownames-ConsensusPartition-method000
rownames-ConsensusPartitionList-method0.0010.0010.000
rownames-HierarchicalPartition-method000
rownames-dispatch0.0010.0010.000
run_all_consensus_partition_methods000
select_partition_number-ConsensusPartition-method0.2130.0150.309
show-ConsensusPartition-method000
show-ConsensusPartitionList-method0.0000.0000.001
show-DownSamplingConsensusPartition-method0.1480.0090.231
show-HierarchicalPartition-method0.2290.0120.344
show-dispatch000
split_node-HierarchicalPartition-method000
suggest_best_k-ConsensusPartition-method0.1960.0150.273
suggest_best_k-ConsensusPartitionList-method0.2110.0170.360
suggest_best_k-HierarchicalPartition-method0.1940.0120.247
suggest_best_k-dispatch0.0000.0010.001
test_between_factors0.0110.0010.015
test_to_known_factors-ConsensusPartition-method0.2240.0120.298
test_to_known_factors-ConsensusPartitionList-method0.3130.0130.400
test_to_known_factors-DownSamplingConsensusPartition-method0.1540.0070.201
test_to_known_factors-HierarchicalPartition-method0.2160.0120.354
test_to_known_factors-dispatch0.0010.0010.001
top_elements_overlap0.2510.0150.397
top_rows_heatmap-ConsensusPartition-method0.0000.0000.001
top_rows_heatmap-ConsensusPartitionList-method0.0000.0000.001
top_rows_heatmap-HierarchicalPartition-method0.0000.0000.001
top_rows_heatmap-dispatch0.0000.0010.001
top_rows_heatmap-matrix-method4.2820.2376.333
top_rows_overlap-ConsensusPartitionList-method0.9820.0601.401
top_rows_overlap-HierarchicalPartition-method0.7230.0171.070
top_rows_overlap-dispatch000
top_rows_overlap-matrix-method0.1590.0040.240