| Back to Multiple platform build/check report for BioC 3.22: simplified long |
|
This page was generated on 2025-11-06 12:00 -0500 (Thu, 06 Nov 2025).
| Hostname | OS | Arch (*) | R version | Installed pkgs |
|---|---|---|---|---|
| nebbiolo2 | Linux (Ubuntu 24.04.3 LTS) | x86_64 | 4.5.1 Patched (2025-08-23 r88802) -- "Great Square Root" | 4902 |
| kjohnson3 | macOS 13.7.7 Ventura | arm64 | 4.5.1 Patched (2025-09-10 r88807) -- "Great Square Root" | 4638 |
| Click on any hostname to see more info about the system (e.g. compilers) (*) as reported by 'uname -p', except on Windows and Mac OS X | ||||
| Package 422/2361 | Hostname | OS / Arch | INSTALL | BUILD | CHECK | BUILD BIN | ||||||||
| cogeqc 1.14.0 (landing page) Fabrício Almeida-Silva
| nebbiolo2 | Linux (Ubuntu 24.04.3 LTS) / x86_64 | OK | OK | OK | |||||||||
| kjohnson3 | macOS 13.7.7 Ventura / arm64 | OK | OK | OK | OK | |||||||||
|
To the developers/maintainers of the cogeqc package: - Allow up to 24 hours (and sometimes 48 hours) for your latest push to git@git.bioconductor.org:packages/cogeqc.git to reflect on this report. See Troubleshooting Build Report for more information. - Use the following Renviron settings to reproduce errors and warnings. - If 'R CMD check' started to fail recently on the Linux builder(s) over a missing dependency, add the missing dependency to 'Suggests:' in your DESCRIPTION file. See Renviron.bioc for more information. |
| Package: cogeqc |
| Version: 1.14.0 |
| Command: /home/biocbuild/bbs-3.22-bioc/R/bin/R CMD check --install=check:cogeqc.install-out.txt --library=/home/biocbuild/bbs-3.22-bioc/R/site-library --timings cogeqc_1.14.0.tar.gz |
| StartedAt: 2025-11-05 22:24:47 -0500 (Wed, 05 Nov 2025) |
| EndedAt: 2025-11-05 22:28:54 -0500 (Wed, 05 Nov 2025) |
| EllapsedTime: 247.2 seconds |
| RetCode: 0 |
| Status: OK |
| CheckDir: cogeqc.Rcheck |
| Warnings: 0 |
##############################################################################
##############################################################################
###
### Running command:
###
### /home/biocbuild/bbs-3.22-bioc/R/bin/R CMD check --install=check:cogeqc.install-out.txt --library=/home/biocbuild/bbs-3.22-bioc/R/site-library --timings cogeqc_1.14.0.tar.gz
###
##############################################################################
##############################################################################
* using log directory ‘/home/biocbuild/bbs-3.22-bioc/meat/cogeqc.Rcheck’
* using R version 4.5.1 Patched (2025-08-23 r88802)
* using platform: x86_64-pc-linux-gnu
* R was compiled by
gcc (Ubuntu 13.3.0-6ubuntu2~24.04) 13.3.0
GNU Fortran (Ubuntu 13.3.0-6ubuntu2~24.04) 13.3.0
* running under: Ubuntu 24.04.3 LTS
* using session charset: UTF-8
* checking for file ‘cogeqc/DESCRIPTION’ ... OK
* this is package ‘cogeqc’ version ‘1.14.0’
* package encoding: UTF-8
* checking package namespace information ... OK
* checking package dependencies ... OK
* checking if this is a source package ... OK
* checking if there is a namespace ... OK
* checking for hidden files and directories ... OK
* checking for portable file names ... OK
* checking for sufficient/correct file permissions ... OK
* checking whether package ‘cogeqc’ can be installed ... OK
* checking installed package size ... OK
* checking package directory ... OK
* checking ‘build’ directory ... OK
* checking DESCRIPTION meta-information ... OK
* checking top-level files ... OK
* checking for left-over files ... OK
* checking index information ... OK
* checking package subdirectories ... OK
* checking code files for non-ASCII characters ... OK
* checking R files for syntax errors ... OK
* checking whether the package can be loaded ... OK
* checking whether the package can be loaded with stated dependencies ... OK
* checking whether the package can be unloaded cleanly ... OK
* checking whether the namespace can be loaded with stated dependencies ... OK
* checking whether the namespace can be unloaded cleanly ... OK
* checking loading without being on the library search path ... OK
* checking dependencies in R code ... OK
* checking S3 generic/method consistency ... OK
* checking replacement functions ... OK
* checking foreign function calls ... OK
* checking R code for possible problems ... OK
* checking Rd files ... OK
* checking Rd metadata ... OK
* checking Rd cross-references ... OK
* checking for missing documentation entries ... OK
* checking for code/documentation mismatches ... OK
* checking Rd \usage sections ... OK
* checking Rd contents ... OK
* checking for unstated dependencies in examples ... OK
* checking contents of ‘data’ directory ... OK
* checking data for non-ASCII characters ... OK
* checking data for ASCII and uncompressed saves ... OK
* checking files in ‘vignettes’ ... OK
* checking examples ... OK
Examples with CPU (user + system) or elapsed time > 5s
user system elapsed
plot_genome_stats 6.497 0.242 7.082
* checking for unstated dependencies in ‘tests’ ... OK
* checking tests ...
Running ‘testthat.R’
OK
* checking for unstated dependencies in vignettes ... OK
* checking package vignettes ... OK
* checking re-building of vignette outputs ... OK
* checking PDF version of manual ... OK
* DONE
Status: OK
cogeqc.Rcheck/00install.out
############################################################################## ############################################################################## ### ### Running command: ### ### /home/biocbuild/bbs-3.22-bioc/R/bin/R CMD INSTALL cogeqc ### ############################################################################## ############################################################################## * installing to library ‘/home/biocbuild/bbs-3.22-bioc/R/site-library’ * installing *source* package ‘cogeqc’ ... ** this is package ‘cogeqc’ version ‘1.14.0’ ** using staged installation ** R ** data ** inst ** byte-compile and prepare package for lazy loading ** help *** installing help indices *** copying figures ** building package indices ** installing vignettes ** testing if installed package can be loaded from temporary location ** testing if installed package can be loaded from final location ** testing if installed package keeps a record of temporary installation path * DONE (cogeqc)
cogeqc.Rcheck/tests/testthat.Rout
R version 4.5.1 Patched (2025-08-23 r88802) -- "Great Square Root"
Copyright (C) 2025 The R Foundation for Statistical Computing
Platform: x86_64-pc-linux-gnu
R is free software and comes with ABSOLUTELY NO WARRANTY.
You are welcome to redistribute it under certain conditions.
Type 'license()' or 'licence()' for distribution details.
R is a collaborative project with many contributors.
Type 'contributors()' for more information and
'citation()' on how to cite R or R packages in publications.
Type 'demo()' for some demos, 'help()' for on-line help, or
'help.start()' for an HTML browser interface to help.
Type 'q()' to quit R.
> library(testthat)
> library(cogeqc)
>
> test_check("cogeqc")
More than 1 BUSCO summary file found. Using only the first.
! # Invaild edge matrix for <phylo>. A <tbl_df> is returned.
! # Invaild edge matrix for <phylo>. A <tbl_df> is returned.
[ FAIL 0 | WARN 0 | SKIP 0 | PASS 57 ]
>
> proc.time()
user system elapsed
20.419 1.539 25.989
cogeqc.Rcheck/cogeqc-Ex.timings
| name | user | system | elapsed | |
| assess_orthogroups | 0.698 | 0.026 | 0.726 | |
| assess_synnet | 1.888 | 0.080 | 1.969 | |
| assess_synnet_list | 2.614 | 0.101 | 2.717 | |
| batch_summary | 0.000 | 0.001 | 0.001 | |
| busco_is_installed | 0.001 | 0.001 | 0.001 | |
| calculate_H | 1.429 | 0.029 | 1.459 | |
| compare_genome_stats | 0.272 | 0.009 | 0.884 | |
| compare_orthogroups | 0.181 | 0.005 | 0.186 | |
| fit_sft | 1.183 | 0.031 | 1.216 | |
| get_genome_stats | 1.038 | 0.020 | 2.451 | |
| interpro_ath | 0.131 | 0.002 | 0.134 | |
| interpro_bol | 0.213 | 0.004 | 0.217 | |
| list_busco_datasets | 0.002 | 0.000 | 0.002 | |
| og | 0.158 | 0.004 | 0.163 | |
| plot_busco | 0.768 | 0.046 | 0.814 | |
| plot_duplications | 0.213 | 0.007 | 0.219 | |
| plot_genes_in_ogs | 0.260 | 0.017 | 0.278 | |
| plot_genome_stats | 6.497 | 0.242 | 7.082 | |
| plot_og_overlap | 0.430 | 0.004 | 0.434 | |
| plot_og_sizes | 1.573 | 0.088 | 1.660 | |
| plot_orthofinder_stats | 1.174 | 0.013 | 1.187 | |
| plot_species_specific_ogs | 0.225 | 0.002 | 0.227 | |
| plot_species_tree | 0.274 | 0.001 | 0.275 | |
| read_busco | 0.002 | 0.000 | 0.002 | |
| read_orthofinder_stats | 0.004 | 0.000 | 0.003 | |
| read_orthogroups | 0.009 | 0.000 | 0.008 | |
| run_busco | 0 | 0 | 0 | |
| synnet | 0.590 | 0.014 | 0.604 | |
| tree | 0.001 | 0.000 | 0.001 | |