Back to Multiple platform build/check report for BioC 3.22:   simplified   long
AB[C]DEFGHIJKLMNOPQRSTUVWXYZ

This page was generated on 2025-10-31 12:04 -0400 (Fri, 31 Oct 2025).

HostnameOSArch (*)R versionInstalled pkgs
nebbiolo2Linux (Ubuntu 24.04.3 LTS)x86_644.5.1 Patched (2025-08-23 r88802) -- "Great Square Root" 4901
lconwaymacOS 12.7.6 Montereyx86_644.5.1 Patched (2025-09-10 r88807) -- "Great Square Root" 4691
kjohnson3macOS 13.7.7 Venturaarm644.5.1 Patched (2025-09-10 r88807) -- "Great Square Root" 4637
Click on any hostname to see more info about the system (e.g. compilers)      (*) as reported by 'uname -p', except on Windows and Mac OS X

Package 428/2361HostnameOS / ArchINSTALLBUILDCHECKBUILD BIN
coMethDMR 1.14.0  (landing page)
Fernanda Veitzman
Snapshot Date: 2025-10-30 13:45 -0400 (Thu, 30 Oct 2025)
git_url: https://git.bioconductor.org/packages/coMethDMR
git_branch: RELEASE_3_22
git_last_commit: 052092e
git_last_commit_date: 2025-10-29 11:14:12 -0400 (Wed, 29 Oct 2025)
nebbiolo2Linux (Ubuntu 24.04.3 LTS) / x86_64  OK    OK    OK  UNNEEDED, same version is already published
lconwaymacOS 12.7.6 Monterey / x86_64  OK    OK    OK    OK  UNNEEDED, same version is already published
kjohnson3macOS 13.7.7 Ventura / arm64  OK    OK    OK    OK  UNNEEDED, same version is already published


CHECK results for coMethDMR on lconway

To the developers/maintainers of the coMethDMR package:
- Allow up to 24 hours (and sometimes 48 hours) for your latest push to git@git.bioconductor.org:packages/coMethDMR.git to reflect on this report. See Troubleshooting Build Report for more information.
- Use the following Renviron settings to reproduce errors and warnings.
- If 'R CMD check' started to fail recently on the Linux builder(s) over a missing dependency, add the missing dependency to 'Suggests:' in your DESCRIPTION file. See Renviron.bioc for more information.

raw results


Summary

Package: coMethDMR
Version: 1.14.0
Command: /Library/Frameworks/R.framework/Resources/bin/R CMD check --install=check:coMethDMR.install-out.txt --library=/Library/Frameworks/R.framework/Resources/library --no-vignettes --timings coMethDMR_1.14.0.tar.gz
StartedAt: 2025-10-30 20:10:53 -0400 (Thu, 30 Oct 2025)
EndedAt: 2025-10-30 20:22:00 -0400 (Thu, 30 Oct 2025)
EllapsedTime: 667.5 seconds
RetCode: 0
Status:   OK  
CheckDir: coMethDMR.Rcheck
Warnings: 0

Command output

##############################################################################
##############################################################################
###
### Running command:
###
###   /Library/Frameworks/R.framework/Resources/bin/R CMD check --install=check:coMethDMR.install-out.txt --library=/Library/Frameworks/R.framework/Resources/library --no-vignettes --timings coMethDMR_1.14.0.tar.gz
###
##############################################################################
##############################################################################


* using log directory ‘/Users/biocbuild/bbs-3.22-bioc/meat/coMethDMR.Rcheck’
* using R version 4.5.1 Patched (2025-09-10 r88807)
* using platform: x86_64-apple-darwin20
* R was compiled by
    Apple clang version 14.0.0 (clang-1400.0.29.202)
    GNU Fortran (GCC) 14.2.0
* running under: macOS Monterey 12.7.6
* using session charset: UTF-8
* using option ‘--no-vignettes’
* checking for file ‘coMethDMR/DESCRIPTION’ ... OK
* this is package ‘coMethDMR’ version ‘1.14.0’
* package encoding: UTF-8
* checking package namespace information ... OK
* checking package dependencies ... OK
* checking if this is a source package ... OK
* checking if there is a namespace ... OK
* checking for hidden files and directories ... OK
* checking for portable file names ... OK
* checking for sufficient/correct file permissions ... OK
* checking whether package ‘coMethDMR’ can be installed ... OK
* checking installed package size ... OK
* checking package directory ... OK
* checking ‘build’ directory ... OK
* checking DESCRIPTION meta-information ... OK
* checking top-level files ... OK
* checking for left-over files ... OK
* checking index information ... OK
* checking package subdirectories ... OK
* checking code files for non-ASCII characters ... OK
* checking R files for syntax errors ... OK
* checking whether the package can be loaded ... OK
* checking whether the package can be loaded with stated dependencies ... OK
* checking whether the package can be unloaded cleanly ... OK
* checking whether the namespace can be loaded with stated dependencies ... OK
* checking whether the namespace can be unloaded cleanly ... OK
* checking whether startup messages can be suppressed ... OK
* checking dependencies in R code ... OK
* checking S3 generic/method consistency ... OK
* checking replacement functions ... OK
* checking foreign function calls ... OK
* checking R code for possible problems ... NOTE
File ‘coMethDMR/R/zzz.R’:
  .onLoad calls:
    packageStartupMessage("Checking for cached SeSAMe data.")
    packageStartupMessage("Caching SeSAMe data for 450k/EPIC arrays.")

See section ‘Good practice’ in '?.onAttach'.
* checking Rd files ... NOTE
checkRd: (-1) AnnotateResults.Rd:13: Lost braces in \itemize; meant \describe ?
checkRd: (-1) AnnotateResults.Rd:14: Lost braces in \itemize; meant \describe ?
checkRd: (-1) AnnotateResults.Rd:15: Lost braces in \itemize; meant \describe ?
checkRd: (-1) CoMethSingleRegion.Rd:55-60: Lost braces in \itemize; \value handles \item{}{} directly
checkRd: (-1) CoMethSingleRegion.Rd:61-63: Lost braces in \itemize; \value handles \item{}{} directly
checkRd: (-1) CreateRdrop.Rd:23: Lost braces in \itemize; \value handles \item{}{} directly
checkRd: (-1) CreateRdrop.Rd:24-25: Lost braces in \itemize; \value handles \item{}{} directly
checkRd: (-1) MarkComethylatedCpGs.Rd:44: Lost braces in \itemize; \value handles \item{}{} directly
checkRd: (-1) MarkComethylatedCpGs.Rd:45-46: Lost braces in \itemize; \value handles \item{}{} directly
checkRd: (-1) MarkComethylatedCpGs.Rd:47: Lost braces in \itemize; \value handles \item{}{} directly
checkRd: (-1) MarkComethylatedCpGs.Rd:48-49: Lost braces in \itemize; \value handles \item{}{} directly
checkRd: (-1) MarkMissing.Rd:23-24: Lost braces in \itemize; \value handles \item{}{} directly
checkRd: (-1) MarkMissing.Rd:25-26: Lost braces in \itemize; \value handles \item{}{} directly
checkRd: (-1) MarkMissing.Rd:27-28: Lost braces in \itemize; \value handles \item{}{} directly
checkRd: (-1) MarkMissing.Rd:29-30: Lost braces in \itemize; \value handles \item{}{} directly
* checking Rd metadata ... OK
* checking Rd cross-references ... OK
* checking for missing documentation entries ... OK
* checking for code/documentation mismatches ... OK
* checking Rd \usage sections ... OK
* checking Rd contents ... OK
* checking for unstated dependencies in examples ... OK
* checking contents of ‘data’ directory ... OK
* checking data for non-ASCII characters ... OK
* checking data for ASCII and uncompressed saves ... OK
* checking files in ‘vignettes’ ... OK
* checking examples ... OK
Examples with CPU (user + system) or elapsed time > 5s
                      user system elapsed
CoMethSingleRegion  32.756  1.389  35.041
lmmTest             28.238  1.085  30.069
SplitCpGDFbyRegion  22.243  0.868  23.671
lmmTestAllRegions   20.327  0.743  21.437
CpGsInfoOneRegion   18.880  0.783  20.243
GetCpGsInRegion     14.106  0.546  15.073
CoMethAllRegions    13.522  0.540  14.252
AnnotateResults     12.649  0.571  13.249
CreateOutputDF       7.974  0.345   8.500
CpGsInfoAllRegions   7.732  0.335   8.251
CloseBySingleRegion  7.262  0.366   7.845
OrderCpGsByLocation  6.791  0.284   7.234
ImportSesameData     5.907  0.235   6.332
* checking for unstated dependencies in ‘tests’ ... OK
* checking tests ...
  Running ‘testthat.R’
 OK
* checking for unstated dependencies in vignettes ... OK
* checking package vignettes ... OK
* checking running R code from vignettes ... SKIPPED
* checking re-building of vignette outputs ... SKIPPED
* checking PDF version of manual ... OK
* DONE

Status: 2 NOTEs
See
  ‘/Users/biocbuild/bbs-3.22-bioc/meat/coMethDMR.Rcheck/00check.log’
for details.


Installation output

coMethDMR.Rcheck/00install.out

##############################################################################
##############################################################################
###
### Running command:
###
###   /Library/Frameworks/R.framework/Resources/bin/R CMD INSTALL coMethDMR
###
##############################################################################
##############################################################################


* installing to library ‘/Library/Frameworks/R.framework/Versions/4.5-x86_64/Resources/library’
* installing *source* package ‘coMethDMR’ ...
** this is package ‘coMethDMR’ version ‘1.14.0’
** using staged installation
** R
** data
** inst
** byte-compile and prepare package for lazy loading
** help
*** installing help indices
** building package indices
** installing vignettes
** testing if installed package can be loaded from temporary location
** testing if installed package can be loaded from final location
** testing if installed package keeps a record of temporary installation path
* DONE (coMethDMR)

Tests output

coMethDMR.Rcheck/tests/testthat.Rout


R version 4.5.1 Patched (2025-09-10 r88807) -- "Great Square Root"
Copyright (C) 2025 The R Foundation for Statistical Computing
Platform: x86_64-apple-darwin20

R is free software and comes with ABSOLUTELY NO WARRANTY.
You are welcome to redistribute it under certain conditions.
Type 'license()' or 'licence()' for distribution details.

R is a collaborative project with many contributors.
Type 'contributors()' for more information and
'citation()' on how to cite R or R packages in publications.

Type 'demo()' for some demos, 'help()' for on-line help, or
'help.start()' for an HTML browser interface to help.
Type 'q()' to quit R.

> library(testthat)
> library(coMethDMR)
Checking for cached SeSAMe data.
> 
> test_check("coMethDMR")
[ FAIL 0 | WARN 0 | SKIP 0 | PASS 12 ]
> 
> proc.time()
   user  system elapsed 
 64.920   2.889  71.795 

Example timings

coMethDMR.Rcheck/coMethDMR-Ex.timings

nameusersystemelapsed
AnnotateResults12.649 0.57113.249
CloseBySingleRegion7.2620.3667.845
CoMethAllRegions13.522 0.54014.252
CoMethSingleRegion32.756 1.38935.041
CpGsInfoAllRegions7.7320.3358.251
CpGsInfoOneRegion18.880 0.78320.243
CreateOutputDF7.9740.3458.500
CreateParallelWorkers1.7370.0891.834
CreateRdrop0.0040.0040.008
FindComethylatedRegions0.0160.0060.021
GetCpGsInRegion14.106 0.54615.073
GetResiduals0.3040.0160.325
ImportSesameData5.9070.2356.332
MarkComethylatedCpGs0.0040.0050.009
MarkMissing0.0040.0010.006
NameRegion0.0010.0010.001
OrderCpGsByLocation6.7910.2847.234
RegionsToRanges0.0170.0010.018
SplitCpGDFbyRegion22.243 0.86823.671
WriteCloseByAllRegions0.0370.0000.037
lmmTest28.238 1.08530.069
lmmTestAllRegions20.327 0.74321.437