| Back to Multiple platform build/check report for BioC 3.21: simplified long |
|
This page was generated on 2025-10-16 11:38 -0400 (Thu, 16 Oct 2025).
| Hostname | OS | Arch (*) | R version | Installed pkgs |
|---|---|---|---|---|
| nebbiolo1 | Linux (Ubuntu 24.04.3 LTS) | x86_64 | 4.5.1 (2025-06-13) -- "Great Square Root" | 4833 |
| merida1 | macOS 12.7.6 Monterey | x86_64 | 4.5.1 RC (2025-06-05 r88288) -- "Great Square Root" | 4614 |
| kjohnson1 | macOS 13.7.5 Ventura | arm64 | 4.5.1 Patched (2025-06-14 r88325) -- "Great Square Root" | 4555 |
| kunpeng2 | Linux (openEuler 24.03 LTS) | aarch64 | R Under development (unstable) (2025-02-19 r87757) -- "Unsuffered Consequences" | 4586 |
| Click on any hostname to see more info about the system (e.g. compilers) (*) as reported by 'uname -p', except on Windows and Mac OS X | ||||
| Package 391/2341 | Hostname | OS / Arch | INSTALL | BUILD | CHECK | BUILD BIN | ||||||||
| cmapR 1.20.0 (landing page) Ted Natoli
| nebbiolo1 | Linux (Ubuntu 24.04.3 LTS) / x86_64 | OK | OK | OK | |||||||||
| merida1 | macOS 12.7.6 Monterey / x86_64 | OK | OK | OK | OK | |||||||||
| kjohnson1 | macOS 13.7.5 Ventura / arm64 | OK | OK | OK | OK | |||||||||
| kunpeng2 | Linux (openEuler 24.03 LTS) / aarch64 | OK | OK | OK | ||||||||||
|
To the developers/maintainers of the cmapR package: - Allow up to 24 hours (and sometimes 48 hours) for your latest push to git@git.bioconductor.org:packages/cmapR.git to reflect on this report. See Troubleshooting Build Report for more information. - Use the following Renviron settings to reproduce errors and warnings. - If 'R CMD check' started to fail recently on the Linux builder(s) over a missing dependency, add the missing dependency to 'Suggests:' in your DESCRIPTION file. See Renviron.bioc for more information. |
| Package: cmapR |
| Version: 1.20.0 |
| Command: /Library/Frameworks/R.framework/Resources/bin/R CMD check --install=check:cmapR.install-out.txt --library=/Library/Frameworks/R.framework/Resources/library --no-vignettes --timings cmapR_1.20.0.tar.gz |
| StartedAt: 2025-10-14 01:40:01 -0400 (Tue, 14 Oct 2025) |
| EndedAt: 2025-10-14 01:47:24 -0400 (Tue, 14 Oct 2025) |
| EllapsedTime: 443.4 seconds |
| RetCode: 0 |
| Status: OK |
| CheckDir: cmapR.Rcheck |
| Warnings: 0 |
##############################################################################
##############################################################################
###
### Running command:
###
### /Library/Frameworks/R.framework/Resources/bin/R CMD check --install=check:cmapR.install-out.txt --library=/Library/Frameworks/R.framework/Resources/library --no-vignettes --timings cmapR_1.20.0.tar.gz
###
##############################################################################
##############################################################################
* using log directory ‘/Users/biocbuild/bbs-3.21-bioc/meat/cmapR.Rcheck’
* using R version 4.5.1 RC (2025-06-05 r88288)
* using platform: x86_64-apple-darwin20
* R was compiled by
Apple clang version 14.0.0 (clang-1400.0.29.202)
GNU Fortran (GCC) 14.2.0
* running under: macOS Monterey 12.7.6
* using session charset: UTF-8
* using option ‘--no-vignettes’
* checking for file ‘cmapR/DESCRIPTION’ ... OK
* checking extension type ... Package
* this is package ‘cmapR’ version ‘1.20.0’
* checking package namespace information ... OK
* checking package dependencies ... OK
* checking if this is a source package ... OK
* checking if there is a namespace ... OK
* checking for hidden files and directories ... NOTE
Found the following hidden files and directories:
.dockerignore
docs/build/html/.buildinfo
These were most likely included in error. See section ‘Package
structure’ in the ‘Writing R Extensions’ manual.
* checking for portable file names ... OK
* checking for sufficient/correct file permissions ... OK
* checking whether package ‘cmapR’ can be installed ... OK
* checking installed package size ... INFO
installed size is 5.1Mb
sub-directories of 1Mb or more:
data 2.2Mb
extdata 2.1Mb
* checking package directory ... OK
* checking ‘build’ directory ... OK
* checking DESCRIPTION meta-information ... OK
* checking top-level files ... OK
* checking for left-over files ... OK
* checking index information ... OK
* checking package subdirectories ... OK
* checking code files for non-ASCII characters ... OK
* checking R files for syntax errors ... OK
* checking whether the package can be loaded ... OK
* checking whether the package can be loaded with stated dependencies ... OK
* checking whether the package can be unloaded cleanly ... OK
* checking whether the namespace can be loaded with stated dependencies ... OK
* checking whether the namespace can be unloaded cleanly ... OK
* checking dependencies in R code ... OK
* checking S3 generic/method consistency ... OK
* checking replacement functions ... OK
* checking foreign function calls ... OK
* checking R code for possible problems ... NOTE
aggregate_gct: no visible binding for global variable ‘.SD’
Undefined global functions or variables:
.SD
* checking Rd files ... OK
* checking Rd metadata ... OK
* checking Rd cross-references ... NOTE
Found the following Rd file(s) with Rd \link{} targets missing package
anchors:
melt_gct.Rd: data.table, melt.data.table
merge_with_precedence.Rd: data.table
Please provide package anchors for all Rd \link{} targets not in the
package itself and the base packages.
* checking for missing documentation entries ... OK
* checking for code/documentation mismatches ... OK
* checking Rd \usage sections ... OK
* checking Rd contents ... OK
* checking for unstated dependencies in examples ... OK
* checking contents of ‘data’ directory ... OK
* checking data for non-ASCII characters ... OK
* checking LazyData ... OK
* checking data for ASCII and uncompressed saves ... OK
* checking line endings in Makefiles ... OK
* checking for GNU extensions in Makefiles ... OK
* checking include directives in Makefiles ... OK
* checking files in ‘vignettes’ ... OK
* checking examples ... OK
* checking for unstated dependencies in ‘tests’ ... OK
* checking tests ...
Running ‘testthat.R’
OK
* checking for unstated dependencies in vignettes ... OK
* checking package vignettes ... OK
* checking running R code from vignettes ... SKIPPED
* checking re-building of vignette outputs ... SKIPPED
* checking PDF version of manual ... OK
* DONE
Status: 3 NOTEs
See
‘/Users/biocbuild/bbs-3.21-bioc/meat/cmapR.Rcheck/00check.log’
for details.
cmapR.Rcheck/00install.out
############################################################################## ############################################################################## ### ### Running command: ### ### /Library/Frameworks/R.framework/Resources/bin/R CMD INSTALL cmapR ### ############################################################################## ############################################################################## * installing to library ‘/Library/Frameworks/R.framework/Versions/4.5-x86_64/Resources/library’ * installing *source* package ‘cmapR’ ... ** this is package ‘cmapR’ version ‘1.20.0’ ** using staged installation ** R ** data *** moving datasets to lazyload DB ** inst ** byte-compile and prepare package for lazy loading ** help *** installing help indices ** building package indices ** installing vignettes ** testing if installed package can be loaded from temporary location ** testing if installed package can be loaded from final location ** testing if installed package keeps a record of temporary installation path * DONE (cmapR)
cmapR.Rcheck/tests/testthat.Rout
R version 4.5.1 RC (2025-06-05 r88288) -- "Great Square Root"
Copyright (C) 2025 The R Foundation for Statistical Computing
Platform: x86_64-apple-darwin20
R is free software and comes with ABSOLUTELY NO WARRANTY.
You are welcome to redistribute it under certain conditions.
Type 'license()' or 'licence()' for distribution details.
R is a collaborative project with many contributors.
Type 'contributors()' for more information and
'citation()' on how to cite R or R packages in publications.
Type 'demo()' for some demos, 'help()' for on-line help, or
'help.start()' for an HTML browser interface to help.
Type 'q()' to quit R.
> library(testthat)
> library(cmapR)
>
> test_check("cmapR")
Saving file to foo.gct
Dimensions of matrix: [10x5]
Setting precision to 4
Saved.
Saving file to foo.gct
Dimensions of matrix: [10x5]
Setting precision to 4
Saved.
Saving file to foo.gct
Dimensions of matrix: [10x5]
Setting precision to 4
Saved.
Saving file to ./foo_n272x978.gct
Dimensions of matrix: [978x272]
Setting precision to 4
Saved.
[ FAIL 0 | WARN 0 | SKIP 2 | PASS 168 ]
══ Skipped tests (2) ═══════════════════════════════════════════════════════════
• empty test (2): 'test_0.2_io.R:66:1', 'test_0.2_io.R:115:1'
[ FAIL 0 | WARN 0 | SKIP 2 | PASS 168 ]
>
> proc.time()
user system elapsed
28.786 1.810 36.035
cmapR.Rcheck/cmapR-Ex.timings
| name | user | system | elapsed | |
| GCT | 0.368 | 0.060 | 0.534 | |
| align_matrices | 0.005 | 0.004 | 0.010 | |
| annotate_gct | 0.377 | 0.061 | 0.530 | |
| append_dim | 0.001 | 0.000 | 0.001 | |
| check_colnames | 0.001 | 0.002 | 0.004 | |
| check_dups | 0.001 | 0.001 | 0.002 | |
| distil | 0.002 | 0.001 | 0.002 | |
| extract_gct | 0.105 | 0.010 | 0.130 | |
| fix_datatypes | 0.026 | 0.003 | 0.033 | |
| ids | 0.022 | 0.005 | 0.030 | |
| is.wholenumber | 0.000 | 0.000 | 0.002 | |
| lxb2mat | 0.897 | 0.039 | 1.156 | |
| mat | 0.002 | 0.000 | 0.002 | |
| melt_gct | 2.023 | 0.118 | 2.693 | |
| merge_gct | 0.155 | 0.015 | 0.204 | |
| merge_with_precedence | 0.014 | 0.004 | 0.026 | |
| meta | 0.003 | 0.000 | 0.005 | |
| na_pad_matrix | 0.004 | 0.010 | 0.016 | |
| parse_gctx | 0.418 | 0.025 | 0.568 | |
| parse_gmt | 0.046 | 0.007 | 0.064 | |
| parse_gmx | 0.022 | 0.003 | 0.036 | |
| parse_grp | 0.004 | 0.001 | 0.005 | |
| process_ids | 0.011 | 0.002 | 0.017 | |
| rank_gct | 0.110 | 0.014 | 0.159 | |
| read_gctx_ids | 0.015 | 0.002 | 0.024 | |
| read_gctx_meta | 0.262 | 0.024 | 0.381 | |
| robust_zscore | 0.001 | 0.002 | 0.004 | |
| subset_gct | 0.090 | 0.016 | 0.134 | |
| threshold | 0.000 | 0.001 | 0.001 | |
| transpose_gct | 0.058 | 0.009 | 0.083 | |
| update_gctx | 0.000 | 0.001 | 0.003 | |
| write_gct | 2.419 | 0.308 | 3.482 | |
| write_gctx | 0.471 | 0.047 | 0.572 | |
| write_gctx_meta | 0.000 | 0.001 | 0.000 | |
| write_gmt | 0.000 | 0.000 | 0.001 | |
| write_grp | 0.001 | 0.001 | 0.001 | |
| write_tbl | 0.000 | 0.001 | 0.001 | |