Back to Multiple platform build/check report for BioC 3.20: simplified long |
|
This page was generated on 2025-02-03 12:04 -0500 (Mon, 03 Feb 2025).
Hostname | OS | Arch (*) | R version | Installed pkgs |
---|---|---|---|---|
nebbiolo2 | Linux (Ubuntu 24.04.1 LTS) | x86_64 | 4.4.2 (2024-10-31) -- "Pile of Leaves" | 4746 |
palomino8 | Windows Server 2022 Datacenter | x64 | 4.4.2 (2024-10-31 ucrt) -- "Pile of Leaves" | 4494 |
merida1 | macOS 12.7.5 Monterey | x86_64 | 4.4.2 (2024-10-31) -- "Pile of Leaves" | 4517 |
kjohnson1 | macOS 13.6.6 Ventura | arm64 | 4.4.2 (2024-10-31) -- "Pile of Leaves" | 4469 |
taishan | Linux (openEuler 24.03 LTS) | aarch64 | 4.4.2 (2024-10-31) -- "Pile of Leaves" | 4400 |
Click on any hostname to see more info about the system (e.g. compilers) (*) as reported by 'uname -p', except on Windows and Mac OS X |
Package 381/2289 | Hostname | OS / Arch | INSTALL | BUILD | CHECK | BUILD BIN | ||||||||
clustifyr 1.18.0 (landing page) Rui Fu
| nebbiolo2 | Linux (Ubuntu 24.04.1 LTS) / x86_64 | OK | OK | OK | |||||||||
palomino8 | Windows Server 2022 Datacenter / x64 | OK | OK | OK | OK | |||||||||
merida1 | macOS 12.7.5 Monterey / x86_64 | OK | OK | OK | OK | |||||||||
kjohnson1 | macOS 13.6.6 Ventura / arm64 | OK | OK | OK | OK | |||||||||
taishan | Linux (openEuler 24.03 LTS) / aarch64 | OK | OK | OK | ||||||||||
To the developers/maintainers of the clustifyr package: - Allow up to 24 hours (and sometimes 48 hours) for your latest push to git@git.bioconductor.org:packages/clustifyr.git to reflect on this report. See Troubleshooting Build Report for more information. - Use the following Renviron settings to reproduce errors and warnings. - If 'R CMD check' started to fail recently on the Linux builder(s) over a missing dependency, add the missing dependency to 'Suggests:' in your DESCRIPTION file. See Renviron.bioc for more information. |
Package: clustifyr |
Version: 1.18.0 |
Command: /home/biocbuild/bbs-3.20-bioc/R/bin/R CMD check --install=check:clustifyr.install-out.txt --library=/home/biocbuild/bbs-3.20-bioc/R/site-library --timings clustifyr_1.18.0.tar.gz |
StartedAt: 2025-01-30 20:55:51 -0500 (Thu, 30 Jan 2025) |
EndedAt: 2025-01-30 21:07:41 -0500 (Thu, 30 Jan 2025) |
EllapsedTime: 710.7 seconds |
RetCode: 0 |
Status: OK |
CheckDir: clustifyr.Rcheck |
Warnings: 0 |
############################################################################## ############################################################################## ### ### Running command: ### ### /home/biocbuild/bbs-3.20-bioc/R/bin/R CMD check --install=check:clustifyr.install-out.txt --library=/home/biocbuild/bbs-3.20-bioc/R/site-library --timings clustifyr_1.18.0.tar.gz ### ############################################################################## ############################################################################## * using log directory ‘/home/biocbuild/bbs-3.20-bioc/meat/clustifyr.Rcheck’ * using R version 4.4.2 (2024-10-31) * using platform: x86_64-pc-linux-gnu * R was compiled by gcc (Ubuntu 13.2.0-23ubuntu4) 13.2.0 GNU Fortran (Ubuntu 13.2.0-23ubuntu4) 13.2.0 * running under: Ubuntu 24.04.1 LTS * using session charset: UTF-8 * checking for file ‘clustifyr/DESCRIPTION’ ... OK * this is package ‘clustifyr’ version ‘1.18.0’ * package encoding: UTF-8 * checking package namespace information ... OK * checking package dependencies ... OK * checking if this is a source package ... OK * checking if there is a namespace ... OK * checking for hidden files and directories ... OK * checking for portable file names ... OK * checking for sufficient/correct file permissions ... OK * checking whether package ‘clustifyr’ can be installed ... OK * checking installed package size ... OK * checking package directory ... OK * checking ‘build’ directory ... OK * checking DESCRIPTION meta-information ... NOTE License stub is invalid DCF. * checking top-level files ... OK * checking for left-over files ... OK * checking index information ... OK * checking package subdirectories ... OK * checking code files for non-ASCII characters ... OK * checking R files for syntax errors ... OK * checking whether the package can be loaded ... OK * checking whether the package can be loaded with stated dependencies ... OK * checking whether the package can be unloaded cleanly ... OK * checking whether the namespace can be loaded with stated dependencies ... OK * checking whether the namespace can be unloaded cleanly ... OK * checking loading without being on the library search path ... OK * checking dependencies in R code ... OK * checking S3 generic/method consistency ... OK * checking replacement functions ... OK * checking foreign function calls ... OK * checking R code for possible problems ... OK * checking Rd files ... OK * checking Rd metadata ... OK * checking Rd cross-references ... OK * checking for missing documentation entries ... OK * checking for code/documentation mismatches ... OK * checking Rd \usage sections ... OK * checking Rd contents ... OK * checking for unstated dependencies in examples ... OK * checking contents of ‘data’ directory ... OK * checking data for non-ASCII characters ... OK * checking LazyData ... OK * checking data for ASCII and uncompressed saves ... OK * checking files in ‘vignettes’ ... OK * checking examples ... OK Examples with CPU (user + system) or elapsed time > 5s user system elapsed plot_pathway_gsea 16.470 0.182 16.653 calculate_pathway_gsea 15.095 0.233 15.329 * checking for unstated dependencies in ‘tests’ ... OK * checking tests ... Running ‘testthat.R’ OK * checking for unstated dependencies in vignettes ... OK * checking package vignettes ... OK * checking re-building of vignette outputs ... OK * checking PDF version of manual ... OK * DONE Status: 1 NOTE See ‘/home/biocbuild/bbs-3.20-bioc/meat/clustifyr.Rcheck/00check.log’ for details.
clustifyr.Rcheck/00install.out
############################################################################## ############################################################################## ### ### Running command: ### ### /home/biocbuild/bbs-3.20-bioc/R/bin/R CMD INSTALL clustifyr ### ############################################################################## ############################################################################## * installing to library ‘/home/biocbuild/bbs-3.20-bioc/R/site-library’ * installing *source* package ‘clustifyr’ ... ** using staged installation ** R ** data *** moving datasets to lazyload DB ** inst ** byte-compile and prepare package for lazy loading ** help *** installing help indices *** copying figures ** building package indices ** installing vignettes ** testing if installed package can be loaded from temporary location ** testing if installed package can be loaded from final location ** testing if installed package keeps a record of temporary installation path * DONE (clustifyr)
clustifyr.Rcheck/tests/testthat.Rout
R version 4.4.2 (2024-10-31) -- "Pile of Leaves" Copyright (C) 2024 The R Foundation for Statistical Computing Platform: x86_64-pc-linux-gnu R is free software and comes with ABSOLUTELY NO WARRANTY. You are welcome to redistribute it under certain conditions. Type 'license()' or 'licence()' for distribution details. R is a collaborative project with many contributors. Type 'contributors()' for more information and 'citation()' on how to cite R or R packages in publications. Type 'demo()' for some demos, 'help()' for on-line help, or 'help.start()' for an HTML browser interface to help. Type 'q()' to quit R. > library(testthat) > library(clustifyr) > > test_check("clustifyr") [ FAIL 0 | WARN 0 | SKIP 0 | PASS 183 ] > > proc.time() user system elapsed 440.104 7.858 447.975
clustifyr.Rcheck/clustifyr-Ex.timings
name | user | system | elapsed | |
append_genes | 0.026 | 0.010 | 0.036 | |
assess_rank_bias | 0 | 0 | 0 | |
average_clusters | 0.136 | 0.013 | 0.149 | |
binarize_expr | 0.040 | 0.002 | 0.042 | |
build_atlas | 0.817 | 0.014 | 0.831 | |
calc_distance | 0.005 | 0.000 | 0.004 | |
calculate_pathway_gsea | 15.095 | 0.233 | 15.329 | |
call_consensus | 0.182 | 0.009 | 0.191 | |
call_to_metadata | 0.106 | 0.034 | 0.140 | |
check_raw_counts | 0.804 | 0.057 | 0.861 | |
clustify | 1.157 | 0.053 | 1.210 | |
clustify_lists | 0.668 | 0.003 | 0.671 | |
clustify_nudge | 0.749 | 0.018 | 0.766 | |
clustifyr_methods | 0 | 0 | 0 | |
collapse_to_cluster | 0.566 | 0.028 | 0.594 | |
compare_lists | 0.118 | 0.004 | 0.122 | |
cor_to_call | 0.045 | 0.002 | 0.047 | |
cor_to_call_rank | 0.774 | 0.059 | 0.833 | |
cor_to_call_topn | 0.057 | 0.000 | 0.056 | |
downsample_matrix | 0.010 | 0.001 | 0.011 | |
feature_select_PCA | 0.008 | 0.000 | 0.008 | |
file_marker_parse | 0.000 | 0.002 | 0.001 | |
find_rank_bias | 0.028 | 0.000 | 0.028 | |
gene_pct_markerm | 0.223 | 0.001 | 0.224 | |
get_ucsc_reference | 0 | 0 | 0 | |
get_vargenes | 0.000 | 0.000 | 0.001 | |
gmt_to_list | 0.036 | 0.000 | 0.037 | |
insert_meta_object | 0.199 | 0.001 | 0.200 | |
make_comb_ref | 0.012 | 0.001 | 0.013 | |
marker_select | 0.012 | 0.000 | 0.013 | |
matrixize_markers | 0.022 | 0.001 | 0.023 | |
object_data | 0.295 | 0.000 | 0.294 | |
object_ref | 0.234 | 0.014 | 0.249 | |
overcluster | 0.883 | 0.022 | 0.906 | |
overcluster_test | 1.083 | 0.017 | 1.101 | |
parse_loc_object | 0.192 | 0.028 | 0.220 | |
plot_best_call | 0.450 | 0.005 | 0.455 | |
plot_cor | 0.571 | 0.001 | 0.571 | |
plot_cor_heatmap | 0.780 | 0.004 | 0.783 | |
plot_dims | 0.226 | 0.000 | 0.226 | |
plot_gene | 0.442 | 0.000 | 0.443 | |
plot_pathway_gsea | 16.470 | 0.182 | 16.653 | |
plot_rank_bias | 0.000 | 0.001 | 0.001 | |
pos_neg_marker | 0.006 | 0.000 | 0.007 | |
pos_neg_select | 0.058 | 0.003 | 0.060 | |
query_rank_bias | 0.034 | 0.001 | 0.035 | |
ref_feature_select | 0.027 | 0.001 | 0.028 | |
ref_marker_select | 0.148 | 0.001 | 0.149 | |
reverse_marker_matrix | 0.003 | 0.000 | 0.003 | |
run_clustifyr_app | 0 | 0 | 0 | |
seurat_meta | 0.213 | 0.010 | 0.223 | |
seurat_ref | 0.242 | 0.006 | 0.248 | |
write_meta | 0.259 | 0.005 | 0.264 | |