| Back to Multiple platform build/check report for BioC 3.22: simplified long |
|
This page was generated on 2025-11-01 12:04 -0400 (Sat, 01 Nov 2025).
| Hostname | OS | Arch (*) | R version | Installed pkgs |
|---|---|---|---|---|
| nebbiolo2 | Linux (Ubuntu 24.04.3 LTS) | x86_64 | 4.5.1 Patched (2025-08-23 r88802) -- "Great Square Root" | 4901 |
| lconway | macOS 12.7.6 Monterey | x86_64 | 4.5.1 Patched (2025-09-10 r88807) -- "Great Square Root" | 4691 |
| kjohnson3 | macOS 13.7.7 Ventura | arm64 | 4.5.1 Patched (2025-09-10 r88807) -- "Great Square Root" | 4637 |
| Click on any hostname to see more info about the system (e.g. compilers) (*) as reported by 'uname -p', except on Windows and Mac OS X | ||||
| Package 378/2361 | Hostname | OS / Arch | INSTALL | BUILD | CHECK | BUILD BIN | ||||||||
| clippda 1.60.0 (landing page) Stephen Nyangoma
| nebbiolo2 | Linux (Ubuntu 24.04.3 LTS) / x86_64 | OK | OK | OK | |||||||||
| lconway | macOS 12.7.6 Monterey / x86_64 | OK | OK | OK | OK | |||||||||
| kjohnson3 | macOS 13.7.7 Ventura / arm64 | OK | OK | OK | OK | |||||||||
|
To the developers/maintainers of the clippda package: - Allow up to 24 hours (and sometimes 48 hours) for your latest push to git@git.bioconductor.org:packages/clippda.git to reflect on this report. See Troubleshooting Build Report for more information. - Use the following Renviron settings to reproduce errors and warnings. - If 'R CMD check' started to fail recently on the Linux builder(s) over a missing dependency, add the missing dependency to 'Suggests:' in your DESCRIPTION file. See Renviron.bioc for more information. |
| Package: clippda |
| Version: 1.60.0 |
| Command: /Library/Frameworks/R.framework/Resources/bin/R CMD check --install=check:clippda.install-out.txt --library=/Library/Frameworks/R.framework/Resources/library --no-vignettes --timings clippda_1.60.0.tar.gz |
| StartedAt: 2025-10-31 19:03:29 -0400 (Fri, 31 Oct 2025) |
| EndedAt: 2025-10-31 19:05:05 -0400 (Fri, 31 Oct 2025) |
| EllapsedTime: 96.1 seconds |
| RetCode: 0 |
| Status: OK |
| CheckDir: clippda.Rcheck |
| Warnings: 0 |
##############################################################################
##############################################################################
###
### Running command:
###
### /Library/Frameworks/R.framework/Resources/bin/R CMD check --install=check:clippda.install-out.txt --library=/Library/Frameworks/R.framework/Resources/library --no-vignettes --timings clippda_1.60.0.tar.gz
###
##############################################################################
##############################################################################
* using log directory ‘/Users/biocbuild/bbs-3.22-bioc/meat/clippda.Rcheck’
* using R version 4.5.1 Patched (2025-09-10 r88807)
* using platform: aarch64-apple-darwin20
* R was compiled by
Apple clang version 16.0.0 (clang-1600.0.26.6)
GNU Fortran (GCC) 14.2.0
* running under: macOS Ventura 13.7.7
* using session charset: UTF-8
* using option ‘--no-vignettes’
* checking for file ‘clippda/DESCRIPTION’ ... OK
* this is package ‘clippda’ version ‘1.60.0’
* checking package namespace information ... NOTE
Namespaces with empty importFrom:
‘Biobase’ ‘tools’
* checking package dependencies ... INFO
Depends: includes the non-default packages:
'limma', 'statmod', 'rgl', 'lattice', 'scatterplot3d', 'Biobase',
'tools'
Adding so many packages to the search path is excessive and importing
selectively is preferable.
* checking if this is a source package ... OK
* checking if there is a namespace ... OK
* checking for hidden files and directories ... OK
* checking for portable file names ... OK
* checking for sufficient/correct file permissions ... OK
* checking whether package ‘clippda’ can be installed ... OK
* checking installed package size ... OK
* checking package directory ... OK
* checking ‘build’ directory ... OK
* checking DESCRIPTION meta-information ... OK
* checking top-level files ... OK
* checking for left-over files ... OK
* checking index information ... OK
* checking package subdirectories ... OK
* checking code files for non-ASCII characters ... OK
* checking R files for syntax errors ... OK
* checking whether the package can be loaded ... OK
* checking whether the package can be loaded with stated dependencies ... OK
* checking whether the package can be unloaded cleanly ... OK
* checking whether the namespace can be loaded with stated dependencies ... OK
* checking whether the namespace can be unloaded cleanly ... OK
* checking dependencies in R code ... NOTE
'library' or 'require' calls to packages already attached by Depends:
‘lattice’ ‘limma’ ‘rgl’ ‘scatterplot3d’ ‘statmod’
Please remove these calls from your code.
Packages in Depends field not imported from:
‘lattice’ ‘rgl’
These packages need to be imported from (in the NAMESPACE file)
for when this namespace is loaded but not attached.
* checking S3 generic/method consistency ... OK
* checking replacement functions ... OK
* checking foreign function calls ... OK
* checking R code for possible problems ... NOTE
ZvaluescasesVcontrolsPlots: no visible global function definition for
‘lines’
ZvaluescasesVcontrolsPlots: no visible global function definition for
‘legend’
ZvaluesfrommultinomPlots: no visible global function definition for
‘rmultinom’
ZvaluesfrommultinomPlots: no visible global function definition for
‘density’
ZvaluesfrommultinomPlots: no visible global function definition for
‘lines’
ZvaluesfrommultinomPlots: no visible global function definition for
‘legend’
ZvaluesfrommultinomPlots: no visible global function definition for
‘cloud’
ZvaluesfrommultinomPlots: no visible global function definition for
‘var’
Undefined global functions or variables:
cloud density legend lines rmultinom var
Consider adding
importFrom("graphics", "legend", "lines")
importFrom("stats", "density", "rmultinom", "var")
to your NAMESPACE file.
* checking Rd files ... NOTE
checkRd: (-1) show-methods.Rd:11-18: Lost braces
11 | {object = "aclinicalProteomicsData"}{
| ^
* checking Rd metadata ... OK
* checking Rd cross-references ... OK
* checking for missing documentation entries ... OK
* checking for code/documentation mismatches ... OK
* checking Rd \usage sections ... OK
* checking Rd contents ... OK
* checking for unstated dependencies in examples ... OK
* checking contents of ‘data’ directory ... OK
* checking data for non-ASCII characters ... OK
* checking data for ASCII and uncompressed saves ... OK
* checking sizes of PDF files under ‘inst/doc’ ... OK
* checking files in ‘vignettes’ ... OK
* checking examples ... OK
Examples with CPU (user + system) or elapsed time > 5s
user system elapsed
clippda-package 34.935 1.293 36.351
sampleSize 20.831 0.991 22.012
sampleSizeParameters 10.531 0.491 11.381
* checking for unstated dependencies in vignettes ... OK
* checking package vignettes ... OK
* checking running R code from vignettes ... SKIPPED
* checking re-building of vignette outputs ... SKIPPED
* checking PDF version of manual ... OK
* DONE
Status: 4 NOTEs
See
‘/Users/biocbuild/bbs-3.22-bioc/meat/clippda.Rcheck/00check.log’
for details.
clippda.Rcheck/00install.out
############################################################################## ############################################################################## ### ### Running command: ### ### /Library/Frameworks/R.framework/Resources/bin/R CMD INSTALL clippda ### ############################################################################## ############################################################################## * installing to library ‘/Library/Frameworks/R.framework/Versions/4.5-arm64/Resources/library’ * installing *source* package ‘clippda’ ... ** this is package ‘clippda’ version ‘1.60.0’ ** using staged installation ** R ** data ** inst ** byte-compile and prepare package for lazy loading ** help *** installing help indices ** building package indices ** installing vignettes ** testing if installed package can be loaded from temporary location ** testing if installed package can be loaded from final location ** testing if installed package keeps a record of temporary installation path * DONE (clippda)
clippda.Rcheck/clippda-Ex.timings
| name | user | system | elapsed | |
| ZvaluescasesVcontrolsPlots | 0.003 | 0.001 | 0.004 | |
| ZvaluesfrommultinomPlots | 0.394 | 0.023 | 0.418 | |
| aclinicalProteomicsData-class | 0.017 | 0.002 | 0.019 | |
| aclinicalProteomicsData-methods | 0.083 | 0.121 | 0.204 | |
| betweensampleVariance | 0.389 | 0.035 | 0.425 | |
| checkNo.replicates | 0.031 | 0.003 | 0.033 | |
| clippda-package | 34.935 | 1.293 | 36.351 | |
| f | 0.001 | 0.000 | 0.001 | |
| fisherInformation | 0.021 | 0.003 | 0.024 | |
| liverRawData | 0.002 | 0.001 | 0.003 | |
| liver_pheno | 0.000 | 0.001 | 0.001 | |
| liverdata | 0.470 | 0.049 | 0.519 | |
| mostSimilarTwo | 0 | 0 | 0 | |
| negativeIntensitiesCorrection | 0.096 | 0.021 | 0.116 | |
| phenoDataFrame | 0.015 | 0.003 | 0.017 | |
| pheno_urine | 0.001 | 0.001 | 0.001 | |
| preProcRepeatedPeakData | 0.407 | 0.054 | 0.462 | |
| proteomicsExprsData | 0.039 | 0.003 | 0.042 | |
| proteomicspData | 0.014 | 0.002 | 0.017 | |
| replicateCorrelations | 1.877 | 0.080 | 1.986 | |
| sampleClusteredData | 0.145 | 0.017 | 0.164 | |
| sampleSize | 20.831 | 0.991 | 22.012 | |
| sampleSize3DscatterPlots | 0.006 | 0.002 | 0.008 | |
| sampleSizeContourPlots | 0.007 | 0.001 | 0.010 | |
| sampleSizeParameters | 10.531 | 0.491 | 11.381 | |
| sample_technicalVariance | 2.965 | 0.055 | 3.025 | |
| spectrumFilter | 0.326 | 0.042 | 0.368 | |
| ztwo | 0 | 0 | 0 | |