| Back to Multiple platform build/check report for BioC 3.21: simplified long |
|
This page was generated on 2025-04-22 13:15 -0400 (Tue, 22 Apr 2025).
| Hostname | OS | Arch (*) | R version | Installed pkgs |
|---|---|---|---|---|
| nebbiolo1 | Linux (Ubuntu 24.04.1 LTS) | x86_64 | 4.5.0 RC (2025-04-04 r88126) -- "How About a Twenty-Six" | 4831 |
| palomino7 | Windows Server 2022 Datacenter | x64 | 4.5.0 RC (2025-04-04 r88126 ucrt) -- "How About a Twenty-Six" | 4573 |
| lconway | macOS 12.7.1 Monterey | x86_64 | 4.5.0 RC (2025-04-04 r88126) -- "How About a Twenty-Six" | 4599 |
| kjohnson3 | macOS 13.7.1 Ventura | arm64 | 4.5.0 RC (2025-04-04 r88126) -- "How About a Twenty-Six" | 4553 |
| kunpeng2 | Linux (openEuler 24.03 LTS) | aarch64 | R Under development (unstable) (2025-02-19 r87757) -- "Unsuffered Consequences" | 4570 |
| Click on any hostname to see more info about the system (e.g. compilers) (*) as reported by 'uname -p', except on Windows and Mac OS X | ||||
| Package 299/2341 | Hostname | OS / Arch | INSTALL | BUILD | CHECK | BUILD BIN | ||||||||
| celda 1.24.0 (landing page) Joshua Campbell
| nebbiolo1 | Linux (Ubuntu 24.04.1 LTS) / x86_64 | OK | OK | OK | |||||||||
| palomino7 | Windows Server 2022 Datacenter / x64 | OK | OK | OK | OK | |||||||||
| lconway | macOS 12.7.1 Monterey / x86_64 | OK | OK | OK | OK | |||||||||
| kjohnson3 | macOS 13.7.1 Ventura / arm64 | OK | OK | OK | OK | |||||||||
| kunpeng2 | Linux (openEuler 24.03 LTS) / aarch64 | OK | OK | WARNINGS | ||||||||||
|
To the developers/maintainers of the celda package: - Allow up to 24 hours (and sometimes 48 hours) for your latest push to git@git.bioconductor.org:packages/celda.git to reflect on this report. See Troubleshooting Build Report for more information. - Use the following Renviron settings to reproduce errors and warnings. - If 'R CMD check' started to fail recently on the Linux builder(s) over a missing dependency, add the missing dependency to 'Suggests:' in your DESCRIPTION file. See Renviron.bioc for more information. |
| Package: celda |
| Version: 1.24.0 |
| Command: /Library/Frameworks/R.framework/Resources/bin/R CMD check --install=check:celda.install-out.txt --library=/Library/Frameworks/R.framework/Resources/library --no-vignettes --timings celda_1.24.0.tar.gz |
| StartedAt: 2025-04-21 19:36:15 -0400 (Mon, 21 Apr 2025) |
| EndedAt: 2025-04-21 19:45:44 -0400 (Mon, 21 Apr 2025) |
| EllapsedTime: 569.6 seconds |
| RetCode: 0 |
| Status: OK |
| CheckDir: celda.Rcheck |
| Warnings: 0 |
##############################################################################
##############################################################################
###
### Running command:
###
### /Library/Frameworks/R.framework/Resources/bin/R CMD check --install=check:celda.install-out.txt --library=/Library/Frameworks/R.framework/Resources/library --no-vignettes --timings celda_1.24.0.tar.gz
###
##############################################################################
##############################################################################
* using log directory ‘/Users/biocbuild/bbs-3.21-bioc/meat/celda.Rcheck’
* using R version 4.5.0 RC (2025-04-04 r88126)
* using platform: x86_64-apple-darwin20
* R was compiled by
Apple clang version 14.0.0 (clang-1400.0.29.202)
GNU Fortran (GCC) 14.2.0
* running under: macOS Monterey 12.7.6
* using session charset: UTF-8
* using option ‘--no-vignettes’
* checking for file ‘celda/DESCRIPTION’ ... OK
* this is package ‘celda’ version ‘1.24.0’
* package encoding: UTF-8
* checking package namespace information ... OK
* checking package dependencies ... INFO
Imports includes 32 non-default packages.
Importing from so many packages makes the package vulnerable to any of
them becoming unavailable. Move as many as possible to Suggests and
use conditionally.
* checking if this is a source package ... OK
* checking if there is a namespace ... OK
* checking for hidden files and directories ... OK
* checking for portable file names ... OK
* checking for sufficient/correct file permissions ... OK
* checking whether package ‘celda’ can be installed ... OK
* used C compiler: ‘Apple clang version 14.0.0 (clang-1400.0.29.202)’
* used C++ compiler: ‘Apple clang version 14.0.0 (clang-1400.0.29.202)’
* used SDK: ‘MacOSX11.3.sdk’
* checking installed package size ... OK
* checking package directory ... OK
* checking ‘build’ directory ... OK
* checking DESCRIPTION meta-information ... OK
* checking top-level files ... OK
* checking for left-over files ... OK
* checking index information ... OK
* checking package subdirectories ... OK
* checking code files for non-ASCII characters ... OK
* checking R files for syntax errors ... OK
* checking whether the package can be loaded ... OK
* checking whether the package can be loaded with stated dependencies ... OK
* checking whether the package can be unloaded cleanly ... OK
* checking whether the namespace can be loaded with stated dependencies ... OK
* checking whether the namespace can be unloaded cleanly ... OK
* checking dependencies in R code ... OK
* checking S3 generic/method consistency ... OK
* checking replacement functions ... OK
* checking foreign function calls ... OK
* checking R code for possible problems ... NOTE
.removeZeroVariance: no visible global function definition for
‘complete.cases’
.splitMetricIGpIGd: no visible global function definition for
‘model.matrix’
.splitMetricModF1: no visible global function definition for
‘model.matrix’
findMarkersTree: no visible global function definition for ‘Idents’
findMarkersTree: no visible global function definition for ‘RunUMAP’
findMarkersTree: no visible global function definition for ‘dendrapply’
plotDendro: no visible binding for global variable ‘xend’
plotDendro: no visible binding for global variable ‘y’
plotDendro: no visible binding for global variable ‘label’
plotMarkerHeatmap: no visible global function definition for ‘head’
plotMarkerHeatmap: no visible global function definition for ‘setNames’
Undefined global functions or variables:
Idents RunUMAP complete.cases dendrapply head label model.matrix
setNames xend y
Consider adding
importFrom("stats", "complete.cases", "dendrapply", "model.matrix",
"setNames")
importFrom("utils", "head")
to your NAMESPACE file.
* checking Rd files ... OK
* checking Rd metadata ... OK
* checking Rd cross-references ... NOTE
Found the following Rd file(s) with Rd \link{} targets missing package
anchors:
bestLogLikelihood.Rd: SingleCellExperiment-class, altExp
celdaClusters.Rd: SingleCellExperiment-class, altExp
celdaGridSearch.Rd: SingleCellExperiment-class, assay, altExp,
metadata
celdaHeatmap.Rd: assay, altExp
celdaModel.Rd: altExp
celdaModules.Rd: SingleCellExperiment-class, altExp
celdaProbabilityMap.Rd: assay, altExp
celdaTsne.Rd: SingleCellExperiment-class, assay, altExp, reducedDim
celdaUmap.Rd: assay, altExp, reducedDim
celda_C.Rd: assay, altExp, SingleCellExperiment-class, metadata,
colData
celda_CG.Rd: assay, altExp, SingleCellExperiment-class, metadata,
colData, rowData
celda_G.Rd: assay, altExp, SingleCellExperiment-class, metadata,
rowData
celdatosce.Rd: SingleCellExperiment-class, assay, altExp, metadata,
colData, rowData
clusterProbability.Rd: SingleCellExperiment-class, assay, altExp
decontX.Rd: SingleCellExperiment-class, Matrix
decontXcounts.Rd: SingleCellExperiment-class, assay, assay<-
factorizeMatrix.Rd: SingleCellExperiment-class, assay, altExp
featureModuleLookup.Rd: SingleCellExperiment-class, altExp
featureModuleTable.Rd: SingleCellExperiment-class, assay, altExp
geneSetEnrich.Rd: SingleCellExperiment-class, assay, altExp
logLikelihood.Rd: SingleCellExperiment-class, assay, altExp
logLikelihoodHistory.Rd: SingleCellExperiment-class, altExp
moduleHeatmap.Rd: SingleCellExperiment-class, assay, altExp
perplexity.Rd: SingleCellExperiment-class, assay, altExp
plotCeldaViolin.Rd: SingleCellExperiment-class, assay, altExp
plotDecontXContamination.Rd: SingleCellExperiment-class
plotDecontXMarkerExpression.Rd: SingleCellExperiment-class
plotDecontXMarkerPercentage.Rd: SingleCellExperiment-class
plotDimReduceCluster.Rd: SingleCellExperiment-class, altExp
plotDimReduceFeature.Rd: SingleCellExperiment-class, assay, altExp,
scale_colour_gradient2
plotDimReduceGrid.Rd: SingleCellExperiment-class, assay, altExp,
scale_colour_gradient2
plotDimReduceModule.Rd: SingleCellExperiment-class, assay, altExp,
scale_colour_gradient
plotGridSearchPerplexity.Rd: SingleCellExperiment-class, altExp,
geom_jitter
plotRPC.Rd: SingleCellExperiment-class, altExp, geom_jitter
recodeClusterY.Rd: SingleCellExperiment-class, rowData, altExp
recodeClusterZ.Rd: SingleCellExperiment-class, colData, altExp
recursiveSplitCell.Rd: SingleCellExperiment-class, assay, altExp,
metadata
recursiveSplitModule.Rd: SingleCellExperiment-class, assay, altExp,
metadata
reorderCelda.Rd: SingleCellExperiment-class, assay, altExp
reportceldaCG.Rd: SingleCellExperiment-class, altExp, assay
resList.Rd: SingleCellExperiment-class, altExp
resamplePerplexity.Rd: SingleCellExperiment-class, assay, altExp
retrieveFeatureIndex.Rd: SummarizedExperiment-class,
SingleCellExperiment-class
runParams.Rd: SingleCellExperiment-class, altExp
sampleLabel.Rd: SingleCellExperiment-class, altExp
sceCeldaC.Rd: SingleCellExperiment-class
sceCeldaCG.Rd: SingleCellExperiment-class
sceCeldaCGGridSearch.Rd: SingleCellExperiment-class
sceCeldaG.Rd: SingleCellExperiment-class
selectBestModel.Rd: SingleCellExperiment-class, altExp, metadata
selectFeatures.Rd: SingleCellExperiment-class, altExp, assay,
metadata
simulateCells.Rd: SingleCellExperiment-class, metadata, colData,
rowData
splitModule.Rd: SingleCellExperiment-class, assay, altExp, rowData
subsetCeldaList.Rd: SingleCellExperiment-class, altExp, metadata
Please provide package anchors for all Rd \link{} targets not in the
package itself and the base packages.
* checking for missing documentation entries ... OK
* checking for code/documentation mismatches ... OK
* checking Rd \usage sections ... OK
* checking Rd contents ... OK
* checking for unstated dependencies in examples ... OK
* checking contents of ‘data’ directory ... OK
* checking data for non-ASCII characters ... OK
* checking LazyData ... OK
* checking data for ASCII and uncompressed saves ... OK
* checking line endings in C/C++/Fortran sources/headers ... OK
* checking line endings in Makefiles ... OK
* checking compilation flags in Makevars ... OK
* checking for GNU extensions in Makefiles ... OK
* checking for portable use of $(BLAS_LIBS) and $(LAPACK_LIBS) ... OK
* checking use of PKG_*FLAGS in Makefiles ... OK
* checking compiled code ... NOTE
Note: information on .o files is not available
* checking files in ‘vignettes’ ... OK
* checking examples ... OK
Examples with CPU (user + system) or elapsed time > 5s
user system elapsed
geneSetEnrich 34.905 0.573 52.064
plotDimReduceGrid 17.023 0.238 17.356
plotMarkerHeatmap 15.974 0.284 16.370
plotDendro 15.536 0.249 15.841
findMarkersTree 15.414 0.271 15.771
recursiveSplitCell 14.286 0.271 14.680
decontX 10.590 0.155 10.807
recursiveSplitModule 9.781 0.200 10.097
plotDimReduceModule 6.592 0.141 6.778
plotDimReduceFeature 5.170 0.124 5.336
plotDimReduceCluster 5.106 0.127 5.263
sceCeldaCGGridSearch 0.293 0.012 46.504
* checking for unstated dependencies in ‘tests’ ... OK
* checking tests ...
Running ‘testthat.R’
OK
* checking for unstated dependencies in vignettes ... OK
* checking package vignettes ... OK
* checking running R code from vignettes ... SKIPPED
* checking re-building of vignette outputs ... SKIPPED
* checking PDF version of manual ... OK
* DONE
Status: 3 NOTEs
See
‘/Users/biocbuild/bbs-3.21-bioc/meat/celda.Rcheck/00check.log’
for details.
celda.Rcheck/00install.out
##############################################################################
##############################################################################
###
### Running command:
###
### /Library/Frameworks/R.framework/Resources/bin/R CMD INSTALL celda
###
##############################################################################
##############################################################################
* installing to library ‘/Library/Frameworks/R.framework/Versions/4.5-x86_64/Resources/library’
* installing *source* package ‘celda’ ...
** this is package ‘celda’ version ‘1.24.0’
** using staged installation
** libs
using C compiler: ‘Apple clang version 14.0.0 (clang-1400.0.29.202)’
using C++ compiler: ‘Apple clang version 14.0.0 (clang-1400.0.29.202)’
using SDK: ‘MacOSX11.3.sdk’
clang++ -arch x86_64 -std=gnu++17 -I"/Library/Frameworks/R.framework/Resources/include" -DNDEBUG -I'/Library/Frameworks/R.framework/Versions/4.5-x86_64/Resources/library/Rcpp/include' -I'/Library/Frameworks/R.framework/Versions/4.5-x86_64/Resources/library/RcppEigen/include' -I/opt/R/x86_64/include -fPIC -falign-functions=64 -Wall -g -O2 -c DecontX.cpp -o DecontX.o
DecontX.cpp:321:10: warning: variable 'x' set but not used [-Wunused-but-set-variable]
double x;
^
1 warning generated.
clang++ -arch x86_64 -std=gnu++17 -I"/Library/Frameworks/R.framework/Resources/include" -DNDEBUG -I'/Library/Frameworks/R.framework/Versions/4.5-x86_64/Resources/library/Rcpp/include' -I'/Library/Frameworks/R.framework/Versions/4.5-x86_64/Resources/library/RcppEigen/include' -I/opt/R/x86_64/include -fPIC -falign-functions=64 -Wall -g -O2 -c RcppExports.cpp -o RcppExports.o
clang++ -arch x86_64 -std=gnu++17 -I"/Library/Frameworks/R.framework/Resources/include" -DNDEBUG -I'/Library/Frameworks/R.framework/Versions/4.5-x86_64/Resources/library/Rcpp/include' -I'/Library/Frameworks/R.framework/Versions/4.5-x86_64/Resources/library/RcppEigen/include' -I/opt/R/x86_64/include -fPIC -falign-functions=64 -Wall -g -O2 -c cG_calcGibbsProbY.cpp -o cG_calcGibbsProbY.o
clang++ -arch x86_64 -std=gnu++17 -I"/Library/Frameworks/R.framework/Resources/include" -DNDEBUG -I'/Library/Frameworks/R.framework/Versions/4.5-x86_64/Resources/library/Rcpp/include' -I'/Library/Frameworks/R.framework/Versions/4.5-x86_64/Resources/library/RcppEigen/include' -I/opt/R/x86_64/include -fPIC -falign-functions=64 -Wall -g -O2 -c eigenMatMultInt.cpp -o eigenMatMultInt.o
clang++ -arch x86_64 -std=gnu++17 -I"/Library/Frameworks/R.framework/Resources/include" -DNDEBUG -I'/Library/Frameworks/R.framework/Versions/4.5-x86_64/Resources/library/Rcpp/include' -I'/Library/Frameworks/R.framework/Versions/4.5-x86_64/Resources/library/RcppEigen/include' -I/opt/R/x86_64/include -fPIC -falign-functions=64 -Wall -g -O2 -c matrixNorm.cpp -o matrixNorm.o
clang -arch x86_64 -I"/Library/Frameworks/R.framework/Resources/include" -DNDEBUG -I'/Library/Frameworks/R.framework/Versions/4.5-x86_64/Resources/library/Rcpp/include' -I'/Library/Frameworks/R.framework/Versions/4.5-x86_64/Resources/library/RcppEigen/include' -I/opt/R/x86_64/include -fPIC -falign-functions=64 -Wall -g -O2 -c matrixSums.c -o matrixSums.o
clang++ -arch x86_64 -std=gnu++17 -I"/Library/Frameworks/R.framework/Resources/include" -DNDEBUG -I'/Library/Frameworks/R.framework/Versions/4.5-x86_64/Resources/library/Rcpp/include' -I'/Library/Frameworks/R.framework/Versions/4.5-x86_64/Resources/library/RcppEigen/include' -I/opt/R/x86_64/include -fPIC -falign-functions=64 -Wall -g -O2 -c matrixSumsSparse.cpp -o matrixSumsSparse.o
clang -arch x86_64 -I"/Library/Frameworks/R.framework/Resources/include" -DNDEBUG -I'/Library/Frameworks/R.framework/Versions/4.5-x86_64/Resources/library/Rcpp/include' -I'/Library/Frameworks/R.framework/Versions/4.5-x86_64/Resources/library/RcppEigen/include' -I/opt/R/x86_64/include -fPIC -falign-functions=64 -Wall -g -O2 -c perplexity.c -o perplexity.o
clang++ -arch x86_64 -std=gnu++17 -dynamiclib -Wl,-headerpad_max_install_names -undefined dynamic_lookup -L/Library/Frameworks/R.framework/Resources/lib -L/opt/R/x86_64/lib -o celda.so DecontX.o RcppExports.o cG_calcGibbsProbY.o eigenMatMultInt.o matrixNorm.o matrixSums.o matrixSumsSparse.o perplexity.o -L/Library/Frameworks/R.framework/Resources/lib -lRlapack -L/Library/Frameworks/R.framework/Resources/lib -lRblas -L/opt/gfortran/lib/gcc/x86_64-apple-darwin20.0/14.2.0 -L/opt/gfortran/lib -lemutls_w -lheapt_w -lgfortran -lquadmath -F/Library/Frameworks/R.framework/.. -framework R
installing to /Library/Frameworks/R.framework/Versions/4.5-x86_64/Resources/library/00LOCK-celda/00new/celda/libs
** R
** data
*** moving datasets to lazyload DB
** inst
** byte-compile and prepare package for lazy loading
** help
*** installing help indices
** building package indices
** installing vignettes
** testing if installed package can be loaded from temporary location
** checking absolute paths in shared objects and dynamic libraries
** testing if installed package can be loaded from final location
** testing if installed package keeps a record of temporary installation path
* DONE (celda)
celda.Rcheck/tests/testthat.Rout
R version 4.5.0 RC (2025-04-04 r88126) -- "How About a Twenty-Six"
Copyright (C) 2025 The R Foundation for Statistical Computing
Platform: x86_64-apple-darwin20
R is free software and comes with ABSOLUTELY NO WARRANTY.
You are welcome to redistribute it under certain conditions.
Type 'license()' or 'licence()' for distribution details.
R is a collaborative project with many contributors.
Type 'contributors()' for more information and
'citation()' on how to cite R or R packages in publications.
Type 'demo()' for some demos, 'help()' for on-line help, or
'help.start()' for an HTML browser interface to help.
Type 'q()' to quit R.
> Sys.unsetenv("R_TESTS")
> library(testthat)
> test_check("celda")
Loading required package: celda
Loading required package: SingleCellExperiment
Loading required package: SummarizedExperiment
Loading required package: MatrixGenerics
Loading required package: matrixStats
Attaching package: 'MatrixGenerics'
The following objects are masked from 'package:matrixStats':
colAlls, colAnyNAs, colAnys, colAvgsPerRowSet, colCollapse,
colCounts, colCummaxs, colCummins, colCumprods, colCumsums,
colDiffs, colIQRDiffs, colIQRs, colLogSumExps, colMadDiffs,
colMads, colMaxs, colMeans2, colMedians, colMins, colOrderStats,
colProds, colQuantiles, colRanges, colRanks, colSdDiffs, colSds,
colSums2, colTabulates, colVarDiffs, colVars, colWeightedMads,
colWeightedMeans, colWeightedMedians, colWeightedSds,
colWeightedVars, rowAlls, rowAnyNAs, rowAnys, rowAvgsPerColSet,
rowCollapse, rowCounts, rowCummaxs, rowCummins, rowCumprods,
rowCumsums, rowDiffs, rowIQRDiffs, rowIQRs, rowLogSumExps,
rowMadDiffs, rowMads, rowMaxs, rowMeans2, rowMedians, rowMins,
rowOrderStats, rowProds, rowQuantiles, rowRanges, rowRanks,
rowSdDiffs, rowSds, rowSums2, rowTabulates, rowVarDiffs, rowVars,
rowWeightedMads, rowWeightedMeans, rowWeightedMedians,
rowWeightedSds, rowWeightedVars
Loading required package: GenomicRanges
Loading required package: stats4
Loading required package: BiocGenerics
Loading required package: generics
Attaching package: 'generics'
The following objects are masked from 'package:base':
as.difftime, as.factor, as.ordered, intersect, is.element, setdiff,
setequal, union
Attaching package: 'BiocGenerics'
The following objects are masked from 'package:stats':
IQR, mad, sd, var, xtabs
The following objects are masked from 'package:base':
Filter, Find, Map, Position, Reduce, anyDuplicated, aperm, append,
as.data.frame, basename, cbind, colnames, dirname, do.call,
duplicated, eval, evalq, get, grep, grepl, is.unsorted, lapply,
mapply, match, mget, order, paste, pmax, pmax.int, pmin, pmin.int,
rank, rbind, rownames, sapply, saveRDS, table, tapply, unique,
unsplit, which.max, which.min
Loading required package: S4Vectors
Attaching package: 'S4Vectors'
The following object is masked from 'package:utils':
findMatches
The following objects are masked from 'package:base':
I, expand.grid, unname
Loading required package: IRanges
Loading required package: GenomeInfoDb
Loading required package: Biobase
Welcome to Bioconductor
Vignettes contain introductory material; view with
'browseVignettes()'. To cite Bioconductor, see
'citation("Biobase")', and for packages 'citation("pkgname")'.
Attaching package: 'Biobase'
The following object is masked from 'package:MatrixGenerics':
rowMedians
The following objects are masked from 'package:matrixStats':
anyMissing, rowMedians
Loading required package: Matrix
Attaching package: 'Matrix'
The following object is masked from 'package:S4Vectors':
expand
Attaching package: 'celda'
The following object is masked from 'package:S4Vectors':
params
[ FAIL 0 | WARN 1 | SKIP 2 | PASS 101 ]
══ Skipped tests (2) ═══════════════════════════════════════════════════════════
• empty test (2): 'test-decon.R:27:1', 'test-decon.R:48:1'
[ FAIL 0 | WARN 1 | SKIP 2 | PASS 101 ]
>
> proc.time()
user system elapsed
68.698 1.466 81.195
celda.Rcheck/celda-Ex.timings
| name | user | system | elapsed | |
| appendCeldaList | 0.035 | 0.004 | 0.038 | |
| bestLogLikelihood | 0.107 | 0.005 | 0.113 | |
| celda | 0.001 | 0.000 | 0.001 | |
| celdaClusters | 0.053 | 0.010 | 0.063 | |
| celdaGridSearch | 0.000 | 0.000 | 0.001 | |
| celdaHeatmap | 0.575 | 0.014 | 0.592 | |
| celdaModel | 0.072 | 0.002 | 0.075 | |
| celdaModules | 0.059 | 0.003 | 0.062 | |
| celdaPerplexity-celdaList-method | 0.002 | 0.003 | 0.005 | |
| celdaPerplexity | 0.002 | 0.002 | 0.004 | |
| celdaProbabilityMap | 3.230 | 0.100 | 3.346 | |
| celdaTsne | 2.369 | 0.075 | 2.460 | |
| celdaUmap | 3.479 | 0.069 | 3.590 | |
| celda_C | 0.461 | 0.006 | 0.469 | |
| celda_CG | 4.623 | 0.092 | 4.748 | |
| celda_G | 2.984 | 0.029 | 3.027 | |
| celdatosce | 0.730 | 0.016 | 0.748 | |
| clusterProbability | 0.339 | 0.010 | 0.348 | |
| compareCountMatrix | 0.009 | 0.005 | 0.014 | |
| countChecksum-celdaList-method | 0.003 | 0.002 | 0.004 | |
| countChecksum | 0.003 | 0.002 | 0.004 | |
| decontX | 10.590 | 0.155 | 10.807 | |
| distinctColors | 0.000 | 0.000 | 0.001 | |
| factorizeMatrix | 0.272 | 0.012 | 0.285 | |
| featureModuleLookup | 0.189 | 0.004 | 0.194 | |
| featureModuleTable | 0.297 | 0.006 | 0.305 | |
| findMarkersTree | 15.414 | 0.271 | 15.771 | |
| geneSetEnrich | 34.905 | 0.573 | 52.064 | |
| logLikelihood | 0.638 | 0.015 | 0.657 | |
| logLikelihoodHistory | 0.046 | 0.005 | 0.052 | |
| matrixNames | 0.003 | 0.005 | 0.007 | |
| moduleHeatmap | 4.404 | 0.071 | 4.501 | |
| normalizeCounts | 0.002 | 0.002 | 0.004 | |
| params | 0.001 | 0.002 | 0.004 | |
| perplexity | 0.517 | 0.017 | 0.536 | |
| plotCeldaViolin | 0.772 | 0.017 | 0.793 | |
| plotDendro | 15.536 | 0.249 | 15.841 | |
| plotDimReduceCluster | 5.106 | 0.127 | 5.263 | |
| plotDimReduceFeature | 5.170 | 0.124 | 5.336 | |
| plotDimReduceGrid | 17.023 | 0.238 | 17.356 | |
| plotDimReduceModule | 6.592 | 0.141 | 6.778 | |
| plotGridSearchPerplexity | 0.788 | 0.015 | 0.808 | |
| plotHeatmap | 0.123 | 0.004 | 0.126 | |
| plotMarkerHeatmap | 15.974 | 0.284 | 16.370 | |
| plotRPC | 0.667 | 0.013 | 0.687 | |
| recodeClusterY | 0.220 | 0.009 | 0.230 | |
| recodeClusterZ | 0.248 | 0.005 | 0.256 | |
| recursiveSplitCell | 14.286 | 0.271 | 14.680 | |
| recursiveSplitModule | 9.781 | 0.200 | 10.097 | |
| reorderCelda | 1.292 | 0.026 | 1.332 | |
| reportceldaCG | 0.001 | 0.001 | 0.002 | |
| resList | 0.042 | 0.003 | 0.046 | |
| resamplePerplexity | 0.644 | 0.025 | 0.678 | |
| retrieveFeatureIndex | 0.002 | 0.002 | 0.003 | |
| runParams | 0.047 | 0.003 | 0.051 | |
| sampleLabel | 0.053 | 0.007 | 0.059 | |
| sceCeldaC | 0.320 | 0.007 | 0.329 | |
| sceCeldaCG | 3.598 | 0.089 | 3.735 | |
| sceCeldaCGGridSearch | 0.293 | 0.012 | 46.504 | |
| sceCeldaG | 0.792 | 0.012 | 0.809 | |
| selectBestModel | 0.184 | 0.006 | 0.193 | |
| selectFeatures | 0.278 | 0.010 | 0.291 | |
| simulateCells | 0.190 | 0.002 | 0.193 | |
| simulateContamination | 0.008 | 0.000 | 0.008 | |
| splitModule | 0.231 | 0.004 | 0.238 | |
| subsetCeldaList | 0.356 | 0.013 | 0.371 | |
| topRank | 0.002 | 0.003 | 0.004 | |