| Back to Multiple platform build/check report for BioC 3.21: simplified long |
|
This page was generated on 2025-08-18 11:41 -0400 (Mon, 18 Aug 2025).
| Hostname | OS | Arch (*) | R version | Installed pkgs |
|---|---|---|---|---|
| nebbiolo1 | Linux (Ubuntu 24.04.3 LTS) | x86_64 | 4.5.1 (2025-06-13) -- "Great Square Root" | 4824 |
| palomino7 | Windows Server 2022 Datacenter | x64 | 4.5.1 (2025-06-13 ucrt) -- "Great Square Root" | 4566 |
| merida1 | macOS 12.7.5 Monterey | x86_64 | 4.5.1 RC (2025-06-05 r88288) -- "Great Square Root" | 4604 |
| kjohnson1 | macOS 13.6.6 Ventura | arm64 | 4.5.1 Patched (2025-06-14 r88325) -- "Great Square Root" | 4545 |
| kunpeng2 | Linux (openEuler 24.03 LTS) | aarch64 | R Under development (unstable) (2025-02-19 r87757) -- "Unsuffered Consequences" | 4579 |
| Click on any hostname to see more info about the system (e.g. compilers) (*) as reported by 'uname -p', except on Windows and Mac OS X | ||||
| Package 316/2341 | Hostname | OS / Arch | INSTALL | BUILD | CHECK | BUILD BIN | ||||||||
| ceRNAnetsim 1.20.0 (landing page) Selcen Ari Yuka
| nebbiolo1 | Linux (Ubuntu 24.04.3 LTS) / x86_64 | OK | OK | OK | |||||||||
| palomino7 | Windows Server 2022 Datacenter / x64 | OK | OK | OK | OK | |||||||||
| merida1 | macOS 12.7.5 Monterey / x86_64 | OK | OK | OK | OK | |||||||||
| kjohnson1 | macOS 13.6.6 Ventura / arm64 | OK | OK | OK | OK | |||||||||
| kunpeng2 | Linux (openEuler 24.03 LTS) / aarch64 | OK | OK | OK | ||||||||||
|
To the developers/maintainers of the ceRNAnetsim package: - Allow up to 24 hours (and sometimes 48 hours) for your latest push to git@git.bioconductor.org:packages/ceRNAnetsim.git to reflect on this report. See Troubleshooting Build Report for more information. - Use the following Renviron settings to reproduce errors and warnings. - If 'R CMD check' started to fail recently on the Linux builder(s) over a missing dependency, add the missing dependency to 'Suggests:' in your DESCRIPTION file. See Renviron.bioc for more information. |
| Package: ceRNAnetsim |
| Version: 1.20.0 |
| Command: E:\biocbuild\bbs-3.21-bioc\R\bin\R.exe CMD check --no-multiarch --install=check:ceRNAnetsim.install-out.txt --library=E:\biocbuild\bbs-3.21-bioc\R\library --no-vignettes --timings ceRNAnetsim_1.20.0.tar.gz |
| StartedAt: 2025-08-15 00:27:21 -0400 (Fri, 15 Aug 2025) |
| EndedAt: 2025-08-15 00:29:55 -0400 (Fri, 15 Aug 2025) |
| EllapsedTime: 154.1 seconds |
| RetCode: 0 |
| Status: OK |
| CheckDir: ceRNAnetsim.Rcheck |
| Warnings: 0 |
##############################################################################
##############################################################################
###
### Running command:
###
### E:\biocbuild\bbs-3.21-bioc\R\bin\R.exe CMD check --no-multiarch --install=check:ceRNAnetsim.install-out.txt --library=E:\biocbuild\bbs-3.21-bioc\R\library --no-vignettes --timings ceRNAnetsim_1.20.0.tar.gz
###
##############################################################################
##############################################################################
* using log directory 'E:/biocbuild/bbs-3.21-bioc/meat/ceRNAnetsim.Rcheck'
* using R version 4.5.1 (2025-06-13 ucrt)
* using platform: x86_64-w64-mingw32
* R was compiled by
gcc.exe (GCC) 14.2.0
GNU Fortran (GCC) 14.2.0
* running under: Windows Server 2022 x64 (build 20348)
* using session charset: UTF-8
* using option '--no-vignettes'
* checking for file 'ceRNAnetsim/DESCRIPTION' ... OK
* checking extension type ... Package
* this is package 'ceRNAnetsim' version '1.20.0'
* package encoding: UTF-8
* checking package namespace information ... OK
* checking package dependencies ... OK
* checking if this is a source package ... OK
* checking if there is a namespace ... OK
* checking for hidden files and directories ... OK
* checking for portable file names ... OK
* checking whether package 'ceRNAnetsim' can be installed ... OK
* checking installed package size ... OK
* checking package directory ... OK
* checking 'build' directory ... OK
* checking DESCRIPTION meta-information ... OK
* checking top-level files ... OK
* checking for left-over files ... OK
* checking index information ... OK
* checking package subdirectories ... OK
* checking code files for non-ASCII characters ... OK
* checking R files for syntax errors ... OK
* checking whether the package can be loaded ... OK
* checking whether the package can be loaded with stated dependencies ... OK
* checking whether the package can be unloaded cleanly ... OK
* checking whether the namespace can be loaded with stated dependencies ... OK
* checking whether the namespace can be unloaded cleanly ... OK
* checking dependencies in R code ... OK
* checking S3 generic/method consistency ... OK
* checking replacement functions ... OK
* checking foreign function calls ... OK
* checking R code for possible problems ... NOTE
find_node_perturbation: no visible binding for global variable
'perturbation_efficiency'
find_node_perturbation: no visible binding for global variable
'perturbed_count'
simulate: no visible binding for global variable 'avg_count_current'
simulate: no visible binding for global variable 'avg_count_pre'
Undefined global functions or variables:
avg_count_current avg_count_pre perturbation_efficiency
perturbed_count
* checking Rd files ... OK
* checking Rd metadata ... OK
* checking Rd cross-references ... OK
* checking for missing documentation entries ... OK
* checking for code/documentation mismatches ... OK
* checking Rd \usage sections ... OK
* checking Rd contents ... OK
* checking for unstated dependencies in examples ... OK
* checking contents of 'data' directory ... OK
* checking data for non-ASCII characters ... OK
* checking data for ASCII and uncompressed saves ... OK
* checking files in 'vignettes' ... OK
* checking examples ... OK
Examples with CPU (user + system) or elapsed time > 5s
user system elapsed
find_node_perturbation 12.31 0.09 12.40
find_targeting_nodes 7.97 0.04 8.00
simulate_vis 7.29 0.07 7.38
* checking for unstated dependencies in 'tests' ... OK
* checking tests ...
Running 'testthat.R'
OK
* checking for unstated dependencies in vignettes ... OK
* checking package vignettes ... OK
* checking running R code from vignettes ... SKIPPED
* checking re-building of vignette outputs ... SKIPPED
* checking PDF version of manual ... OK
* DONE
Status: 1 NOTE
See
'E:/biocbuild/bbs-3.21-bioc/meat/ceRNAnetsim.Rcheck/00check.log'
for details.
ceRNAnetsim.Rcheck/00install.out
############################################################################## ############################################################################## ### ### Running command: ### ### E:\biocbuild\bbs-3.21-bioc\R\bin\R.exe CMD INSTALL ceRNAnetsim ### ############################################################################## ############################################################################## * installing to library 'E:/biocbuild/bbs-3.21-bioc/R/library' * installing *source* package 'ceRNAnetsim' ... ** this is package 'ceRNAnetsim' version '1.20.0' ** using staged installation ** R ** data ** inst ** byte-compile and prepare package for lazy loading ** help *** installing help indices ** building package indices ** installing vignettes ** testing if installed package can be loaded from temporary location ** testing if installed package can be loaded from final location ** testing if installed package keeps a record of temporary installation path * DONE (ceRNAnetsim)
ceRNAnetsim.Rcheck/tests/testthat.Rout
R version 4.5.1 (2025-06-13 ucrt) -- "Great Square Root"
Copyright (C) 2025 The R Foundation for Statistical Computing
Platform: x86_64-w64-mingw32/x64
R is free software and comes with ABSOLUTELY NO WARRANTY.
You are welcome to redistribute it under certain conditions.
Type 'license()' or 'licence()' for distribution details.
R is a collaborative project with many contributors.
Type 'contributors()' for more information and
'citation()' on how to cite R or R packages in publications.
Type 'demo()' for some demos, 'help()' for on-line help, or
'help.start()' for an HTML browser interface to help.
Type 'q()' to quit R.
> library(testthat)
> library(ceRNAnetsim)
Loading required package: dplyr
Attaching package: 'dplyr'
The following object is masked from 'package:testthat':
matches
The following objects are masked from 'package:stats':
filter, lag
The following objects are masked from 'package:base':
intersect, setdiff, setequal, union
Loading required package: tidygraph
Attaching package: 'tidygraph'
The following object is masked from 'package:testthat':
matches
The following object is masked from 'package:stats':
filter
Attaching package: 'ceRNAnetsim'
The following object is masked from 'package:stats':
simulate
>
>
> test_check("ceRNAnetsim")
[ FAIL 0 | WARN 35 | SKIP 0 | PASS 37 ]
[ FAIL 0 | WARN 35 | SKIP 0 | PASS 37 ]
>
> proc.time()
user system elapsed
43.23 0.70 43.95
ceRNAnetsim.Rcheck/ceRNAnetsim-Ex.timings
| name | user | system | elapsed | |
| calc_perturbation | 1.72 | 0.00 | 1.72 | |
| find_affected_nodes | 0.48 | 0.04 | 0.54 | |
| find_iteration | 1.34 | 0.04 | 1.38 | |
| find_node_perturbation | 12.31 | 0.09 | 12.40 | |
| find_targeting_nodes | 7.97 | 0.04 | 8.00 | |
| priming_graph | 0.53 | 0.00 | 0.53 | |
| simulate | 1.08 | 0.00 | 1.08 | |
| simulate_vis | 7.29 | 0.07 | 7.38 | |
| update_how | 0.80 | 0.00 | 0.79 | |
| update_nodes | 0.28 | 0.00 | 0.29 | |
| update_variables | 0.27 | 0.02 | 0.29 | |
| vis_graph | 1.15 | 0.05 | 1.21 | |