| Back to Multiple platform build/check report for BioC 3.22: simplified long |
|
This page was generated on 2025-11-06 12:00 -0500 (Thu, 06 Nov 2025).
| Hostname | OS | Arch (*) | R version | Installed pkgs |
|---|---|---|---|---|
| nebbiolo2 | Linux (Ubuntu 24.04.3 LTS) | x86_64 | 4.5.1 Patched (2025-08-23 r88802) -- "Great Square Root" | 4902 |
| kjohnson3 | macOS 13.7.7 Ventura | arm64 | 4.5.1 Patched (2025-09-10 r88807) -- "Great Square Root" | 4638 |
| Click on any hostname to see more info about the system (e.g. compilers) (*) as reported by 'uname -p', except on Windows and Mac OS X | ||||
| Package 492/2361 | Hostname | OS / Arch | INSTALL | BUILD | CHECK | BUILD BIN | ||||||||
| cTRAP 1.28.0 (landing page) Nuno Saraiva-Agostinho
| nebbiolo2 | Linux (Ubuntu 24.04.3 LTS) / x86_64 | OK | OK | OK | |||||||||
| kjohnson3 | macOS 13.7.7 Ventura / arm64 | OK | OK | OK | OK | |||||||||
|
To the developers/maintainers of the cTRAP package: - Allow up to 24 hours (and sometimes 48 hours) for your latest push to git@git.bioconductor.org:packages/cTRAP.git to reflect on this report. See Troubleshooting Build Report for more information. - Use the following Renviron settings to reproduce errors and warnings. - If 'R CMD check' started to fail recently on the Linux builder(s) over a missing dependency, add the missing dependency to 'Suggests:' in your DESCRIPTION file. See Renviron.bioc for more information. |
| Package: cTRAP |
| Version: 1.28.0 |
| Command: /Library/Frameworks/R.framework/Resources/bin/R CMD check --install=check:cTRAP.install-out.txt --library=/Library/Frameworks/R.framework/Resources/library --no-vignettes --timings cTRAP_1.28.0.tar.gz |
| StartedAt: 2025-11-05 19:45:52 -0500 (Wed, 05 Nov 2025) |
| EndedAt: 2025-11-05 19:51:51 -0500 (Wed, 05 Nov 2025) |
| EllapsedTime: 359.4 seconds |
| RetCode: 0 |
| Status: OK |
| CheckDir: cTRAP.Rcheck |
| Warnings: 0 |
##############################################################################
##############################################################################
###
### Running command:
###
### /Library/Frameworks/R.framework/Resources/bin/R CMD check --install=check:cTRAP.install-out.txt --library=/Library/Frameworks/R.framework/Resources/library --no-vignettes --timings cTRAP_1.28.0.tar.gz
###
##############################################################################
##############################################################################
* using log directory ‘/Users/biocbuild/bbs-3.22-bioc/meat/cTRAP.Rcheck’
* using R version 4.5.1 Patched (2025-09-10 r88807)
* using platform: aarch64-apple-darwin20
* R was compiled by
Apple clang version 16.0.0 (clang-1600.0.26.6)
GNU Fortran (GCC) 14.2.0
* running under: macOS Ventura 13.7.7
* using session charset: UTF-8
* using option ‘--no-vignettes’
* checking for file ‘cTRAP/DESCRIPTION’ ... OK
* this is package ‘cTRAP’ version ‘1.28.0’
* package encoding: UTF-8
* checking package namespace information ... OK
* checking package dependencies ... INFO
Imports includes 27 non-default packages.
Importing from so many packages makes the package vulnerable to any of
them becoming unavailable. Move as many as possible to Suggests and
use conditionally.
* checking if this is a source package ... OK
* checking if there is a namespace ... OK
* checking for hidden files and directories ... NOTE
Found the following hidden files and directories:
.devcontainer
These were most likely included in error. See section ‘Package
structure’ in the ‘Writing R Extensions’ manual.
* checking for portable file names ... OK
* checking for sufficient/correct file permissions ... OK
* checking whether package ‘cTRAP’ can be installed ... OK
* checking installed package size ... OK
* checking package directory ... OK
* checking DESCRIPTION meta-information ... NOTE
License stub is invalid DCF.
* checking top-level files ... OK
* checking for left-over files ... OK
* checking index information ... OK
* checking package subdirectories ... OK
* checking code files for non-ASCII characters ... OK
* checking R files for syntax errors ... OK
* checking whether the package can be loaded ... OK
* checking whether the package can be loaded with stated dependencies ... OK
* checking whether the package can be unloaded cleanly ... OK
* checking whether the namespace can be loaded with stated dependencies ... OK
* checking whether the namespace can be unloaded cleanly ... OK
* checking dependencies in R code ... OK
* checking S3 generic/method consistency ... OK
* checking replacement functions ... OK
* checking foreign function calls ... OK
* checking R code for possible problems ... NOTE
Found the following possibly unsafe calls:
File ‘cTRAP/R/shinyInterface_session.R’:
assignInNamespace("dataTablesFilter", dt_mod, "DT")
plotComparison: no visible binding for global variable ‘.data’
plotMetricDistribution: no visible binding for global variable ‘.data’
plotSingleCorr: no visible binding for global variable ‘.data’
plotTargetingDrug: no visible binding for global variable ‘.data’
plotTargetingDrugsVSsimilarPerturbations: no visible binding for global
variable ‘.data’
Undefined global functions or variables:
.data
* checking Rd files ... OK
* checking Rd metadata ... OK
* checking Rd cross-references ... OK
* checking for missing documentation entries ... OK
* checking for code/documentation mismatches ... OK
* checking Rd \usage sections ... NOTE
Documented arguments not in \usage in Rd file 'compareWithAllMethods.Rd':
‘rankByAscending’
Functions with \usage entries need to have the appropriate \alias
entries, and all their arguments documented.
The \usage entries must correspond to syntactically valid R code.
See chapter ‘Writing R documentation files’ in the ‘Writing R
Extensions’ manual.
* checking Rd contents ... OK
* checking for unstated dependencies in examples ... OK
* checking contents of ‘data’ directory ... OK
* checking data for non-ASCII characters ... OK
* checking LazyData ... OK
* checking data for ASCII and uncompressed saves ... OK
* checking R/sysdata.rda ... OK
* checking files in ‘vignettes’ ... OK
* checking examples ... OK
Examples with CPU (user + system) or elapsed time > 5s
user system elapsed
plotDrugSetEnrichment 87.638 1.022 90.939
plot.referenceComparison 8.045 0.571 8.782
convertGeneIdentifiers 6.871 0.752 8.312
analyseDrugSetEnrichment 5.873 0.719 43.323
plot.perturbationChanges 4.991 0.283 5.364
downloadENCODEknockdownMetadata 2.309 0.289 58.815
* checking for unstated dependencies in ‘tests’ ... OK
* checking tests ...
Running ‘spelling.R’
Running ‘testthat.R’
OK
* checking for unstated dependencies in vignettes ... OK
* checking package vignettes ... OK
* checking running R code from vignettes ... SKIPPED
* checking re-building of vignette outputs ... SKIPPED
* checking PDF version of manual ... OK
* DONE
Status: 4 NOTEs
See
‘/Users/biocbuild/bbs-3.22-bioc/meat/cTRAP.Rcheck/00check.log’
for details.
cTRAP.Rcheck/00install.out
############################################################################## ############################################################################## ### ### Running command: ### ### /Library/Frameworks/R.framework/Resources/bin/R CMD INSTALL cTRAP ### ############################################################################## ############################################################################## * installing to library ‘/Library/Frameworks/R.framework/Versions/4.5-arm64/Resources/library’ * installing *source* package ‘cTRAP’ ... ** this is package ‘cTRAP’ version ‘1.28.0’ ** using staged installation ** R ** data *** moving datasets to lazyload DB ** inst ** byte-compile and prepare package for lazy loading ** help *** installing help indices ** building package indices ** installing vignettes ** testing if installed package can be loaded from temporary location ** testing if installed package can be loaded from final location ** testing if installed package keeps a record of temporary installation path * DONE (cTRAP)
cTRAP.Rcheck/tests/spelling.Rout
R version 4.5.1 Patched (2025-09-10 r88807) -- "Great Square Root"
Copyright (C) 2025 The R Foundation for Statistical Computing
Platform: aarch64-apple-darwin20
R is free software and comes with ABSOLUTELY NO WARRANTY.
You are welcome to redistribute it under certain conditions.
Type 'license()' or 'licence()' for distribution details.
R is a collaborative project with many contributors.
Type 'contributors()' for more information and
'citation()' on how to cite R or R packages in publications.
Type 'demo()' for some demos, 'help()' for on-line help, or
'help.start()' for an HTML browser interface to help.
Type 'q()' to quit R.
> if(requireNamespace('spelling', quietly = TRUE))
+ spelling::spell_check_test(vignettes = TRUE, error = FALSE,
+ skip_on_cran = TRUE)
All Done!
>
> proc.time()
user system elapsed
0.065 0.018 0.080
cTRAP.Rcheck/tests/testthat.Rout
R version 4.5.1 Patched (2025-09-10 r88807) -- "Great Square Root"
Copyright (C) 2025 The R Foundation for Statistical Computing
Platform: aarch64-apple-darwin20
R is free software and comes with ABSOLUTELY NO WARRANTY.
You are welcome to redistribute it under certain conditions.
Type 'license()' or 'licence()' for distribution details.
R is a collaborative project with many contributors.
Type 'contributors()' for more information and
'citation()' on how to cite R or R packages in publications.
Type 'demo()' for some demos, 'help()' for on-line help, or
'help.start()' for an HTML browser interface to help.
Type 'q()' to quit R.
> library(testthat)
> library(cTRAP)
>
> test_check("cTRAP")
trying URL 'https://compbio.imm.medicina.ulisboa.pt/public/cTRAP/expressionDrugSensitivityCorGDSC7.qs'
downloaded 31.6 MB
trying URL 'https://compbio.imm.medicina.ulisboa.pt/public/cTRAP/compound_descriptors_NCI60_2D.qs'
downloaded 2.1 MB
[ FAIL 0 | WARN 0 | SKIP 2 | PASS 243 ]
══ Skipped tests (2) ═══════════════════════════════════════════════════════════
• On Bioconductor (1): 'test_ENCODE.R:16:5'
• empty test (1): 'test_drugSetEnrichment.R:88:1'
[ FAIL 0 | WARN 0 | SKIP 2 | PASS 243 ]
>
> proc.time()
user system elapsed
23.423 2.805 57.931
cTRAP.Rcheck/cTRAP-Ex.timings
| name | user | system | elapsed | |
| analyseDrugSetEnrichment | 5.873 | 0.719 | 43.323 | |
| convertGeneIdentifiers | 6.871 | 0.752 | 8.312 | |
| downloadENCODEknockdownMetadata | 2.309 | 0.289 | 58.815 | |
| filterCMapMetadata | 3.576 | 0.169 | 4.003 | |
| getCMapConditions | 0.001 | 0.000 | 0.002 | |
| getCMapPerturbationTypes | 0 | 0 | 0 | |
| listExpressionDrugSensitivityAssociation | 0 | 0 | 0 | |
| loadCMapData | 1.604 | 0.085 | 1.490 | |
| loadCMapZscores | 1.256 | 0.071 | 0.878 | |
| loadDrugDescriptors | 0.026 | 0.004 | 0.035 | |
| loadENCODEsamples | 0 | 0 | 0 | |
| loadExpressionDrugSensitivityAssociation | 0.188 | 0.211 | 0.418 | |
| parseCMapID | 0 | 0 | 0 | |
| performDifferentialExpression | 0.000 | 0.000 | 0.001 | |
| plot.perturbationChanges | 4.991 | 0.283 | 5.364 | |
| plot.referenceComparison | 8.045 | 0.571 | 8.782 | |
| plotDrugSetEnrichment | 87.638 | 1.022 | 90.939 | |
| plotTargetingDrugsVSsimilarPerturbations | 2.788 | 0.563 | 3.375 | |
| predictTargetingDrugs | 1.597 | 0.353 | 1.983 | |
| prepareCMapPerturbations | 2.004 | 0.070 | 1.583 | |
| prepareDrugSets | 1.913 | 1.427 | 3.372 | |
| prepareENCODEgeneExpression | 0 | 0 | 0 | |
| rankSimilarPerturbations | 0.815 | 0.062 | 0.878 | |