| Back to Multiple platform build/check report for BioC 3.22: simplified long |
|
This page was generated on 2025-10-31 12:02 -0400 (Fri, 31 Oct 2025).
| Hostname | OS | Arch (*) | R version | Installed pkgs |
|---|---|---|---|---|
| nebbiolo2 | Linux (Ubuntu 24.04.3 LTS) | x86_64 | 4.5.1 Patched (2025-08-23 r88802) -- "Great Square Root" | 4901 |
| lconway | macOS 12.7.6 Monterey | x86_64 | 4.5.1 Patched (2025-09-10 r88807) -- "Great Square Root" | 4691 |
| kjohnson3 | macOS 13.7.7 Ventura | arm64 | 4.5.1 Patched (2025-09-10 r88807) -- "Great Square Root" | 4637 |
| Click on any hostname to see more info about the system (e.g. compilers) (*) as reported by 'uname -p', except on Windows and Mac OS X | ||||
| Package 234/2361 | Hostname | OS / Arch | INSTALL | BUILD | CHECK | BUILD BIN | ||||||||
| blase 1.0.0 (landing page) Andrew McCluskey
| nebbiolo2 | Linux (Ubuntu 24.04.3 LTS) / x86_64 | OK | OK | OK | |||||||||
| lconway | macOS 12.7.6 Monterey / x86_64 | OK | OK | OK | OK | |||||||||
| kjohnson3 | macOS 13.7.7 Ventura / arm64 | OK | OK | OK | OK | |||||||||
|
To the developers/maintainers of the blase package: - Allow up to 24 hours (and sometimes 48 hours) for your latest push to git@git.bioconductor.org:packages/blase.git to reflect on this report. See Troubleshooting Build Report for more information. - Use the following Renviron settings to reproduce errors and warnings. - If 'R CMD check' started to fail recently on the Linux builder(s) over a missing dependency, add the missing dependency to 'Suggests:' in your DESCRIPTION file. See Renviron.bioc for more information. |
| Package: blase |
| Version: 1.0.0 |
| Command: /home/biocbuild/bbs-3.22-bioc/R/bin/R CMD check --install=check:blase.install-out.txt --library=/home/biocbuild/bbs-3.22-bioc/R/site-library --timings blase_1.0.0.tar.gz |
| StartedAt: 2025-10-30 21:34:18 -0400 (Thu, 30 Oct 2025) |
| EndedAt: 2025-10-30 21:57:14 -0400 (Thu, 30 Oct 2025) |
| EllapsedTime: 1375.5 seconds |
| RetCode: 0 |
| Status: OK |
| CheckDir: blase.Rcheck |
| Warnings: 0 |
##############################################################################
##############################################################################
###
### Running command:
###
### /home/biocbuild/bbs-3.22-bioc/R/bin/R CMD check --install=check:blase.install-out.txt --library=/home/biocbuild/bbs-3.22-bioc/R/site-library --timings blase_1.0.0.tar.gz
###
##############################################################################
##############################################################################
* using log directory ‘/home/biocbuild/bbs-3.22-bioc/meat/blase.Rcheck’
* using R version 4.5.1 Patched (2025-08-23 r88802)
* using platform: x86_64-pc-linux-gnu
* R was compiled by
gcc (Ubuntu 13.3.0-6ubuntu2~24.04) 13.3.0
GNU Fortran (Ubuntu 13.3.0-6ubuntu2~24.04) 13.3.0
* running under: Ubuntu 24.04.3 LTS
* using session charset: UTF-8
* checking for file ‘blase/DESCRIPTION’ ... OK
* this is package ‘blase’ version ‘1.0.0’
* package encoding: UTF-8
* checking package namespace information ... OK
* checking package dependencies ... OK
* checking if this is a source package ... OK
* checking if there is a namespace ... OK
* checking for hidden files and directories ... OK
* checking for portable file names ... OK
* checking for sufficient/correct file permissions ... OK
* checking whether package ‘blase’ can be installed ... OK
* checking installed package size ... INFO
installed size is 5.2Mb
sub-directories of 1Mb or more:
data 4.6Mb
* checking package directory ... OK
* checking ‘build’ directory ... OK
* checking DESCRIPTION meta-information ... OK
* checking top-level files ... OK
* checking for left-over files ... OK
* checking index information ... OK
* checking package subdirectories ... OK
* checking code files for non-ASCII characters ... OK
* checking R files for syntax errors ... OK
* checking whether the package can be loaded ... OK
* checking whether the package can be loaded with stated dependencies ... OK
* checking whether the package can be unloaded cleanly ... OK
* checking whether the namespace can be loaded with stated dependencies ... OK
* checking whether the namespace can be unloaded cleanly ... OK
* checking loading without being on the library search path ... OK
* checking dependencies in R code ... OK
* checking S3 generic/method consistency ... OK
* checking replacement functions ... OK
* checking foreign function calls ... OK
* checking R code for possible problems ... OK
* checking Rd files ... OK
* checking Rd metadata ... OK
* checking Rd cross-references ... NOTE
Non-topic package-anchored link(s) in Rd file 'plot_mapping_result.Rd':
‘[scater:plot_reddim]{scater::plotUMAP()}’
See section 'Cross-references' in the 'Writing R Extensions' manual.
* checking for missing documentation entries ... OK
* checking for code/documentation mismatches ... OK
* checking Rd \usage sections ... OK
* checking Rd contents ... OK
* checking for unstated dependencies in examples ... OK
* checking contents of ‘data’ directory ... OK
* checking data for non-ASCII characters ... OK
* checking data for ASCII and uncompressed saves ... OK
* checking files in ‘vignettes’ ... OK
* checking examples ... OK
Examples with CPU (user + system) or elapsed time > 5s
user system elapsed
plot_gene_peakedness 18.242 0.190 18.432
calculate_gene_peakedness 18.000 0.320 18.321
gene_peakedness_spread_selection 17.380 0.167 17.547
smooth_gene 16.948 0.105 17.053
evaluate_parameters 9.938 0.099 10.038
plot_mapping_result 5.371 0.062 5.450
* checking for unstated dependencies in ‘tests’ ... OK
* checking tests ...
Running ‘testthat.R’
OK
* checking for unstated dependencies in vignettes ... OK
* checking package vignettes ... OK
* checking re-building of vignette outputs ... OK
* checking PDF version of manual ... OK
* DONE
Status: 1 NOTE
See
‘/home/biocbuild/bbs-3.22-bioc/meat/blase.Rcheck/00check.log’
for details.
blase.Rcheck/00install.out
############################################################################## ############################################################################## ### ### Running command: ### ### /home/biocbuild/bbs-3.22-bioc/R/bin/R CMD INSTALL blase ### ############################################################################## ############################################################################## * installing to library ‘/home/biocbuild/bbs-3.22-bioc/R/site-library’ * installing *source* package ‘blase’ ... ** this is package ‘blase’ version ‘1.0.0’ ** using staged installation ** R ** data ** inst ** byte-compile and prepare package for lazy loading ** help *** installing help indices *** copying figures ** building package indices ** installing vignettes ** testing if installed package can be loaded from temporary location ** testing if installed package can be loaded from final location ** testing if installed package keeps a record of temporary installation path * DONE (blase)
blase.Rcheck/tests/testthat.Rout
R version 4.5.1 Patched (2025-08-23 r88802) -- "Great Square Root"
Copyright (C) 2025 The R Foundation for Statistical Computing
Platform: x86_64-pc-linux-gnu
R is free software and comes with ABSOLUTELY NO WARRANTY.
You are welcome to redistribute it under certain conditions.
Type 'license()' or 'licence()' for distribution details.
R is a collaborative project with many contributors.
Type 'contributors()' for more information and
'citation()' on how to cite R or R packages in publications.
Type 'demo()' for some demos, 'help()' for on-line help, or
'help.start()' for an HTML browser interface to help.
Type 'q()' to quit R.
> # This file is part of the standard setup for testthat.
> # It is recommended that you do not modify it.
> #
> # Where should you do additional test configuration?
> # Learn more about the roles of various files in:
> # * https://r-pkgs.org/testing-design.html#sec-tests-files-overview
> # * https://testthat.r-lib.org/articles/special-files.html
>
> library(testthat)
> library(blase)
>
> test_check("blase")
[ FAIL 0 | WARN 1 | SKIP 0 | PASS 124 ]
[ FAIL 0 | WARN 1 | SKIP 0 | PASS 124 ]
>
> proc.time()
user system elapsed
60.474 1.537 62.017
blase.Rcheck/blase-Ex.timings
| name | user | system | elapsed | |
| BlaseData-class | 1.164 | 0.058 | 1.222 | |
| MappingResult | 2.312 | 0.098 | 2.409 | |
| annotate_sce | 1.332 | 0.000 | 1.333 | |
| as.BlaseData | 0.163 | 0.001 | 0.164 | |
| assign_pseudotime_bins | 2.232 | 0.022 | 2.256 | |
| bins-getter | 0.168 | 0.001 | 0.169 | |
| calculate_gene_peakedness | 18.000 | 0.320 | 18.321 | |
| evaluate_parameters | 9.938 | 0.099 | 10.038 | |
| evaluate_top_n_genes | 2.608 | 0.023 | 2.631 | |
| find_best_params | 3.658 | 0.030 | 3.688 | |
| gene_peakedness_spread_selection | 17.380 | 0.167 | 17.547 | |
| genes-getter | 0.169 | 0.001 | 0.169 | |
| genes-setter | 0.162 | 0.001 | 0.163 | |
| get_bins_as_bulk | 1.214 | 0.007 | 1.221 | |
| get_top_n_genes | 0.001 | 0.000 | 0.001 | |
| map_all_best_bins | 2.074 | 0.006 | 2.080 | |
| map_best_bin | 2.057 | 0.019 | 2.076 | |
| mapping-result-best-bin-getter | 2.035 | 0.001 | 2.037 | |
| mapping-result-best-correlation-getter | 2.053 | 0.007 | 2.060 | |
| mapping-result-bootstrap-iterations-getter | 2.055 | 0.013 | 2.068 | |
| mapping-result-bulk-name-getter | 2.111 | 0.002 | 2.115 | |
| mapping-result-confident-mapping-getter | 2.069 | 0.046 | 2.115 | |
| mapping-result-history-getter | 2.060 | 0.009 | 2.069 | |
| mapping-result-top-2-distance-getter | 2.059 | 0.002 | 2.061 | |
| plot_bin_population | 2.080 | 0.044 | 2.124 | |
| plot_find_best_params_results | 3.692 | 0.012 | 3.705 | |
| plot_gene_peakedness | 18.242 | 0.190 | 18.432 | |
| plot_mapping_result | 5.371 | 0.062 | 5.450 | |
| plot_mapping_result_corr | 2.040 | 0.002 | 2.041 | |
| plot_mapping_result_heatmap | 2.018 | 0.002 | 2.020 | |
| pseudobulk-bins-getter | 0.166 | 0.000 | 0.166 | |
| show-MappingResult-method | 2.068 | 0.030 | 2.098 | |
| show_blase_object | 0.174 | 0.001 | 0.176 | |
| smooth_gene | 16.948 | 0.105 | 17.053 | |