| Back to Multiple platform build/check report for BioC 3.22: simplified long | 
 | 
This page was generated on 2025-10-31 12:03 -0400 (Fri, 31 Oct 2025).
| Hostname | OS | Arch (*) | R version | Installed pkgs | 
|---|---|---|---|---|
| nebbiolo2 | Linux (Ubuntu 24.04.3 LTS) | x86_64 | 4.5.1 Patched (2025-08-23 r88802) -- "Great Square Root" | 4901 | 
| lconway | macOS 12.7.6 Monterey | x86_64 | 4.5.1 Patched (2025-09-10 r88807) -- "Great Square Root" | 4691 | 
| kjohnson3 | macOS 13.7.7 Ventura | arm64 | 4.5.1 Patched (2025-09-10 r88807) -- "Great Square Root" | 4637 | 
| Click on any hostname to see more info about the system (e.g. compilers) (*) as reported by 'uname -p', except on Windows and Mac OS X | ||||
| Package 234/2361 | Hostname | OS / Arch | INSTALL | BUILD | CHECK | BUILD BIN | ||||||||
| blase 1.0.0  (landing page) Andrew McCluskey 
 | nebbiolo2 | Linux (Ubuntu 24.04.3 LTS) / x86_64 | OK | OK | OK |  | ||||||||
| lconway | macOS 12.7.6 Monterey / x86_64 | OK | OK | OK | OK |  | ||||||||
| kjohnson3 | macOS 13.7.7 Ventura / arm64 | OK | OK | OK | OK |  | ||||||||
| To the developers/maintainers of the blase package: - Allow up to 24 hours (and sometimes 48 hours) for your latest push to git@git.bioconductor.org:packages/blase.git to reflect on this report. See Troubleshooting Build Report for more information. - Use the following Renviron settings to reproduce errors and warnings. - If 'R CMD check' started to fail recently on the Linux builder(s) over a missing dependency, add the missing dependency to 'Suggests:' in your DESCRIPTION file. See Renviron.bioc for more information. | 
| Package: blase | 
| Version: 1.0.0 | 
| Command: /Library/Frameworks/R.framework/Resources/bin/R CMD check --install=check:blase.install-out.txt --library=/Library/Frameworks/R.framework/Resources/library --no-vignettes --timings blase_1.0.0.tar.gz | 
| StartedAt: 2025-10-30 19:41:02 -0400 (Thu, 30 Oct 2025) | 
| EndedAt: 2025-10-30 19:52:23 -0400 (Thu, 30 Oct 2025) | 
| EllapsedTime: 681.0 seconds | 
| RetCode: 0 | 
| Status: OK | 
| CheckDir: blase.Rcheck | 
| Warnings: 0 | 
##############################################################################
##############################################################################
###
### Running command:
###
###   /Library/Frameworks/R.framework/Resources/bin/R CMD check --install=check:blase.install-out.txt --library=/Library/Frameworks/R.framework/Resources/library --no-vignettes --timings blase_1.0.0.tar.gz
###
##############################################################################
##############################################################################
* using log directory ‘/Users/biocbuild/bbs-3.22-bioc/meat/blase.Rcheck’
* using R version 4.5.1 Patched (2025-09-10 r88807)
* using platform: x86_64-apple-darwin20
* R was compiled by
    Apple clang version 14.0.0 (clang-1400.0.29.202)
    GNU Fortran (GCC) 14.2.0
* running under: macOS Monterey 12.7.6
* using session charset: UTF-8
* using option ‘--no-vignettes’
* checking for file ‘blase/DESCRIPTION’ ... OK
* this is package ‘blase’ version ‘1.0.0’
* package encoding: UTF-8
* checking package namespace information ... OK
* checking package dependencies ... OK
* checking if this is a source package ... OK
* checking if there is a namespace ... OK
* checking for hidden files and directories ... OK
* checking for portable file names ... OK
* checking for sufficient/correct file permissions ... OK
* checking whether package ‘blase’ can be installed ... OK
* checking installed package size ... INFO
  installed size is  5.2Mb
  sub-directories of 1Mb or more:
    data   4.6Mb
* checking package directory ... OK
* checking ‘build’ directory ... OK
* checking DESCRIPTION meta-information ... OK
* checking top-level files ... OK
* checking for left-over files ... OK
* checking index information ... OK
* checking package subdirectories ... OK
* checking code files for non-ASCII characters ... OK
* checking R files for syntax errors ... OK
* checking whether the package can be loaded ... OK
* checking whether the package can be loaded with stated dependencies ... OK
* checking whether the package can be unloaded cleanly ... OK
* checking whether the namespace can be loaded with stated dependencies ... OK
* checking whether the namespace can be unloaded cleanly ... OK
* checking dependencies in R code ... OK
* checking S3 generic/method consistency ... OK
* checking replacement functions ... OK
* checking foreign function calls ... OK
* checking R code for possible problems ... OK
* checking Rd files ... OK
* checking Rd metadata ... OK
* checking Rd cross-references ... NOTE
Non-topic package-anchored link(s) in Rd file 'plot_mapping_result.Rd':
  ‘[scater:plot_reddim]{scater::plotUMAP()}’
See section 'Cross-references' in the 'Writing R Extensions' manual.
* checking for missing documentation entries ... OK
* checking for code/documentation mismatches ... OK
* checking Rd \usage sections ... OK
* checking Rd contents ... OK
* checking for unstated dependencies in examples ... OK
* checking contents of ‘data’ directory ... OK
* checking data for non-ASCII characters ... OK
* checking data for ASCII and uncompressed saves ... OK
* checking files in ‘vignettes’ ... OK
* checking examples ... OK
Examples with CPU (user + system) or elapsed time > 5s
                                   user system elapsed
plot_gene_peakedness             20.206  0.443  20.742
smooth_gene                      18.103  0.629  18.798
calculate_gene_peakedness        18.125  0.479  18.846
gene_peakedness_spread_selection 17.925  0.515  18.503
evaluate_parameters              11.504  0.078  11.624
plot_mapping_result               6.356  0.051   6.429
* checking for unstated dependencies in ‘tests’ ... OK
* checking tests ...
  Running ‘testthat.R’
 OK
* checking for unstated dependencies in vignettes ... OK
* checking package vignettes ... OK
* checking running R code from vignettes ... SKIPPED
* checking re-building of vignette outputs ... SKIPPED
* checking PDF version of manual ... OK
* DONE
Status: 1 NOTE
See
  ‘/Users/biocbuild/bbs-3.22-bioc/meat/blase.Rcheck/00check.log’
for details.
blase.Rcheck/00install.out
############################################################################## ############################################################################## ### ### Running command: ### ### /Library/Frameworks/R.framework/Resources/bin/R CMD INSTALL blase ### ############################################################################## ############################################################################## * installing to library ‘/Library/Frameworks/R.framework/Versions/4.5-x86_64/Resources/library’ * installing *source* package ‘blase’ ... ** this is package ‘blase’ version ‘1.0.0’ ** using staged installation ** R ** data ** inst ** byte-compile and prepare package for lazy loading ** help *** installing help indices *** copying figures ** building package indices ** installing vignettes ** testing if installed package can be loaded from temporary location ** testing if installed package can be loaded from final location ** testing if installed package keeps a record of temporary installation path * DONE (blase)
blase.Rcheck/tests/testthat.Rout
R version 4.5.1 Patched (2025-09-10 r88807) -- "Great Square Root"
Copyright (C) 2025 The R Foundation for Statistical Computing
Platform: x86_64-apple-darwin20
R is free software and comes with ABSOLUTELY NO WARRANTY.
You are welcome to redistribute it under certain conditions.
Type 'license()' or 'licence()' for distribution details.
R is a collaborative project with many contributors.
Type 'contributors()' for more information and
'citation()' on how to cite R or R packages in publications.
Type 'demo()' for some demos, 'help()' for on-line help, or
'help.start()' for an HTML browser interface to help.
Type 'q()' to quit R.
> # This file is part of the standard setup for testthat.
> # It is recommended that you do not modify it.
> #
> # Where should you do additional test configuration?
> # Learn more about the roles of various files in:
> # * https://r-pkgs.org/testing-design.html#sec-tests-files-overview
> # * https://testthat.r-lib.org/articles/special-files.html
> 
> library(testthat)
> library(blase)
> 
> test_check("blase")
[ FAIL 0 | WARN 1 | SKIP 0 | PASS 124 ]
[ FAIL 0 | WARN 1 | SKIP 0 | PASS 124 ]
> 
> proc.time()
   user  system elapsed 
 67.356   2.012  69.593 
blase.Rcheck/blase-Ex.timings
| name | user | system | elapsed | |
| BlaseData-class | 1.258 | 0.012 | 1.272 | |
| MappingResult | 2.803 | 0.077 | 2.887 | |
| annotate_sce | 1.480 | 0.010 | 1.491 | |
| as.BlaseData | 0.223 | 0.003 | 0.226 | |
| assign_pseudotime_bins | 2.555 | 0.014 | 2.575 | |
| bins-getter | 0.195 | 0.002 | 0.197 | |
| calculate_gene_peakedness | 18.125 | 0.479 | 18.846 | |
| evaluate_parameters | 11.504 | 0.078 | 11.624 | |
| evaluate_top_n_genes | 2.844 | 0.012 | 2.861 | |
| find_best_params | 4.317 | 0.035 | 4.364 | |
| gene_peakedness_spread_selection | 17.925 | 0.515 | 18.503 | |
| genes-getter | 0.207 | 0.003 | 0.211 | |
| genes-setter | 0.185 | 0.003 | 0.189 | |
| get_bins_as_bulk | 1.608 | 0.031 | 1.643 | |
| get_top_n_genes | 0.001 | 0.000 | 0.001 | |
| map_all_best_bins | 2.351 | 0.011 | 2.366 | |
| map_best_bin | 2.456 | 0.014 | 2.474 | |
| mapping-result-best-bin-getter | 2.326 | 0.012 | 2.344 | |
| mapping-result-best-correlation-getter | 2.468 | 0.014 | 2.488 | |
| mapping-result-bootstrap-iterations-getter | 2.482 | 0.013 | 2.500 | |
| mapping-result-bulk-name-getter | 2.523 | 0.014 | 2.544 | |
| mapping-result-confident-mapping-getter | 2.438 | 0.012 | 2.454 | |
| mapping-result-history-getter | 2.204 | 0.011 | 2.221 | |
| mapping-result-top-2-distance-getter | 2.309 | 0.013 | 2.327 | |
| plot_bin_population | 2.416 | 0.013 | 2.436 | |
| plot_find_best_params_results | 4.471 | 0.030 | 4.520 | |
| plot_gene_peakedness | 20.206 | 0.443 | 20.742 | |
| plot_mapping_result | 6.356 | 0.051 | 6.429 | |
| plot_mapping_result_corr | 2.351 | 0.011 | 2.366 | |
| plot_mapping_result_heatmap | 2.190 | 0.011 | 2.203 | |
| pseudobulk-bins-getter | 0.235 | 0.003 | 0.238 | |
| show-MappingResult-method | 2.148 | 0.010 | 2.161 | |
| show_blase_object | 0.239 | 0.003 | 0.241 | |
| smooth_gene | 18.103 | 0.629 | 18.798 | |