Back to Multiple platform build/check report for BioC 3.21:   simplified   long
A[B]CDEFGHIJKLMNOPQRSTUVWXYZ

This page was generated on 2025-04-28 13:00 -0400 (Mon, 28 Apr 2025).

HostnameOSArch (*)R versionInstalled pkgs
nebbiolo1Linux (Ubuntu 24.04.1 LTS)x86_644.5.0 RC (2025-04-04 r88126) -- "How About a Twenty-Six" 4832
palomino7Windows Server 2022 Datacenterx644.5.0 RC (2025-04-04 r88126 ucrt) -- "How About a Twenty-Six" 4574
merida1macOS 12.7.5 Montereyx86_644.5.0 RC (2025-04-04 r88126) -- "How About a Twenty-Six" 4558
kjohnson1macOS 13.6.6 Venturaarm644.5.0 RC (2025-04-04 r88129) -- "How About a Twenty-Six" 4553
Click on any hostname to see more info about the system (e.g. compilers)      (*) as reported by 'uname -p', except on Windows and Mac OS X

Package 229/2341HostnameOS / ArchINSTALLBUILDCHECKBUILD BIN
blacksheepr 1.22.0  (landing page)
RugglesLab
Snapshot Date: 2025-04-24 15:01 -0400 (Thu, 24 Apr 2025)
git_url: https://git.bioconductor.org/packages/blacksheepr
git_branch: RELEASE_3_21
git_last_commit: b3b2a6d
git_last_commit_date: 2025-04-15 11:51:21 -0400 (Tue, 15 Apr 2025)
nebbiolo1Linux (Ubuntu 24.04.1 LTS) / x86_64  OK    OK    OK  UNNEEDED, same version is already published
palomino7Windows Server 2022 Datacenter / x64  OK    OK    OK    OK  UNNEEDED, same version is already published
merida1macOS 12.7.5 Monterey / x86_64  OK    OK    OK    ERROR  
kjohnson1macOS 13.6.6 Ventura / arm64  OK    OK    OK    ERROR  


BUILD BIN results for blacksheepr on merida1

To the developers/maintainers of the blacksheepr package:
- Allow up to 24 hours (and sometimes 48 hours) for your latest push to git@git.bioconductor.org:packages/blacksheepr.git to reflect on this report. See Troubleshooting Build Report for more information.
- Use the following Renviron settings to reproduce errors and warnings.
- If 'R CMD check' started to fail recently on the Linux builder(s) over a missing dependency, add the missing dependency to 'Suggests:' in your DESCRIPTION file. See Renviron.bioc for more information.

raw results


Summary

Package: blacksheepr
Version: 1.22.0
Command: rm -rf blacksheepr.buildbin-libdir && mkdir blacksheepr.buildbin-libdir && /Users/biocbuild/BBS/utils/build-universal.sh blacksheepr_1.22.0.tar.gz /Library/Frameworks/R.framework/Resources/bin/R blacksheepr.buildbin-libdir
StartedAt: 2025-04-25 12:53:03 -0400 (Fri, 25 Apr 2025)
EndedAt: 2025-04-25 12:53:59 -0400 (Fri, 25 Apr 2025)
EllapsedTime: 56.4 seconds
RetCode: 1
Status:   ERROR  
PackageFile: None
PackageFileSize: NA

Command output

##############################################################################
##############################################################################
###
### Running command:
###
###   rm -rf blacksheepr.buildbin-libdir && mkdir blacksheepr.buildbin-libdir && /Users/biocbuild/BBS/utils/build-universal.sh blacksheepr_1.22.0.tar.gz /Library/Frameworks/R.framework/Resources/bin/R blacksheepr.buildbin-libdir
###
##############################################################################
##############################################################################


>>>>>>> 
>>>>>>> INSTALLATION WITH 'R CMD INSTALL --preclean --no-multiarch --library=blacksheepr.buildbin-libdir blacksheepr_1.22.0.tar.gz'
>>>>>>> 

* installing *source* package ‘blacksheepr’ ...
** this is package ‘blacksheepr’ version ‘1.22.0’
** using staged installation
** R
** data
** inst
** byte-compile and prepare package for lazy loading
** help
*** installing help indices
** building package indices
** installing vignettes
** testing if installed package can be loaded from temporary location
** testing if installed package can be loaded from final location
** testing if installed package keeps a record of temporary installation path
* DONE (blacksheepr)


chown: blacksheepr.buildbin-libdir/blacksheepr/LICENSE: Operation not permitted
chown: blacksheepr.buildbin-libdir/blacksheepr/R/blacksheepr.rdx: Operation not permitted
chown: blacksheepr.buildbin-libdir/blacksheepr/R/blacksheepr.rdb: Operation not permitted
chown: blacksheepr.buildbin-libdir/blacksheepr/R/blacksheepr: Operation not permitted
chown: blacksheepr.buildbin-libdir/blacksheepr/R: Operation not permitted
chown: blacksheepr.buildbin-libdir/blacksheepr/Meta/vignette.rds: Operation not permitted
chown: blacksheepr.buildbin-libdir/blacksheepr/Meta/data.rds: Operation not permitted
chown: blacksheepr.buildbin-libdir/blacksheepr/Meta/links.rds: Operation not permitted
chown: blacksheepr.buildbin-libdir/blacksheepr/Meta/features.rds: Operation not permitted
chown: blacksheepr.buildbin-libdir/blacksheepr/Meta/nsInfo.rds: Operation not permitted
chown: blacksheepr.buildbin-libdir/blacksheepr/Meta/package.rds: Operation not permitted
chown: blacksheepr.buildbin-libdir/blacksheepr/Meta/hsearch.rds: Operation not permitted
chown: blacksheepr.buildbin-libdir/blacksheepr/Meta/Rd.rds: Operation not permitted
chown: blacksheepr.buildbin-libdir/blacksheepr/Meta: Operation not permitted
chown: blacksheepr.buildbin-libdir/blacksheepr/NAMESPACE: Operation not permitted
chown: blacksheepr.buildbin-libdir/blacksheepr/html/R.css: Operation not permitted
chown: blacksheepr.buildbin-libdir/blacksheepr/html/00Index.html: Operation not permitted
chown: blacksheepr.buildbin-libdir/blacksheepr/html: Operation not permitted
chown: blacksheepr.buildbin-libdir/blacksheepr/DESCRIPTION: Operation not permitted
chown: blacksheepr.buildbin-libdir/blacksheepr/NEWS: Operation not permitted
chown: blacksheepr.buildbin-libdir/blacksheepr/INDEX: Operation not permitted
chown: blacksheepr.buildbin-libdir/blacksheepr/doc/index.html: Operation not permitted
chown: blacksheepr.buildbin-libdir/blacksheepr/doc/blacksheepr_vignette.Rmd: Operation not permitted
chown: blacksheepr.buildbin-libdir/blacksheepr/doc/blacksheepr_vignette.html: Operation not permitted
chown: blacksheepr.buildbin-libdir/blacksheepr/doc/blacksheepr_vignette.R: Operation not permitted
chown: blacksheepr.buildbin-libdir/blacksheepr/doc: Operation not permitted
chown: blacksheepr.buildbin-libdir/blacksheepr/data/datalist: Operation not permitted
chown: blacksheepr.buildbin-libdir/blacksheepr/data/sample_rnadata.rda: Operation not permitted
chown: blacksheepr.buildbin-libdir/blacksheepr/data/sample_phosphodata.rda: Operation not permitted
chown: blacksheepr.buildbin-libdir/blacksheepr/data/sample_annotationdata.rda: Operation not permitted
chown: blacksheepr.buildbin-libdir/blacksheepr/data: Operation not permitted
chown: blacksheepr.buildbin-libdir/blacksheepr/help/AnIndex: Operation not permitted
chown: blacksheepr.buildbin-libdir/blacksheepr/help/aliases.rds: Operation not permitted
chown: blacksheepr.buildbin-libdir/blacksheepr/help/paths.rds: Operation not permitted
chown: blacksheepr.buildbin-libdir/blacksheepr/help/blacksheepr.rdx: Operation not permitted
chown: blacksheepr.buildbin-libdir/blacksheepr/help/blacksheepr.rdb: Operation not permitted
chown: blacksheepr.buildbin-libdir/blacksheepr/help: Operation not permitted
chown: blacksheepr.buildbin-libdir/blacksheepr: Operation not permitted