| Back to Multiple platform build/check report for BioC 3.21: simplified long |
|
This page was generated on 2025-04-22 13:17 -0400 (Tue, 22 Apr 2025).
| Hostname | OS | Arch (*) | R version | Installed pkgs |
|---|---|---|---|---|
| nebbiolo1 | Linux (Ubuntu 24.04.1 LTS) | x86_64 | 4.5.0 RC (2025-04-04 r88126) -- "How About a Twenty-Six" | 4831 |
| palomino7 | Windows Server 2022 Datacenter | x64 | 4.5.0 RC (2025-04-04 r88126 ucrt) -- "How About a Twenty-Six" | 4573 |
| lconway | macOS 12.7.1 Monterey | x86_64 | 4.5.0 RC (2025-04-04 r88126) -- "How About a Twenty-Six" | 4599 |
| kjohnson3 | macOS 13.7.1 Ventura | arm64 | 4.5.0 RC (2025-04-04 r88126) -- "How About a Twenty-Six" | 4553 |
| kunpeng2 | Linux (openEuler 24.03 LTS) | aarch64 | R Under development (unstable) (2025-02-19 r87757) -- "Unsuffered Consequences" | 4570 |
| Click on any hostname to see more info about the system (e.g. compilers) (*) as reported by 'uname -p', except on Windows and Mac OS X | ||||
| Package 160/2341 | Hostname | OS / Arch | INSTALL | BUILD | CHECK | BUILD BIN | ||||||||
| bedbaser 1.0.0 (landing page) Andres Wokaty
| nebbiolo1 | Linux (Ubuntu 24.04.1 LTS) / x86_64 | OK | OK | OK | |||||||||
| palomino7 | Windows Server 2022 Datacenter / x64 | OK | OK | OK | OK | |||||||||
| lconway | macOS 12.7.1 Monterey / x86_64 | OK | OK | OK | OK | |||||||||
| kjohnson3 | macOS 13.7.1 Ventura / arm64 | OK | OK | OK | OK | |||||||||
| kunpeng2 | Linux (openEuler 24.03 LTS) / aarch64 | OK | OK | OK | ||||||||||
|
To the developers/maintainers of the bedbaser package: - Allow up to 24 hours (and sometimes 48 hours) for your latest push to git@git.bioconductor.org:packages/bedbaser.git to reflect on this report. See Troubleshooting Build Report for more information. - Use the following Renviron settings to reproduce errors and warnings. - If 'R CMD check' started to fail recently on the Linux builder(s) over a missing dependency, add the missing dependency to 'Suggests:' in your DESCRIPTION file. See Renviron.bioc for more information. |
| Package: bedbaser |
| Version: 1.0.0 |
| Command: /Library/Frameworks/R.framework/Resources/bin/R CMD check --install=check:bedbaser.install-out.txt --library=/Library/Frameworks/R.framework/Resources/library --no-vignettes --timings bedbaser_1.0.0.tar.gz |
| StartedAt: 2025-04-21 18:17:12 -0400 (Mon, 21 Apr 2025) |
| EndedAt: 2025-04-21 18:19:01 -0400 (Mon, 21 Apr 2025) |
| EllapsedTime: 108.4 seconds |
| RetCode: 0 |
| Status: OK |
| CheckDir: bedbaser.Rcheck |
| Warnings: 0 |
##############################################################################
##############################################################################
###
### Running command:
###
### /Library/Frameworks/R.framework/Resources/bin/R CMD check --install=check:bedbaser.install-out.txt --library=/Library/Frameworks/R.framework/Resources/library --no-vignettes --timings bedbaser_1.0.0.tar.gz
###
##############################################################################
##############################################################################
* using log directory ‘/Users/biocbuild/bbs-3.21-bioc/meat/bedbaser.Rcheck’
* using R version 4.5.0 RC (2025-04-04 r88126)
* using platform: aarch64-apple-darwin20
* R was compiled by
Apple clang version 14.0.0 (clang-1400.0.29.202)
GNU Fortran (GCC) 14.2.0
* running under: macOS Ventura 13.7.1
* using session charset: UTF-8
* using option ‘--no-vignettes’
* checking for file ‘bedbaser/DESCRIPTION’ ... OK
* this is package ‘bedbaser’ version ‘1.0.0’
* package encoding: UTF-8
* checking package namespace information ... OK
* checking package dependencies ... OK
* checking if this is a source package ... OK
* checking if there is a namespace ... OK
* checking for hidden files and directories ... OK
* checking for portable file names ... OK
* checking for sufficient/correct file permissions ... OK
* checking whether package ‘bedbaser’ can be installed ... OK
* checking installed package size ... OK
* checking package directory ... OK
* checking ‘build’ directory ... OK
* checking DESCRIPTION meta-information ... OK
* checking top-level files ... OK
* checking for left-over files ... OK
* checking index information ... OK
* checking package subdirectories ... OK
* checking code files for non-ASCII characters ... OK
* checking R files for syntax errors ... OK
* checking whether the package can be loaded ... OK
* checking whether the package can be loaded with stated dependencies ... OK
* checking whether the package can be unloaded cleanly ... OK
* checking whether the namespace can be loaded with stated dependencies ... OK
* checking whether the namespace can be unloaded cleanly ... OK
* checking dependencies in R code ... OK
* checking S3 generic/method consistency ... OK
* checking replacement functions ... OK
* checking foreign function calls ... OK
* checking R code for possible problems ... NOTE
.get_url: no visible binding for global variable ‘access_methods’
.get_url: no visible binding for global variable ‘access_url’
.get_url: no visible binding for global variable ‘name’
.get_url: no visible binding for global variable ‘access_id’
bb_list_bedsets: no visible binding for global variable ‘bed_ids’
Undefined global functions or variables:
access_id access_methods access_url bed_ids name
* checking Rd files ... OK
* checking Rd metadata ... OK
* checking Rd cross-references ... OK
* checking for missing documentation entries ... OK
* checking for code/documentation mismatches ... OK
* checking Rd \usage sections ... OK
* checking Rd contents ... OK
* checking for unstated dependencies in examples ... OK
* checking files in ‘vignettes’ ... OK
* checking examples ... OK
Examples with CPU (user + system) or elapsed time > 5s
user system elapsed
bb_to_grangeslist 5.427 0.232 8.057
bb_to_granges 5.033 0.450 5.899
* checking for unstated dependencies in ‘tests’ ... OK
* checking tests ...
Running ‘testthat.R’
OK
* checking for unstated dependencies in vignettes ... OK
* checking package vignettes ... OK
* checking running R code from vignettes ... SKIPPED
* checking re-building of vignette outputs ... SKIPPED
* checking PDF version of manual ... OK
* DONE
Status: 1 NOTE
See
‘/Users/biocbuild/bbs-3.21-bioc/meat/bedbaser.Rcheck/00check.log’
for details.
bedbaser.Rcheck/00install.out
############################################################################## ############################################################################## ### ### Running command: ### ### /Library/Frameworks/R.framework/Resources/bin/R CMD INSTALL bedbaser ### ############################################################################## ############################################################################## * installing to library ‘/Library/Frameworks/R.framework/Versions/4.5-arm64/Resources/library’ * installing *source* package ‘bedbaser’ ... ** this is package ‘bedbaser’ version ‘1.0.0’ ** using staged installation ** R ** inst ** byte-compile and prepare package for lazy loading Creating a generic function for ‘tags’ from package ‘AnVIL’ in package ‘bedbaser’ ** help *** installing help indices ** building package indices ** installing vignettes ** testing if installed package can be loaded from temporary location ** testing if installed package can be loaded from final location ** testing if installed package keeps a record of temporary installation path * DONE (bedbaser)
bedbaser.Rcheck/tests/testthat.Rout
R version 4.5.0 RC (2025-04-04 r88126) -- "How About a Twenty-Six"
Copyright (C) 2025 The R Foundation for Statistical Computing
Platform: aarch64-apple-darwin20
R is free software and comes with ABSOLUTELY NO WARRANTY.
You are welcome to redistribute it under certain conditions.
Type 'license()' or 'licence()' for distribution details.
R is a collaborative project with many contributors.
Type 'contributors()' for more information and
'citation()' on how to cite R or R packages in publications.
Type 'demo()' for some demos, 'help()' for on-line help, or
'help.start()' for an HTML browser interface to help.
Type 'q()' to quit R.
> # This file is part of the standard setup for testthat.
> # It is recommended that you do not modify it.
> #
> # Where should you do additional test configuration?
> # Learn more about the roles of various files in:
> # * https://r-pkgs.org/testing-design.html#sec-tests-files-overview
> # * https://testthat.r-lib.org/articles/special-files.html
>
> library(testthat)
> library(bedbaser)
>
> test_check("bedbaser")
trying URL 'https://data2.bedbase.org/files/9/5/95a593b8337074a334b425aba5e77d4c.bed.gz'
Content type 'binary/octet-stream' length 155230 bytes (151 KB)
==================================================
downloaded 151 KB
Attaching package: 'generics'
The following objects are masked from 'package:base':
as.difftime, as.factor, as.ordered, intersect, is.element, setdiff,
setequal, union
Attaching package: 'BiocGenerics'
The following objects are masked from 'package:stats':
IQR, mad, sd, var, xtabs
The following objects are masked from 'package:base':
Filter, Find, Map, Position, Reduce, anyDuplicated, aperm, append,
as.data.frame, basename, cbind, colnames, dirname, do.call,
duplicated, eval, evalq, get, grep, grepl, is.unsorted, lapply,
mapply, match, mget, order, paste, pmax, pmax.int, pmin, pmin.int,
rank, rbind, rownames, sapply, saveRDS, table, tapply, unique,
unsplit, which.max, which.min
Attaching package: 'S4Vectors'
The following object is masked from 'package:utils':
findMatches
The following objects are masked from 'package:base':
I, expand.grid, unname
Attaching package: 'Biostrings'
The following object is masked from 'package:base':
strsplit
trying URL 'https://data2.bedbase.org/files/f/f/ffc1e5ac45d923135500bdd825177356.bigBed'
Content type 'binary/octet-stream' length 11176074 bytes (10.7 MB)
==================================================
downloaded 10.7 MB
trying URL 'https://data2.bedbase.org/files/b/b/bbad85f21962bb8d972444f7f9a3a932.bed.gz'
Content type 'binary/octet-stream' length 641053 bytes (626 KB)
==================================================
downloaded 626 KB
trying URL 'https://data2.bedbase.org/files/6/0/608827efc82fcaa4b0bfc65f590ffef8.bed.gz'
Content type 'binary/octet-stream' length 54567 bytes (53 KB)
==================================================
downloaded 53 KB
trying URL 'https://data2.bedbase.org/files/1/a/1a2b6f542a0d3776c6285fe98d1fffee.bed.gz'
Content type 'binary/octet-stream' length 243777 bytes (238 KB)
==================================================
downloaded 238 KB
trying URL 'https://data2.bedbase.org/files/1/a/1a8e74b3a2ee47eee6a73d83e673a6f4.bed.gz'
Content type 'binary/octet-stream' length 6937 bytes
==================================================
downloaded 6937 bytes
trying URL 'https://data2.bedbase.org/files/1/f/1ff2ada1a44e7fbe9146bddadccce6d7.bed.gz'
Content type 'binary/octet-stream' length 855 bytes
==================================================
downloaded 855 bytes
trying URL 'https://data2.bedbase.org/files/2/4/24cbf09dccdc09e69e11707d0b38914f.bed.gz'
Content type 'binary/octet-stream' length 13837 bytes (13 KB)
==================================================
downloaded 13 KB
trying URL 'https://data2.bedbase.org/files/3/3/33d3b80a4a6e1e7c9a76de1ae02945ee.bed.gz'
Content type 'binary/octet-stream' length 827997 bytes (808 KB)
==================================================
downloaded 808 KB
trying URL 'https://data2.bedbase.org/files/5/2/52ef1fe689a11bdc9da7d783986fcf31.bed.gz'
Content type 'binary/octet-stream' length 6307077 bytes (6.0 MB)
==================================================
downloaded 6.0 MB
trying URL 'https://data2.bedbase.org/files/5/4/5481004debb1057b7fbf84539367dcc0.bed.gz'
Content type 'binary/octet-stream' length 324881 bytes (317 KB)
==================================================
downloaded 317 KB
trying URL 'https://data2.bedbase.org/files/7/3/7305339be5c5c18bf4d4cecb3168521c.bed.gz'
Content type 'binary/octet-stream' length 259133 bytes (253 KB)
==================================================
downloaded 253 KB
trying URL 'https://data2.bedbase.org/files/9/3/93d7b12fcf7c95668075395c46835f3a.bed.gz'
Content type 'binary/octet-stream' length 20655532 bytes (19.7 MB)
==================================================
downloaded 19.7 MB
trying URL 'https://data2.bedbase.org/files/c/d/cdab2c42baa66e7411d87d397dcf90a6.bed.gz'
Content type 'binary/octet-stream' length 12453 bytes (12 KB)
==================================================
downloaded 12 KB
trying URL 'https://data2.bedbase.org/files/e/4/e4020d84502207586b8f572933d31f79.bed.gz'
Content type 'binary/octet-stream' length 4610260 bytes (4.4 MB)
==================================================
downloaded 4.4 MB
trying URL 'https://data2.bedbase.org/files/2/3/233479aab145cffe46221475d5af5fae.bed.gz'
Content type 'binary/octet-stream' length 432293 bytes (422 KB)
==================================================
downloaded 422 KB
[ FAIL 0 | WARN 0 | SKIP 0 | PASS 52 ]
>
> proc.time()
user system elapsed
17.542 1.386 63.001
bedbaser.Rcheck/bedbaser-Ex.timings
| name | user | system | elapsed | |
| BEDbase | 0.333 | 0.019 | 0.565 | |
| bb_bed_text_search | 0.054 | 0.007 | 0.357 | |
| bb_beds_in_bedset | 0.126 | 0.008 | 0.856 | |
| bb_example | 0.055 | 0.005 | 0.266 | |
| bb_list_beds | 0.077 | 0.003 | 0.295 | |
| bb_list_bedsets | 0.090 | 0.007 | 3.972 | |
| bb_metadata | 0.070 | 0.025 | 0.668 | |
| bb_save | 0.061 | 0.007 | 1.505 | |
| bb_to_granges | 5.033 | 0.450 | 5.899 | |
| bb_to_grangeslist | 5.427 | 0.232 | 8.057 | |
| getCache-BEDbase-method | 0.051 | 0.005 | 0.123 | |
| operations-BEDbase-method | 0.030 | 0.005 | 0.087 | |
| schemas-BEDbase-method | 0.032 | 0.002 | 0.092 | |
| setCache-BEDbase-method | 0.041 | 0.003 | 0.115 | |
| tags-BEDbase-method | 0.040 | 0.002 | 0.095 | |