Back to Multiple platform build/check report for BioC 3.22:   simplified   long
[A]BCDEFGHIJKLMNOPQRSTUVWXYZ

This page was generated on 2025-11-27 12:05 -0500 (Thu, 27 Nov 2025).

HostnameOSArch (*)R versionInstalled pkgs
nebbiolo2Linux (Ubuntu 24.04.3 LTS)x86_644.5.2 (2025-10-31) -- "[Not] Part in a Rumble" 4876
merida1macOS 12.7.6 Montereyx86_644.5.2 Patched (2025-11-05 r88990) -- "[Not] Part in a Rumble" 4656
kjohnson1macOS 13.7.5 Venturaarm644.5.2 Patched (2025-11-04 r88984) -- "[Not] Part in a Rumble" 4602
taishanLinux (openEuler 24.03 LTS)aarch644.5.0 (2025-04-11) -- "How About a Twenty-Six" 4668
Click on any hostname to see more info about the system (e.g. compilers)      (*) as reported by 'uname -p', except on Windows and Mac OS X

Package 117/2361HostnameOS / ArchINSTALLBUILDCHECKBUILD BIN
attract 1.62.0  (landing page)
Samuel Zimmerman
Snapshot Date: 2025-11-24 13:45 -0500 (Mon, 24 Nov 2025)
git_url: https://git.bioconductor.org/packages/attract
git_branch: RELEASE_3_22
git_last_commit: c4f9ff4
git_last_commit_date: 2025-10-29 10:05:14 -0500 (Wed, 29 Oct 2025)
nebbiolo2Linux (Ubuntu 24.04.3 LTS) / x86_64  OK    OK    OK  UNNEEDED, same version is already published
merida1macOS 12.7.6 Monterey / x86_64  OK    OK    OK    OK  UNNEEDED, same version is already published
kjohnson1macOS 13.7.5 Ventura / arm64  OK    OK    OK    OK  UNNEEDED, same version is already published
taishanLinux (openEuler 24.03 LTS) / aarch64  OK    OK    OK  


CHECK results for attract on taishan

To the developers/maintainers of the attract package:
- Allow up to 24 hours (and sometimes 48 hours) for your latest push to git@git.bioconductor.org:packages/attract.git to reflect on this report. See Troubleshooting Build Report for more information.
- Use the following Renviron settings to reproduce errors and warnings.
- If 'R CMD check' started to fail recently on the Linux builder(s) over a missing dependency, add the missing dependency to 'Suggests:' in your DESCRIPTION file. See Renviron.bioc for more information.
- See Martin Grigorov's blog post for how to debug Linux ARM64 related issues on a x86_64 host.

raw results


Summary

Package: attract
Version: 1.62.0
Command: /home/biocbuild/R/R/bin/R CMD check --install=check:attract.install-out.txt --library=/home/biocbuild/R/R/site-library --no-vignettes --timings attract_1.62.0.tar.gz
StartedAt: 2025-11-25 06:36:19 -0000 (Tue, 25 Nov 2025)
EndedAt: 2025-11-25 06:42:56 -0000 (Tue, 25 Nov 2025)
EllapsedTime: 397.4 seconds
RetCode: 0
Status:   OK  
CheckDir: attract.Rcheck
Warnings: 0

Command output

##############################################################################
##############################################################################
###
### Running command:
###
###   /home/biocbuild/R/R/bin/R CMD check --install=check:attract.install-out.txt --library=/home/biocbuild/R/R/site-library --no-vignettes --timings attract_1.62.0.tar.gz
###
##############################################################################
##############################################################################


* using log directory ‘/home/biocbuild/bbs-3.22-bioc/meat/attract.Rcheck’
* using R version 4.5.0 (2025-04-11)
* using platform: aarch64-unknown-linux-gnu
* R was compiled by
    aarch64-unknown-linux-gnu-gcc (GCC) 14.2.0
    GNU Fortran (GCC) 14.2.0
* running under: openEuler 24.03 (LTS)
* using session charset: UTF-8
* using option ‘--no-vignettes’
* checking for file ‘attract/DESCRIPTION’ ... OK
* checking extension type ... Package
* this is package ‘attract’ version ‘1.62.0’
* checking package namespace information ... OK
* checking package dependencies ... OK
* checking if this is a source package ... OK
* checking if there is a namespace ... OK
* checking for hidden files and directories ... OK
* checking for portable file names ... OK
* checking for sufficient/correct file permissions ... OK
* checking whether package ‘attract’ can be installed ... OK
* checking installed package size ... OK
* checking package directory ... OK
* checking ‘build’ directory ... OK
* checking DESCRIPTION meta-information ... OK
* checking top-level files ... OK
* checking for left-over files ... OK
* checking index information ... OK
* checking package subdirectories ... OK
* checking code files for non-ASCII characters ... OK
* checking R files for syntax errors ... OK
* checking whether the package can be loaded ... OK
* checking whether the package can be loaded with stated dependencies ... OK
* checking whether the package can be unloaded cleanly ... OK
* checking whether the namespace can be loaded with stated dependencies ... OK
* checking whether the namespace can be unloaded cleanly ... OK
* checking loading without being on the library search path ... OK
* checking dependencies in R code ... OK
* checking S3 generic/method consistency ... OK
* checking replacement functions ... OK
* checking foreign function calls ... OK
* checking R code for possible problems ... NOTE
plotsynexprs: warning in axis(1, at = tickMarks, lab = tickLabels):
  partial argument match of 'lab' to 'labels'
removeFlatGenes: warning in topTable(fit2, coef =
  (1:(length(my.contrasts))), adjust = "fdr", n = nrow(dat.fr)):
  partial argument match of 'n' to 'number'
removeFlatGenes: warning in topTable(fit2, coef =
  (1:(length(my.contrasts))), adjust = "fdr", n = nrow(dat.fr)):
  partial argument match of 'adjust' to 'adjust.method'
* checking Rd files ... NOTE
checkRd: (-1) attract-package.Rd:34: Lost braces
    34 | M\"{u}ller F et al. 2008. Regulatory networks define phenotypic classes of human stem cell lines. Nature. 455(7211): 401. 
       |    ^
checkRd: (-1) exprs.dat.Rd:29: Lost braces
    29 | M\"{u}ller F, et al., Regulatory networks define phenotypic classes of human stem cell lines. Nature, 2008. 455(7211): p. 401-405.
       |    ^
checkRd: (-1) findOnepwaySynexprs.Rd:15: Lost braces
    15 |                 a single character string denoting the KEGG or reactome ID of the pathway module to be analyzed or a character code{vector} of gene names of a pathway. 
       |                                                                                                                                    ^
checkRd: (-1) findSynexprs.Rd:16: Lost braces
    16 |     It may also be a character code{vector} of gene names of a pathway if defining a custom pathway.
       |                                    ^
checkRd: (-1) loring.eset.Rd:23: Lost braces
    23 | M\"{u}ller, F, et al., Regulatory networks define phenotypic classes of human stem cell lines. Nature, 2008. 455(7211): p. 401-405.
       |    ^
checkRd: (-1) samp.info.Rd:28: Lost braces
    28 | M\"{u}ller F, et al., Regulatory networks define phenotypic classes of human stem cell lines. Nature, 2008. 455(7211): p. 401-405.
       |    ^
checkRd: (-1) subset.loring.eset.Rd:25: Lost braces
    25 | M\"{u}ller, F, et al., Regulatory networks define phenotypic classes of human stem cell lines. Nature, 2008. 455(7211): p. 401-405.
       |    ^
* checking Rd metadata ... OK
* checking Rd cross-references ... OK
* checking for missing documentation entries ... OK
* checking for code/documentation mismatches ... OK
* checking Rd \usage sections ... OK
* checking Rd contents ... OK
* checking for unstated dependencies in examples ... OK
* checking contents of ‘data’ directory ... OK
* checking data for non-ASCII characters ... OK
* checking data for ASCII and uncompressed saves ... OK
* checking files in ‘vignettes’ ... OK
* checking examples ... OK
Examples with CPU (user + system) or elapsed time > 5s
                   user system elapsed
calcFuncSynexprs 97.534  2.555 109.929
findAttractors   39.972  0.618  44.626
findCorrPartners 12.304  0.038  12.586
findSynexprs      6.099  0.055   6.317
plotsynexprs      5.932  0.052   6.146
* checking for unstated dependencies in vignettes ... OK
* checking package vignettes ... OK
* checking running R code from vignettes ... SKIPPED
* checking re-building of vignette outputs ... SKIPPED
* checking PDF version of manual ... OK
* DONE

Status: 2 NOTEs
See
  ‘/home/biocbuild/bbs-3.22-bioc/meat/attract.Rcheck/00check.log’
for details.


Installation output

attract.Rcheck/00install.out

##############################################################################
##############################################################################
###
### Running command:
###
###   /home/biocbuild/R/R/bin/R CMD INSTALL attract
###
##############################################################################
##############################################################################


* installing to library ‘/home/biocbuild/R/R-4.5.0/site-library’
* installing *source* package ‘attract’ ...
** this is package ‘attract’ version ‘1.62.0’
** using staged installation
** R
** data
** inst
** byte-compile and prepare package for lazy loading
** help
*** installing help indices
** building package indices
** installing vignettes
** testing if installed package can be loaded from temporary location
** testing if installed package can be loaded from final location
** testing if installed package keeps a record of temporary installation path
* DONE (attract)

Tests output


Example timings

attract.Rcheck/attract-Ex.timings

nameusersystemelapsed
AttractorModuleSet-class0.0010.0000.000
SynExpressionSet-class0.0010.0000.001
attract-package000
buildCorMatrix0.0000.0000.001
buildKeggIncidenceMatrix000
calcFuncSynexprs 97.534 2.555109.929
calcInform000
calcModfstat0.0000.0000.001
calcRss000
exprs.dat0.1030.0040.107
filterDataSet0.2490.0160.266
findAttractors39.972 0.61844.626
findCorrPartners12.304 0.03812.586
findOnepwaySynexprs000
findSynexprs6.0990.0556.317
flagPwayExists000
getCustomGenes0.0000.0000.001
getPwayGenes000
loring.eset0.1030.0000.102
plotsynexprs5.9320.0526.146
removeFlatGenes0.160.000.16
samp.info0.0010.0000.001
subset.loring.eset0.0560.0000.056