| Back to Multiple platform build/check report for BioC 3.21: simplified long |
|
This page was generated on 2025-10-16 11:39 -0400 (Thu, 16 Oct 2025).
| Hostname | OS | Arch (*) | R version | Installed pkgs |
|---|---|---|---|---|
| nebbiolo1 | Linux (Ubuntu 24.04.3 LTS) | x86_64 | 4.5.1 (2025-06-13) -- "Great Square Root" | 4833 |
| merida1 | macOS 12.7.6 Monterey | x86_64 | 4.5.1 RC (2025-06-05 r88288) -- "Great Square Root" | 4614 |
| kjohnson1 | macOS 13.7.5 Ventura | arm64 | 4.5.1 Patched (2025-06-14 r88325) -- "Great Square Root" | 4555 |
| kunpeng2 | Linux (openEuler 24.03 LTS) | aarch64 | R Under development (unstable) (2025-02-19 r87757) -- "Unsuffered Consequences" | 4586 |
| Click on any hostname to see more info about the system (e.g. compilers) (*) as reported by 'uname -p', except on Windows and Mac OS X | ||||
| Package 78/2341 | Hostname | OS / Arch | INSTALL | BUILD | CHECK | BUILD BIN | ||||||||
| annotatr 1.34.0 (landing page) Raymond G. Cavalcante
| nebbiolo1 | Linux (Ubuntu 24.04.3 LTS) / x86_64 | OK | OK | ERROR | |||||||||
| merida1 | macOS 12.7.6 Monterey / x86_64 | OK | OK | ERROR | OK | |||||||||
| kjohnson1 | macOS 13.7.5 Ventura / arm64 | OK | OK | ERROR | OK | |||||||||
| kunpeng2 | Linux (openEuler 24.03 LTS) / aarch64 | OK | OK | ERROR | ||||||||||
|
To the developers/maintainers of the annotatr package: - Allow up to 24 hours (and sometimes 48 hours) for your latest push to git@git.bioconductor.org:packages/annotatr.git to reflect on this report. See Troubleshooting Build Report for more information. - Use the following Renviron settings to reproduce errors and warnings. - If 'R CMD check' started to fail recently on the Linux builder(s) over a missing dependency, add the missing dependency to 'Suggests:' in your DESCRIPTION file. See Renviron.bioc for more information. |
| Package: annotatr |
| Version: 1.34.0 |
| Command: /Library/Frameworks/R.framework/Resources/bin/R CMD check --install=check:annotatr.install-out.txt --library=/Library/Frameworks/R.framework/Resources/library --no-vignettes --timings annotatr_1.34.0.tar.gz |
| StartedAt: 2025-10-14 12:47:35 -0400 (Tue, 14 Oct 2025) |
| EndedAt: 2025-10-14 12:53:56 -0400 (Tue, 14 Oct 2025) |
| EllapsedTime: 381.4 seconds |
| RetCode: 1 |
| Status: ERROR |
| CheckDir: annotatr.Rcheck |
| Warnings: NA |
##############################################################################
##############################################################################
###
### Running command:
###
### /Library/Frameworks/R.framework/Resources/bin/R CMD check --install=check:annotatr.install-out.txt --library=/Library/Frameworks/R.framework/Resources/library --no-vignettes --timings annotatr_1.34.0.tar.gz
###
##############################################################################
##############################################################################
* using log directory ‘/Users/biocbuild/bbs-3.21-bioc/meat/annotatr.Rcheck’
* using R version 4.5.1 Patched (2025-06-14 r88325)
* using platform: aarch64-apple-darwin20
* R was compiled by
Apple clang version 16.0.0 (clang-1600.0.26.6)
GNU Fortran (GCC) 14.2.0
* running under: macOS Ventura 13.7.5
* using session charset: UTF-8
* using option ‘--no-vignettes’
* checking for file ‘annotatr/DESCRIPTION’ ... OK
* this is package ‘annotatr’ version ‘1.34.0’
* checking package namespace information ... OK
* checking package dependencies ... OK
* checking if this is a source package ... OK
* checking if there is a namespace ... OK
* checking for hidden files and directories ... OK
* checking for portable file names ... OK
* checking for sufficient/correct file permissions ... OK
* checking whether package ‘annotatr’ can be installed ... OK
* checking installed package size ... OK
* checking package directory ... OK
* checking ‘build’ directory ... OK
* checking DESCRIPTION meta-information ... OK
* checking top-level files ... OK
* checking for left-over files ... OK
* checking index information ... OK
* checking package subdirectories ... OK
* checking code files for non-ASCII characters ... OK
* checking R files for syntax errors ... OK
* checking whether the package can be loaded ... OK
* checking whether the package can be loaded with stated dependencies ... OK
* checking whether the package can be unloaded cleanly ... OK
* checking whether the namespace can be loaded with stated dependencies ... OK
* checking whether the namespace can be unloaded cleanly ... OK
* checking dependencies in R code ... OK
* checking S3 generic/method consistency ... OK
* checking replacement functions ... OK
* checking foreign function calls ... OK
* checking R code for possible problems ... NOTE
plot_coannotations: no visible binding for global variable ‘.’
plot_numerical_coannotations: no visible binding for global variable
‘.’
Undefined global functions or variables:
.
* checking Rd files ... OK
* checking Rd metadata ... OK
* checking Rd cross-references ... OK
* checking for missing documentation entries ... OK
* checking for code/documentation mismatches ... OK
* checking Rd \usage sections ... OK
* checking Rd contents ... OK
* checking for unstated dependencies in examples ... OK
* checking contents of ‘data’ directory ... OK
* checking data for non-ASCII characters ... OK
* checking LazyData ... OK
* checking data for ASCII and uncompressed saves ... OK
* checking files in ‘vignettes’ ... OK
* checking examples ... OK
Examples with CPU (user + system) or elapsed time > 5s
user system elapsed
build_annotations 6.475 0.191 6.703
build_ah_annots 3.616 0.389 6.137
* checking for unstated dependencies in ‘tests’ ... OK
* checking tests ...
Running ‘testthat.R’
ERROR
Running the tests in ‘tests/testthat.R’ failed.
Last 13 lines of output:
dplyr::setequal(class(dm_vs_num_co2), c("gg", "ggplot")) not equal to TRUE.
1 element mismatch
── Failure ('test_7_visualize.R:290:5'): Test plot_categorical() success ───────
dplyr::setequal(class(dm_vn_min), c("gg", "ggplot")) not equal to TRUE.
1 element mismatch
── Failure ('test_7_visualize.R:291:5'): Test plot_categorical() success ───────
dplyr::setequal(class(dm_vn), c("gg", "ggplot")) not equal to TRUE.
1 element mismatch
── Failure ('test_7_visualize.R:292:5'): Test plot_categorical() success ───────
dplyr::setequal(class(dm_vn_rnd), c("gg", "ggplot")) not equal to TRUE.
1 element mismatch
[ FAIL 12 | WARN 4 | SKIP 0 | PASS 60 ]
Error: Test failures
Execution halted
* checking for unstated dependencies in vignettes ... OK
* checking package vignettes ... OK
* checking running R code from vignettes ... SKIPPED
* checking re-building of vignette outputs ... SKIPPED
* checking PDF version of manual ... OK
* DONE
Status: 1 ERROR, 1 NOTE
See
‘/Users/biocbuild/bbs-3.21-bioc/meat/annotatr.Rcheck/00check.log’
for details.
annotatr.Rcheck/00install.out
############################################################################## ############################################################################## ### ### Running command: ### ### /Library/Frameworks/R.framework/Resources/bin/R CMD INSTALL annotatr ### ############################################################################## ############################################################################## * installing to library ‘/Library/Frameworks/R.framework/Versions/4.5-arm64/Resources/library’ * installing *source* package ‘annotatr’ ... ** this is package ‘annotatr’ version ‘1.34.0’ ** using staged installation ** R ** data *** moving datasets to lazyload DB ** inst ** byte-compile and prepare package for lazy loading ** help *** installing help indices ** building package indices ** installing vignettes ** testing if installed package can be loaded from temporary location ** testing if installed package can be loaded from final location ** testing if installed package keeps a record of temporary installation path * DONE (annotatr)
annotatr.Rcheck/tests/testthat.Rout.fail
R version 4.5.1 Patched (2025-06-14 r88325) -- "Great Square Root"
Copyright (C) 2025 The R Foundation for Statistical Computing
Platform: aarch64-apple-darwin20
R is free software and comes with ABSOLUTELY NO WARRANTY.
You are welcome to redistribute it under certain conditions.
Type 'license()' or 'licence()' for distribution details.
R is a collaborative project with many contributors.
Type 'contributors()' for more information and
'citation()' on how to cite R or R packages in publications.
Type 'demo()' for some demos, 'help()' for on-line help, or
'help.start()' for an HTML browser interface to help.
Type 'q()' to quit R.
> library(testthat)
> library(annotatr)
>
> test_check("annotatr")
[ FAIL 12 | WARN 4 | SKIP 0 | PASS 60 ]
══ Failed tests ════════════════════════════════════════════════════════════════
── Failure ('test_7_visualize.R:80:5'): Test plot_annotation() success ─────────
dplyr::setequal(class(dm_va_min), c("gg", "ggplot")) not equal to TRUE.
1 element mismatch
── Failure ('test_7_visualize.R:81:5'): Test plot_annotation() success ─────────
dplyr::setequal(class(dm_va), c("gg", "ggplot")) not equal to TRUE.
1 element mismatch
── Failure ('test_7_visualize.R:82:5'): Test plot_annotation() success ─────────
dplyr::setequal(class(dm_va_rnd), c("gg", "ggplot")) not equal to TRUE.
1 element mismatch
── Failure ('test_7_visualize.R:96:5'): Test plot_coannotations() success ──────
dplyr::setequal(class(dm_vs_ca), c("gg", "ggplot")) not equal to TRUE.
1 element mismatch
── Failure ('test_7_visualize.R:154:5'): Test plot_numerical() success ─────────
dplyr::setequal(class(dm_vs_regions_mu1), c("gg", "ggplot")) not equal to TRUE.
1 element mismatch
── Failure ('test_7_visualize.R:155:5'): Test plot_numerical() success ─────────
dplyr::setequal(class(dm_vs_regions_annot), c("gg", "ggplot")) not equal to TRUE.
1 element mismatch
── Failure ('test_7_visualize.R:156:5'): Test plot_numerical() success ─────────
dplyr::setequal(class(dm_vs_regions_name), c("gg", "ggplot")) not equal to TRUE.
1 element mismatch
── Failure ('test_7_visualize.R:185:5'): Test plot_numerical_coannotations() ───
dplyr::setequal(class(dm_vs_num_co1), c("gg", "ggplot")) not equal to TRUE.
1 element mismatch
── Failure ('test_7_visualize.R:186:5'): Test plot_numerical_coannotations() ───
dplyr::setequal(class(dm_vs_num_co2), c("gg", "ggplot")) not equal to TRUE.
1 element mismatch
── Failure ('test_7_visualize.R:290:5'): Test plot_categorical() success ───────
dplyr::setequal(class(dm_vn_min), c("gg", "ggplot")) not equal to TRUE.
1 element mismatch
── Failure ('test_7_visualize.R:291:5'): Test plot_categorical() success ───────
dplyr::setequal(class(dm_vn), c("gg", "ggplot")) not equal to TRUE.
1 element mismatch
── Failure ('test_7_visualize.R:292:5'): Test plot_categorical() success ───────
dplyr::setequal(class(dm_vn_rnd), c("gg", "ggplot")) not equal to TRUE.
1 element mismatch
[ FAIL 12 | WARN 4 | SKIP 0 | PASS 60 ]
Error: Test failures
Execution halted
annotatr.Rcheck/annotatr-Ex.timings
| name | user | system | elapsed | |
| annotate_regions | 1.609 | 0.021 | 1.630 | |
| annotatr_cache | 1.895 | 0.636 | 2.547 | |
| build_ah_annots | 3.616 | 0.389 | 6.137 | |
| build_annotations | 6.475 | 0.191 | 6.703 | |
| builtin_annotations | 0.006 | 0.004 | 0.010 | |
| builtin_genomes | 0.000 | 0.000 | 0.001 | |
| plot_annotation | 3.861 | 0.186 | 4.073 | |
| plot_categorical | 2.166 | 0.110 | 2.281 | |
| plot_coannotations | 0.781 | 0.014 | 0.796 | |
| plot_numerical | 0.634 | 0.025 | 0.659 | |
| plot_numerical_coannotations | 0.539 | 0.009 | 0.549 | |
| randomize_regions | 1.699 | 0.037 | 1.745 | |
| read_annotations | 0.396 | 0.018 | 0.415 | |
| read_regions | 0.404 | 0.019 | 0.423 | |
| summarize_annotations | 1.818 | 0.039 | 1.860 | |
| summarize_categorical | 0.445 | 0.021 | 0.465 | |
| summarize_numerical | 0.593 | 0.028 | 0.657 | |