Back to Multiple platform build/check report for BioC 3.21:   simplified   long
[A]BCDEFGHIJKLMNOPQRSTUVWXYZ

This page was generated on 2025-10-09 11:36 -0400 (Thu, 09 Oct 2025).

HostnameOSArch (*)R versionInstalled pkgs
nebbiolo1Linux (Ubuntu 24.04.3 LTS)x86_644.5.1 (2025-06-13) -- "Great Square Root" 4832
merida1macOS 12.7.5 Montereyx86_644.5.1 RC (2025-06-05 r88288) -- "Great Square Root" 4613
kjohnson1macOS 13.6.6 Venturaarm644.5.1 Patched (2025-06-14 r88325) -- "Great Square Root" 4554
kunpeng2Linux (openEuler 24.03 LTS)aarch64R Under development (unstable) (2025-02-19 r87757) -- "Unsuffered Consequences" 4585
Click on any hostname to see more info about the system (e.g. compilers)      (*) as reported by 'uname -p', except on Windows and Mac OS X

All results for package affyio


To the developers/maintainers of the affyio package:
- Allow up to 24 hours (and sometimes 48 hours) for your latest push to git@git.bioconductor.org:packages/affyio.git to reflect on this report. See Troubleshooting Build Report for more information.
- Use the following Renviron settings to reproduce errors and warnings.
- If 'R CMD check' started to fail recently on the Linux builder(s) over a missing dependency, add the missing dependency to 'Suggests:' in your DESCRIPTION file. See Renviron.bioc for more information.

raw results

Package 29/2341HostnameOS / ArchINSTALLBUILDCHECKBUILD BIN
affyio 1.78.0  (landing page)
Ben Bolstad
Snapshot Date: 2025-10-06 13:40 -0400 (Mon, 06 Oct 2025)
git_url: https://git.bioconductor.org/packages/affyio
git_branch: RELEASE_3_21
git_last_commit: 9132e13
git_last_commit_date: 2025-04-15 09:15:58 -0400 (Tue, 15 Apr 2025)
nebbiolo1Linux (Ubuntu 24.04.3 LTS) / x86_64  OK    OK    WARNINGS  UNNEEDED, same version is already published
merida1macOS 12.7.5 Monterey / x86_64  OK    OK    WARNINGS    OK  UNNEEDED, same version is already published
kjohnson1macOS 13.6.6 Ventura / arm64  OK    OK    WARNINGS    OK  UNNEEDED, same version is already published
kunpeng2Linux (openEuler 24.03 LTS) / aarch64  OK    OK    WARNINGS  



Results for Bioconductor software packages that depend directly on package affyio

QUICK STATSOS / ArchINSTALLBUILDCHECKBUILD BIN
nebbiolo1Linux (Ubuntu 24.04.3 LTS) / x86_64
0010
0010
0046
merida1macOS 12.7.5 Monterey / x86_64
0010
0010
0046
0010
kjohnson1macOS 13.6.6 Ventura / arm64
0010
0010
0046
0010
kunpeng2Linux (openEuler 24.03 LTS) / aarch64
0010
0010
0136
Package 1/10HostnameOS / ArchINSTALLBUILDCHECKBUILD BIN
affy 1.86.0  (landing page)
Robert D. Shear
git_last_commit: 263e707
git_last_commit_date: 2025-04-15 09:16:06 -0400
nebbiolo1Linux (Ubuntu 24.04.3 LTS) / x86_64  OK    OK    WARNINGS  UNNEEDED, same version is already published
merida1macOS 12.7.5 Monterey / x86_64  OK    OK    WARNINGS    OK  UNNEEDED, same version is already published
kjohnson1macOS 13.6.6 Ventura / arm64  OK    OK    WARNINGS    OK  UNNEEDED, same version is already published
kunpeng2Linux (openEuler 24.03 LTS) / aarch64  OK    OK    WARNINGS  
Package 2/10HostnameOS / ArchINSTALLBUILDCHECKBUILD BIN
affylmGUI 1.82.0  (landing page)
Gordon Smyth
git_last_commit: 1da3343
git_last_commit_date: 2025-04-15 09:34:17 -0400
nebbiolo1Linux (Ubuntu 24.04.3 LTS) / x86_64  OK    OK    OK  UNNEEDED, same version is already published
merida1macOS 12.7.5 Monterey / x86_64  OK    OK    OK    OK  UNNEEDED, same version is already published
kjohnson1macOS 13.6.6 Ventura / arm64  OK    OK    OK    OK  UNNEEDED, same version is already published
kunpeng2Linux (openEuler 24.03 LTS) / aarch64  OK    OK    OK  
Package 3/10HostnameOS / ArchINSTALLBUILDCHECKBUILD BIN
crlmm 1.66.0  (landing page)
Benilton S Carvalho
git_last_commit: 8a814b7
git_last_commit_date: 2025-04-15 09:44:26 -0400
nebbiolo1Linux (Ubuntu 24.04.3 LTS) / x86_64  OK    OK    WARNINGS  UNNEEDED, same version is already published
merida1macOS 12.7.5 Monterey / x86_64  OK    OK    WARNINGS    OK  UNNEEDED, same version is already published
kjohnson1macOS 13.6.6 Ventura / arm64  OK    OK    WARNINGS    OK  UNNEEDED, same version is already published
kunpeng2Linux (openEuler 24.03 LTS) / aarch64  OK    OK    WARNINGS  
Package 4/10HostnameOS / ArchINSTALLBUILDCHECKBUILD BIN
ExiMiR 2.50.0  (landing page)
Sylvain Gubian
git_last_commit: 08eba45
git_last_commit_date: 2025-04-15 10:01:43 -0400
nebbiolo1Linux (Ubuntu 24.04.3 LTS) / x86_64  OK    OK    OK  UNNEEDED, same version is already published
merida1macOS 12.7.5 Monterey / x86_64  OK    OK    OK    OK  UNNEEDED, same version is already published
kjohnson1macOS 13.6.6 Ventura / arm64  OK    OK    OK    OK  UNNEEDED, same version is already published
kunpeng2Linux (openEuler 24.03 LTS) / aarch64  OK    OK    OK  
Package 5/10HostnameOS / ArchINSTALLBUILDCHECKBUILD BIN
gcrma 2.80.0  (landing page)
Z. Wu
git_last_commit: 7ae57bb
git_last_commit_date: 2025-04-15 09:16:37 -0400
nebbiolo1Linux (Ubuntu 24.04.3 LTS) / x86_64  OK    OK    OK  UNNEEDED, same version is already published
merida1macOS 12.7.5 Monterey / x86_64  OK    OK    OK    OK  UNNEEDED, same version is already published
kjohnson1macOS 13.6.6 Ventura / arm64  OK    OK    OK    OK  UNNEEDED, same version is already published
kunpeng2Linux (openEuler 24.03 LTS) / aarch64  OK    OK    OK  
Package 6/10HostnameOS / ArchINSTALLBUILDCHECKBUILD BIN
makecdfenv 1.84.0  (landing page)
James W. MacDonald
git_last_commit: efb808c
git_last_commit_date: 2025-04-15 09:16:16 -0400
nebbiolo1Linux (Ubuntu 24.04.3 LTS) / x86_64  OK    OK    WARNINGS  UNNEEDED, same version is already published
merida1macOS 12.7.5 Monterey / x86_64  OK    OK    OK    OK  UNNEEDED, same version is already published
kjohnson1macOS 13.6.6 Ventura / arm64  OK    OK    OK    OK  UNNEEDED, same version is already published
kunpeng2Linux (openEuler 24.03 LTS) / aarch64  OK    OK    OK  
Package 7/10HostnameOS / ArchINSTALLBUILDCHECKBUILD BIN
oligo 1.72.0  (landing page)
Benilton Carvalho
git_last_commit: bced021
git_last_commit_date: 2025-04-15 09:36:44 -0400
nebbiolo1Linux (Ubuntu 24.04.3 LTS) / x86_64  OK    OK    OK  UNNEEDED, same version is already published
merida1macOS 12.7.5 Monterey / x86_64  OK    OK    OK    OK  UNNEEDED, same version is already published
kjohnson1macOS 13.6.6 Ventura / arm64  OK    OK    OK    OK  UNNEEDED, same version is already published
kunpeng2Linux (openEuler 24.03 LTS) / aarch64  OK    OK    ERROR  
Package 8/10HostnameOS / ArchINSTALLBUILDCHECKBUILD BIN
oligoClasses 1.70.0  (landing page)
Benilton Carvalho and Robert Scharpf
git_last_commit: 6ee1f06
git_last_commit_date: 2025-04-15 09:40:53 -0400
nebbiolo1Linux (Ubuntu 24.04.3 LTS) / x86_64  OK    OK    WARNINGS  UNNEEDED, same version is already published
merida1macOS 12.7.5 Monterey / x86_64  OK    OK    WARNINGS    OK  UNNEEDED, same version is already published
kjohnson1macOS 13.6.6 Ventura / arm64  OK    OK    WARNINGS    OK  UNNEEDED, same version is already published
kunpeng2Linux (openEuler 24.03 LTS) / aarch64  OK    OK    WARNINGS  
Package 9/10HostnameOS / ArchINSTALLBUILDCHECKBUILD BIN
puma 3.50.0  (landing page)
Xuejun Liu
git_last_commit: 189a758
git_last_commit_date: 2025-04-15 09:40:26 -0400
nebbiolo1Linux (Ubuntu 24.04.3 LTS) / x86_64  OK    OK    OK  UNNEEDED, same version is already published
merida1macOS 12.7.5 Monterey / x86_64  OK    OK    WARNINGS    OK  UNNEEDED, same version is already published
kjohnson1macOS 13.6.6 Ventura / arm64  OK    OK    WARNINGS    OK  UNNEEDED, same version is already published
kunpeng2Linux (openEuler 24.03 LTS) / aarch64  OK    OK    OK  
Package 10/10HostnameOS / ArchINSTALLBUILDCHECKBUILD BIN
SCAN.UPC 2.50.0  (landing page)
Stephen R. Piccolo
git_last_commit: ad3cd0f
git_last_commit_date: 2025-04-15 10:15:44 -0400
nebbiolo1Linux (Ubuntu 24.04.3 LTS) / x86_64  OK    OK    OK  UNNEEDED, same version is already published
merida1macOS 12.7.5 Monterey / x86_64  OK    OK    OK    OK  UNNEEDED, same version is already published
kjohnson1macOS 13.6.6 Ventura / arm64  OK    OK    OK    OK  UNNEEDED, same version is already published
kunpeng2Linux (openEuler 24.03 LTS) / aarch64  OK    OK    OK