| Back to Multiple platform build/check report for BioC 3.21: simplified long |
|
This page was generated on 2025-10-16 11:41 -0400 (Thu, 16 Oct 2025).
| Hostname | OS | Arch (*) | R version | Installed pkgs |
|---|---|---|---|---|
| nebbiolo1 | Linux (Ubuntu 24.04.3 LTS) | x86_64 | 4.5.1 (2025-06-13) -- "Great Square Root" | 4833 |
| merida1 | macOS 12.7.6 Monterey | x86_64 | 4.5.1 RC (2025-06-05 r88288) -- "Great Square Root" | 4614 |
| kjohnson1 | macOS 13.7.5 Ventura | arm64 | 4.5.1 Patched (2025-06-14 r88325) -- "Great Square Root" | 4555 |
| kunpeng2 | Linux (openEuler 24.03 LTS) | aarch64 | R Under development (unstable) (2025-02-19 r87757) -- "Unsuffered Consequences" | 4586 |
| Click on any hostname to see more info about the system (e.g. compilers) (*) as reported by 'uname -p', except on Windows and Mac OS X | ||||
| Package 2333/2341 | Hostname | OS / Arch | INSTALL | BUILD | CHECK | BUILD BIN | ||||||||
| YAPSA 1.34.0 (landing page) Zuguang Gu
| nebbiolo1 | Linux (Ubuntu 24.04.3 LTS) / x86_64 | OK | OK | OK | |||||||||
| merida1 | macOS 12.7.6 Monterey / x86_64 | OK | OK | OK | OK | |||||||||
| kjohnson1 | macOS 13.7.5 Ventura / arm64 | OK | OK | OK | OK | |||||||||
| kunpeng2 | Linux (openEuler 24.03 LTS) / aarch64 | OK | OK | NA | ||||||||||
|
To the developers/maintainers of the YAPSA package: - Allow up to 24 hours (and sometimes 48 hours) for your latest push to git@git.bioconductor.org:packages/YAPSA.git to reflect on this report. See Troubleshooting Build Report for more information. - Use the following Renviron settings to reproduce errors and warnings. - If 'R CMD check' started to fail recently on the Linux builder(s) over a missing dependency, add the missing dependency to 'Suggests:' in your DESCRIPTION file. See Renviron.bioc for more information. |
| Package: YAPSA |
| Version: 1.34.0 |
| Command: /Library/Frameworks/R.framework/Resources/bin/R CMD check --install=check:YAPSA.install-out.txt --library=/Library/Frameworks/R.framework/Resources/library --no-vignettes --timings YAPSA_1.34.0.tar.gz |
| StartedAt: 2025-10-15 17:02:45 -0400 (Wed, 15 Oct 2025) |
| EndedAt: 2025-10-15 17:12:42 -0400 (Wed, 15 Oct 2025) |
| EllapsedTime: 596.7 seconds |
| RetCode: 0 |
| Status: OK |
| CheckDir: YAPSA.Rcheck |
| Warnings: 0 |
##############################################################################
##############################################################################
###
### Running command:
###
### /Library/Frameworks/R.framework/Resources/bin/R CMD check --install=check:YAPSA.install-out.txt --library=/Library/Frameworks/R.framework/Resources/library --no-vignettes --timings YAPSA_1.34.0.tar.gz
###
##############################################################################
##############################################################################
* using log directory ‘/Users/biocbuild/bbs-3.21-bioc/meat/YAPSA.Rcheck’
* using R version 4.5.1 Patched (2025-06-14 r88325)
* using platform: aarch64-apple-darwin20
* R was compiled by
Apple clang version 16.0.0 (clang-1600.0.26.6)
GNU Fortran (GCC) 14.2.0
* running under: macOS Ventura 13.7.5
* using session charset: UTF-8
* using option ‘--no-vignettes’
* checking for file ‘YAPSA/DESCRIPTION’ ... OK
* checking extension type ... Package
* this is package ‘YAPSA’ version ‘1.34.0’
* package encoding: UTF-8
* checking package namespace information ... OK
* checking package dependencies ... INFO
Imports includes 21 non-default packages.
Importing from so many packages makes the package vulnerable to any of
them becoming unavailable. Move as many as possible to Suggests and
use conditionally.
* checking if this is a source package ... OK
* checking if there is a namespace ... OK
* checking for hidden files and directories ... OK
* checking for portable file names ... OK
* checking for sufficient/correct file permissions ... OK
* checking whether package ‘YAPSA’ can be installed ... OK
* checking installed package size ... OK
* checking package directory ... OK
* checking ‘build’ directory ... OK
* checking DESCRIPTION meta-information ... OK
* checking top-level files ... OK
* checking for left-over files ... OK
* checking index information ... OK
* checking package subdirectories ... OK
* checking code files for non-ASCII characters ... OK
* checking R files for syntax errors ... OK
* checking whether the package can be loaded ... OK
* checking whether the package can be loaded with stated dependencies ... OK
* checking whether the package can be unloaded cleanly ... OK
* checking whether the namespace can be loaded with stated dependencies ... OK
* checking whether the namespace can be unloaded cleanly ... OK
* checking dependencies in R code ... OK
* checking S3 generic/method consistency ... OK
* checking replacement functions ... OK
* checking foreign function calls ... OK
* checking R code for possible problems ... OK
* checking Rd files ... OK
* checking Rd metadata ... OK
* checking Rd cross-references ... NOTE
Found the following Rd file(s) with Rd \link{} targets missing package
anchors:
create_mutation_catalogue_from_df.Rd: makeGRangesFromDataFrame
makeVRangesFromDataFrame.Rd: makeGRangesFromDataFrame, GenomicRanges
Please provide package anchors for all Rd \link{} targets not in the
package itself and the base packages.
* checking for missing documentation entries ... OK
* checking for code/documentation mismatches ... OK
* checking Rd \usage sections ... OK
* checking Rd contents ... OK
* checking for unstated dependencies in examples ... OK
* checking contents of ‘data’ directory ... OK
* checking data for non-ASCII characters ... OK
* checking data for ASCII and uncompressed saves ... OK
* checking files in ‘vignettes’ ... OK
* checking examples ... OK
Examples with CPU (user + system) or elapsed time > 5s
user system elapsed
confidence_indel_only_calulation 21.103 0.504 21.748
create_indel_mutation_catalogue_from_df 14.993 0.830 15.940
run_SMC 5.499 0.543 6.062
build_gene_list_for_pathway 5.437 0.073 31.526
* checking for unstated dependencies in ‘tests’ ... OK
* checking tests ...
Running ‘testthat.R’
OK
* checking for unstated dependencies in vignettes ... OK
* checking package vignettes ... OK
* checking running R code from vignettes ... SKIPPED
* checking re-building of vignette outputs ... SKIPPED
* checking PDF version of manual ... OK
* DONE
Status: 1 NOTE
See
‘/Users/biocbuild/bbs-3.21-bioc/meat/YAPSA.Rcheck/00check.log’
for details.
YAPSA.Rcheck/00install.out
############################################################################## ############################################################################## ### ### Running command: ### ### /Library/Frameworks/R.framework/Resources/bin/R CMD INSTALL YAPSA ### ############################################################################## ############################################################################## * installing to library ‘/Library/Frameworks/R.framework/Versions/4.5-arm64/Resources/library’ * installing *source* package ‘YAPSA’ ... ** this is package ‘YAPSA’ version ‘1.34.0’ ** using staged installation ** R ** data ** inst ** byte-compile and prepare package for lazy loading Found more than one class "atomicVector" in cache; using the first, from namespace 'Matrix' Also defined by 'Rmpfr' Found more than one class "atomicVector" in cache; using the first, from namespace 'Matrix' Also defined by 'Rmpfr' Found more than one class "atomicVector" in cache; using the first, from namespace 'Matrix' Also defined by 'Rmpfr' Found more than one class "atomicVector" in cache; using the first, from namespace 'Matrix' Also defined by 'Rmpfr' Found more than one class "atomicVector" in cache; using the first, from namespace 'Matrix' Also defined by 'Rmpfr' Found more than one class "atomicVector" in cache; using the first, from namespace 'Matrix' Also defined by 'Rmpfr' Found more than one class "atomicVector" in cache; using the first, from namespace 'Matrix' Also defined by 'Rmpfr' Found more than one class "atomicVector" in cache; using the first, from namespace 'Matrix' Also defined by 'Rmpfr' ** help *** installing help indices ** building package indices ** installing vignettes ** testing if installed package can be loaded from temporary location Found more than one class "atomicVector" in cache; using the first, from namespace 'Matrix' Also defined by 'Rmpfr' Found more than one class "atomicVector" in cache; using the first, from namespace 'Matrix' Also defined by 'Rmpfr' Found more than one class "atomicVector" in cache; using the first, from namespace 'Matrix' Also defined by 'Rmpfr' Found more than one class "atomicVector" in cache; using the first, from namespace 'Matrix' Also defined by 'Rmpfr' Found more than one class "atomicVector" in cache; using the first, from namespace 'Matrix' Also defined by 'Rmpfr' Found more than one class "atomicVector" in cache; using the first, from namespace 'Matrix' Also defined by 'Rmpfr' Found more than one class "atomicVector" in cache; using the first, from namespace 'Matrix' Also defined by 'Rmpfr' Found more than one class "atomicVector" in cache; using the first, from namespace 'Matrix' Also defined by 'Rmpfr' ** testing if installed package can be loaded from final location Found more than one class "atomicVector" in cache; using the first, from namespace 'Matrix' Also defined by 'Rmpfr' Found more than one class "atomicVector" in cache; using the first, from namespace 'Matrix' Also defined by 'Rmpfr' Found more than one class "atomicVector" in cache; using the first, from namespace 'Matrix' Also defined by 'Rmpfr' Found more than one class "atomicVector" in cache; using the first, from namespace 'Matrix' Also defined by 'Rmpfr' Found more than one class "atomicVector" in cache; using the first, from namespace 'Matrix' Also defined by 'Rmpfr' Found more than one class "atomicVector" in cache; using the first, from namespace 'Matrix' Also defined by 'Rmpfr' Found more than one class "atomicVector" in cache; using the first, from namespace 'Matrix' Also defined by 'Rmpfr' Found more than one class "atomicVector" in cache; using the first, from namespace 'Matrix' Also defined by 'Rmpfr' ** testing if installed package keeps a record of temporary installation path * DONE (YAPSA)
YAPSA.Rcheck/tests/testthat.Rout
R version 4.5.1 Patched (2025-06-14 r88325) -- "Great Square Root"
Copyright (C) 2025 The R Foundation for Statistical Computing
Platform: aarch64-apple-darwin20
R is free software and comes with ABSOLUTELY NO WARRANTY.
You are welcome to redistribute it under certain conditions.
Type 'license()' or 'licence()' for distribution details.
R is a collaborative project with many contributors.
Type 'contributors()' for more information and
'citation()' on how to cite R or R packages in publications.
Type 'demo()' for some demos, 'help()' for on-line help, or
'help.start()' for an HTML browser interface to help.
Type 'q()' to quit R.
> Sys.setenv(R_TESTS=" ")
> library(testthat)
> library(YAPSA)
Loading required package: GenomicRanges
Loading required package: stats4
Loading required package: BiocGenerics
Loading required package: generics
Attaching package: 'generics'
The following objects are masked from 'package:base':
as.difftime, as.factor, as.ordered, intersect, is.element, setdiff,
setequal, union
Attaching package: 'BiocGenerics'
The following objects are masked from 'package:stats':
IQR, mad, sd, var, xtabs
The following objects are masked from 'package:base':
Filter, Find, Map, Position, Reduce, anyDuplicated, aperm, append,
as.data.frame, basename, cbind, colnames, dirname, do.call,
duplicated, eval, evalq, get, grep, grepl, is.unsorted, lapply,
mapply, match, mget, order, paste, pmax, pmax.int, pmin, pmin.int,
rank, rbind, rownames, sapply, saveRDS, table, tapply, unique,
unsplit, which.max, which.min
Loading required package: S4Vectors
Attaching package: 'S4Vectors'
The following object is masked from 'package:utils':
findMatches
The following objects are masked from 'package:base':
I, expand.grid, unname
Loading required package: IRanges
Loading required package: GenomeInfoDb
Loading required package: ggplot2
Loading required package: grid
Found more than one class "atomicVector" in cache; using the first, from namespace 'Matrix'
Also defined by 'Rmpfr'
Found more than one class "atomicVector" in cache; using the first, from namespace 'Matrix'
Also defined by 'Rmpfr'
Found more than one class "atomicVector" in cache; using the first, from namespace 'Matrix'
Also defined by 'Rmpfr'
Found more than one class "atomicVector" in cache; using the first, from namespace 'Matrix'
Also defined by 'Rmpfr'
Found more than one class "atomicVector" in cache; using the first, from namespace 'Matrix'
Also defined by 'Rmpfr'
Found more than one class "atomicVector" in cache; using the first, from namespace 'Matrix'
Also defined by 'Rmpfr'
Found more than one class "atomicVector" in cache; using the first, from namespace 'Matrix'
Also defined by 'Rmpfr'
Found more than one class "atomicVector" in cache; using the first, from namespace 'Matrix'
Also defined by 'Rmpfr'
>
> test_check("YAPSA")
YAPSA:::shapiro_if_possible::error: Non-numeric inputYAPSA:::makeVRangesFromDataFrame::warning:strand information missing, set to "+".
YAPSA:::makeVRangesFromDataFrame::in_PID.field found. Retrieving PID information.
YAPSA:::makeVRangesFromDataFrame::in_subgroup.field found. Retrieving subgroup information.
[ FAIL 0 | WARN 1 | SKIP 0 | PASS 62 ]
[ FAIL 0 | WARN 1 | SKIP 0 | PASS 62 ]
>
> proc.time()
user system elapsed
24.935 1.362 26.602
YAPSA.Rcheck/YAPSA-Ex.timings
| name | user | system | elapsed | |
| GenomeOfNl_raw | 0.009 | 0.003 | 0.012 | |
| LCD | 0.009 | 0.002 | 0.010 | |
| LCD_complex_cutoff | 0 | 0 | 0 | |
| MutCat_indel_df | 0.004 | 0.004 | 0.007 | |
| SMC | 0 | 0 | 0 | |
| SMC_perPID | 0.000 | 0.001 | 0.000 | |
| add_annotation | 0 | 0 | 0 | |
| add_as_fist_to_list | 0 | 0 | 0 | |
| aggregate_exposures_by_category | 0.000 | 0.000 | 0.001 | |
| annotate_intermut_dist_PID | 0.017 | 0.001 | 0.019 | |
| annotate_intermut_dist_cohort | 0.020 | 0.002 | 0.022 | |
| annotation_exposures_barplot | 0 | 0 | 0 | |
| annotation_exposures_list_barplot | 0 | 0 | 0 | |
| annotation_heatmap_exposures | 0 | 0 | 0 | |
| attribute_nucleotide_exchanges | 0.003 | 0.000 | 0.003 | |
| attribute_sequence_contex_indel | 0.615 | 0.066 | 0.682 | |
| attribution_of_indels | 0.584 | 0.043 | 0.628 | |
| build_gene_list_for_pathway | 5.437 | 0.073 | 31.526 | |
| classify_indels | 0 | 0 | 0 | |
| compare_SMCs | 0.001 | 0.001 | 0.000 | |
| compare_exposures | 0 | 0 | 0 | |
| compare_expousre_sets | 0.004 | 0.001 | 0.005 | |
| compare_sets | 0.002 | 0.001 | 0.003 | |
| compare_to_catalogues | 0 | 0 | 0 | |
| complex_heatmap_exposures | 1.210 | 0.025 | 1.235 | |
| computeLogLik | 0 | 0 | 0 | |
| compute_comparison_stat_df | 0 | 0 | 0 | |
| confIntExp | 1.777 | 0.512 | 3.348 | |
| confidence_indel_calulation | 0.002 | 0.003 | 0.004 | |
| confidence_indel_only_calulation | 21.103 | 0.504 | 21.748 | |
| correct_rounded | 0 | 0 | 0 | |
| cosineDist | 0 | 0 | 0 | |
| cosineMatchDist | 0.003 | 0.000 | 0.003 | |
| create_indel_mut_cat_from_df | 0.473 | 0.030 | 0.503 | |
| create_indel_mutation_catalogue_from_df | 14.993 | 0.830 | 15.940 | |
| create_mutation_catalogue_from_VR | 1.589 | 0.206 | 1.857 | |
| create_mutation_catalogue_from_df | 1.154 | 0.189 | 1.363 | |
| cut_breaks_as_intervals | 0.338 | 0.012 | 0.354 | |
| deriveSigInd_df | 0 | 0 | 0 | |
| disambiguateVector | 0 | 0 | 0 | |
| enrichSigs | 0 | 0 | 0 | |
| exampleYAPSA | 0.108 | 0.014 | 0.126 | |
| exome_mutCatRaw_df | 0.011 | 0.005 | 0.015 | |
| exposures_barplot | 3.066 | 0.020 | 3.134 | |
| extract_names_from_gene_list | 0 | 0 | 0 | |
| find_affected_PIDs | 0.000 | 0.000 | 0.001 | |
| getSequenceContext | 0.209 | 0.012 | 0.221 | |
| get_extreme_PIDs | 0.010 | 0.004 | 0.013 | |
| hclust_exposures | 0.007 | 0.003 | 0.010 | |
| logLikelihood | 1.202 | 0.194 | 1.430 | |
| lymphomaNature2013_mutCat_df | 0.005 | 0.004 | 0.008 | |
| makeVRangesFromDataFrame | 0.131 | 0.007 | 0.138 | |
| make_catalogue_strata_df | 0.000 | 0.001 | 0.001 | |
| make_comparison_matrix | 0.087 | 0.012 | 0.101 | |
| make_strata_df | 0 | 0 | 0 | |
| make_subgroups_df | 0.047 | 0.007 | 0.053 | |
| melt_exposures | 0 | 0 | 0 | |
| merge_exposures | 0 | 0 | 0 | |
| normalizeMotifs_otherRownames | 0 | 0 | 0 | |
| normalize_df_per_dim | 0.008 | 0.001 | 0.009 | |
| plotExchangeSpectra | 0.000 | 0.001 | 0.000 | |
| plotExchangeSpectra_indel | 1.594 | 0.008 | 1.603 | |
| plotExposuresConfidence | 0 | 0 | 0 | |
| plotExposuresConfidence_indel | 0 | 0 | 0 | |
| plot_SMC | 0 | 0 | 0 | |
| plot_exposures | 0.762 | 0.011 | 0.773 | |
| plot_strata | 0 | 0 | 0 | |
| read_entry | 0 | 0 | 0 | |
| relateSigs | 0.000 | 0.001 | 0.001 | |
| repeat_df | 0.002 | 0.000 | 0.003 | |
| round_precision | 0 | 0 | 0 | |
| run_SMC | 5.499 | 0.543 | 6.062 | |
| run_annotate_vcf_pl | 0.000 | 0.000 | 0.001 | |
| run_comparison_catalogues | 0 | 0 | 0 | |
| run_comparison_general | 0.001 | 0.000 | 0.000 | |
| run_kmer_frequency_correction | 0.000 | 0.000 | 0.001 | |
| run_kmer_frequency_normalization | 0.000 | 0.000 | 0.001 | |
| run_plot_strata_general | 0 | 0 | 0 | |
| shapiro_if_possible | 0.001 | 0.001 | 0.002 | |
| split_exposures_by_subgroups | 0.000 | 0.000 | 0.001 | |
| stat_plot_subgroups | 0.000 | 0.001 | 0.001 | |
| stat_test_SMC | 0 | 0 | 0 | |
| stat_test_subgroups | 0.000 | 0.000 | 0.001 | |
| stderrmean | 0.001 | 0.000 | 0.001 | |
| sum_over_list_of_df | 0.003 | 0.000 | 0.003 | |
| testSigs | 0 | 0 | 0 | |
| test_exposureAffected | 0 | 0 | 0 | |
| test_gene_list_in_exposures | 0 | 0 | 0 | |
| transform_rownames_R_to_MATLAB | 0 | 0 | 0 | |
| translate_to_hg19 | 0.005 | 0.001 | 0.005 | |
| trellis_rainfall_plot | 2.009 | 0.024 | 2.054 | |
| variateExp | 3.096 | 0.223 | 3.338 | |
| variateExpSingle | 1.201 | 0.192 | 1.404 | |