Back to Multiple platform build/check report for BioC 3.22:   simplified   long
ABCDEFGHIJKLMNOPQRS[T]UVWXYZ

This page was generated on 2025-11-27 12:05 -0500 (Thu, 27 Nov 2025).

HostnameOSArch (*)R versionInstalled pkgs
nebbiolo2Linux (Ubuntu 24.04.3 LTS)x86_644.5.2 (2025-10-31) -- "[Not] Part in a Rumble" 4876
merida1macOS 12.7.6 Montereyx86_644.5.2 Patched (2025-11-05 r88990) -- "[Not] Part in a Rumble" 4656
kjohnson1macOS 13.7.5 Venturaarm644.5.2 Patched (2025-11-04 r88984) -- "[Not] Part in a Rumble" 4602
taishanLinux (openEuler 24.03 LTS)aarch644.5.0 (2025-04-11) -- "How About a Twenty-Six" 4668
Click on any hostname to see more info about the system (e.g. compilers)      (*) as reported by 'uname -p', except on Windows and Mac OS X

Package 2186/2361HostnameOS / ArchINSTALLBUILDCHECKBUILD BIN
TargetSearch 2.12.0  (landing page)
Alvaro Cuadros-Inostroza
Snapshot Date: 2025-11-24 13:45 -0500 (Mon, 24 Nov 2025)
git_url: https://git.bioconductor.org/packages/TargetSearch
git_branch: RELEASE_3_22
git_last_commit: ab9658a
git_last_commit_date: 2025-10-29 10:02:47 -0500 (Wed, 29 Oct 2025)
nebbiolo2Linux (Ubuntu 24.04.3 LTS) / x86_64  OK    OK    OK  UNNEEDED, same version is already published
merida1macOS 12.7.6 Monterey / x86_64  OK    OK    OK    OK  UNNEEDED, same version is already published
kjohnson1macOS 13.7.5 Ventura / arm64  OK    OK    OK    NA  
taishanLinux (openEuler 24.03 LTS) / aarch64  OK    OK    OK  


CHECK results for TargetSearch on taishan

To the developers/maintainers of the TargetSearch package:
- Allow up to 24 hours (and sometimes 48 hours) for your latest push to git@git.bioconductor.org:packages/TargetSearch.git to reflect on this report. See Troubleshooting Build Report for more information.
- Use the following Renviron settings to reproduce errors and warnings.
- If 'R CMD check' started to fail recently on the Linux builder(s) over a missing dependency, add the missing dependency to 'Suggests:' in your DESCRIPTION file. See Renviron.bioc for more information.
- See Martin Grigorov's blog post for how to debug Linux ARM64 related issues on a x86_64 host.

raw results


Summary

Package: TargetSearch
Version: 2.12.0
Command: /home/biocbuild/R/R/bin/R CMD check --install=check:TargetSearch.install-out.txt --library=/home/biocbuild/R/R/site-library --no-vignettes --timings TargetSearch_2.12.0.tar.gz
StartedAt: 2025-11-25 15:32:18 -0000 (Tue, 25 Nov 2025)
EndedAt: 2025-11-25 15:33:37 -0000 (Tue, 25 Nov 2025)
EllapsedTime: 79.2 seconds
RetCode: 0
Status:   OK  
CheckDir: TargetSearch.Rcheck
Warnings: 0

Command output

##############################################################################
##############################################################################
###
### Running command:
###
###   /home/biocbuild/R/R/bin/R CMD check --install=check:TargetSearch.install-out.txt --library=/home/biocbuild/R/R/site-library --no-vignettes --timings TargetSearch_2.12.0.tar.gz
###
##############################################################################
##############################################################################


* using log directory ‘/home/biocbuild/bbs-3.22-bioc/meat/TargetSearch.Rcheck’
* using R version 4.5.0 (2025-04-11)
* using platform: aarch64-unknown-linux-gnu
* R was compiled by
    aarch64-unknown-linux-gnu-gcc (GCC) 14.2.0
    GNU Fortran (GCC) 14.2.0
* running under: openEuler 24.03 (LTS)
* using session charset: UTF-8
* using option ‘--no-vignettes’
* checking for file ‘TargetSearch/DESCRIPTION’ ... OK
* checking extension type ... Package
* this is package ‘TargetSearch’ version ‘2.12.0’
* checking package namespace information ... OK
* checking package dependencies ... OK
* checking if this is a source package ... OK
* checking if there is a namespace ... OK
* checking for hidden files and directories ... OK
* checking for portable file names ... OK
* checking for sufficient/correct file permissions ... OK
* checking whether package ‘TargetSearch’ can be installed ... OK
* used C compiler: ‘aarch64-unknown-linux-gnu-gcc (GCC) 14.2.0’
* checking installed package size ... OK
* checking package directory ... OK
* checking ‘build’ directory ... OK
* checking DESCRIPTION meta-information ... OK
* checking top-level files ... OK
* checking for left-over files ... OK
* checking index information ... OK
* checking package subdirectories ... OK
* checking code files for non-ASCII characters ... OK
* checking R files for syntax errors ... OK
* checking whether the package can be loaded ... OK
* checking whether the package can be loaded with stated dependencies ... OK
* checking whether the package can be unloaded cleanly ... OK
* checking whether the namespace can be loaded with stated dependencies ... OK
* checking whether the namespace can be unloaded cleanly ... OK
* checking loading without being on the library search path ... OK
* checking dependencies in R code ... OK
* checking S3 generic/method consistency ... OK
* checking replacement functions ... OK
* checking foreign function calls ... OK
* checking R code for possible problems ... OK
* checking Rd files ... OK
* checking Rd metadata ... OK
* checking Rd cross-references ... OK
* checking for missing documentation entries ... OK
* checking for code/documentation mismatches ... OK
* checking Rd \usage sections ... OK
* checking Rd contents ... OK
* checking for unstated dependencies in examples ... OK
* checking contents of ‘data’ directory ... OK
* checking data for non-ASCII characters ... OK
* checking data for ASCII and uncompressed saves ... OK
* checking line endings in C/C++/Fortran sources/headers ... OK
* checking compiled code ... NOTE
Note: information on .o files is not available
* checking installed files from ‘inst/doc’ ... OK
* checking files in ‘vignettes’ ... OK
* checking examples ... OK
Examples with CPU (user + system) or elapsed time > 5s
           user system elapsed
RIcorrect 9.302  0.279   9.801
* checking for unstated dependencies in ‘tests’ ... OK
* checking tests ...
  Running ‘tinytest.R’
 OK
* checking for unstated dependencies in vignettes ... OK
* checking package vignettes ... OK
* checking running R code from vignettes ... SKIPPED
* checking re-building of vignette outputs ... SKIPPED
* checking PDF version of manual ... OK
* DONE

Status: 1 NOTE
See
  ‘/home/biocbuild/bbs-3.22-bioc/meat/TargetSearch.Rcheck/00check.log’
for details.


Installation output

TargetSearch.Rcheck/00install.out

##############################################################################
##############################################################################
###
### Running command:
###
###   /home/biocbuild/R/R/bin/R CMD INSTALL TargetSearch
###
##############################################################################
##############################################################################


* installing to library ‘/home/biocbuild/R/R-4.5.0/site-library’
* installing *source* package ‘TargetSearch’ ...
** this is package ‘TargetSearch’ version ‘2.12.0’
** using staged installation
** libs
using C compiler: ‘aarch64-unknown-linux-gnu-gcc (GCC) 14.2.0’
/opt/ohpc/pub/compiler/gcc/14.2.0/bin/aarch64-unknown-linux-gnu-gcc -std=gnu23 -I"/home/biocbuild/R/R-4.5.0/include" -DNDEBUG   -I/usr/local/include    -fPIC  -g -O2  -Wall -Werror=format-security -c Rinit.c -o Rinit.o
/opt/ohpc/pub/compiler/gcc/14.2.0/bin/aarch64-unknown-linux-gnu-gcc -std=gnu23 -I"/home/biocbuild/R/R-4.5.0/include" -DNDEBUG   -I/usr/local/include    -fPIC  -g -O2  -Wall -Werror=format-security -c baseline.c -o baseline.o
/opt/ohpc/pub/compiler/gcc/14.2.0/bin/aarch64-unknown-linux-gnu-gcc -std=gnu23 -I"/home/biocbuild/R/R-4.5.0/include" -DNDEBUG   -I/usr/local/include    -fPIC  -g -O2  -Wall -Werror=format-security -c detection.c -o detection.o
/opt/ohpc/pub/compiler/gcc/14.2.0/bin/aarch64-unknown-linux-gnu-gcc -std=gnu23 -I"/home/biocbuild/R/R-4.5.0/include" -DNDEBUG   -I/usr/local/include    -fPIC  -g -O2  -Wall -Werror=format-security -c file.c -o file.o
/opt/ohpc/pub/compiler/gcc/14.2.0/bin/aarch64-unknown-linux-gnu-gcc -std=gnu23 -I"/home/biocbuild/R/R-4.5.0/include" -DNDEBUG   -I/usr/local/include    -fPIC  -g -O2  -Wall -Werror=format-security -c find.c -o find.o
/opt/ohpc/pub/compiler/gcc/14.2.0/bin/aarch64-unknown-linux-gnu-gcc -std=gnu23 -I"/home/biocbuild/R/R-4.5.0/include" -DNDEBUG   -I/usr/local/include    -fPIC  -g -O2  -Wall -Werror=format-security -c get_line.c -o get_line.o
/opt/ohpc/pub/compiler/gcc/14.2.0/bin/aarch64-unknown-linux-gnu-gcc -std=gnu23 -I"/home/biocbuild/R/R-4.5.0/include" -DNDEBUG   -I/usr/local/include    -fPIC  -g -O2  -Wall -Werror=format-security -c hpf.c -o hpf.o
/opt/ohpc/pub/compiler/gcc/14.2.0/bin/aarch64-unknown-linux-gnu-gcc -std=gnu23 -I"/home/biocbuild/R/R-4.5.0/include" -DNDEBUG   -I/usr/local/include    -fPIC  -g -O2  -Wall -Werror=format-security -c matrix.c -o matrix.o
/opt/ohpc/pub/compiler/gcc/14.2.0/bin/aarch64-unknown-linux-gnu-gcc -std=gnu23 -I"/home/biocbuild/R/R-4.5.0/include" -DNDEBUG   -I/usr/local/include    -fPIC  -g -O2  -Wall -Werror=format-security -c ncdf.c -o ncdf.o
/opt/ohpc/pub/compiler/gcc/14.2.0/bin/aarch64-unknown-linux-gnu-gcc -std=gnu23 -I"/home/biocbuild/R/R-4.5.0/include" -DNDEBUG   -I/usr/local/include    -fPIC  -g -O2  -Wall -Werror=format-security -c peak.c -o peak.o
/opt/ohpc/pub/compiler/gcc/14.2.0/bin/aarch64-unknown-linux-gnu-gcc -std=gnu23 -I"/home/biocbuild/R/R-4.5.0/include" -DNDEBUG   -I/usr/local/include    -fPIC  -g -O2  -Wall -Werror=format-security -c spectrum.c -o spectrum.o
/opt/ohpc/pub/compiler/gcc/14.2.0/bin/aarch64-unknown-linux-gnu-gcc -std=gnu23 -I"/home/biocbuild/R/R-4.5.0/include" -DNDEBUG   -I/usr/local/include    -fPIC  -g -O2  -Wall -Werror=format-security -c strutils.c -o strutils.o
/opt/ohpc/pub/compiler/gcc/14.2.0/bin/aarch64-unknown-linux-gnu-gcc -std=gnu23 -I"/home/biocbuild/R/R-4.5.0/include" -DNDEBUG   -I/usr/local/include    -fPIC  -g -O2  -Wall -Werror=format-security -c utils.c -o utils.o
/opt/ohpc/pub/compiler/gcc/14.2.0/bin/aarch64-unknown-linux-gnu-gcc -std=gnu23 -shared -L/home/biocbuild/R/R-4.5.0/lib -L/usr/local/lib -o TargetSearch.so Rinit.o baseline.o detection.o file.o find.o get_line.o hpf.o matrix.o ncdf.o peak.o spectrum.o strutils.o utils.o -L/home/biocbuild/R/R-4.5.0/lib -lR
installing to /home/biocbuild/R/R-4.5.0/site-library/00LOCK-TargetSearch/00new/TargetSearch/libs
** R
** data
** inst
** byte-compile and prepare package for lazy loading
** help
*** installing help indices
** building package indices
** installing vignettes
** testing if installed package can be loaded from temporary location
** checking absolute paths in shared objects and dynamic libraries
** testing if installed package can be loaded from final location
** testing if installed package keeps a record of temporary installation path
* DONE (TargetSearch)

Tests output

TargetSearch.Rcheck/tests/tinytest.Rout


R version 4.5.0 (2025-04-11) -- "How About a Twenty-Six"
Copyright (C) 2025 The R Foundation for Statistical Computing
Platform: aarch64-unknown-linux-gnu

R is free software and comes with ABSOLUTELY NO WARRANTY.
You are welcome to redistribute it under certain conditions.
Type 'license()' or 'licence()' for distribution details.

R is a collaborative project with many contributors.
Type 'contributors()' for more information and
'citation()' on how to cite R or R packages in publications.

Type 'demo()' for some demos, 'help()' for on-line help, or
'help.start()' for an HTML browser interface to help.
Type 'q()' to quit R.

> if ( requireNamespace("tinytest", quietly=TRUE) && requireNamespace("TargetSearchData", quietly=TRUE)) {
+     tinytest::test_package("TargetSearch", color=FALSE, verbose=1)
+ }
Loading required package: TargetSearchData

test_FindAllPeaks.R...........   19 tests OK  1.0s
FAMEs were saved in /home/biocbuild/tmp/RtmpjiRLkN/fileb94ef10991965.pdf
FAMEs were saved in /home/biocbuild/tmp/RtmpjiRLkN/fileb94ef10991965.pdf
FAMEs were saved in /home/biocbuild/tmp/RtmpjiRLkN/fileb94ef10991965.pdf
FAMEs were saved in /home/biocbuild/tmp/RtmpjiRLkN/fileb94ef10991965.pdf

test_fameoutliers.R...........    5 tests OK  84ms

test_file.R...................    4 tests OK  57ms

test_import_fame.R............   14 tests OK  65ms

test_import_library.R.........   15 tests OK  0.1s

test_ncdf4_plot_peak.R........    7 tests OK  0.5s

test_quantMatrix.R............    8 tests OK  48ms

test_ri_data_extract.R........    6 tests OK  5.0s

test_ri_plot_peak.R...........   22 tests OK  0.2s

test_ricorrect.R..............    5 tests OK  0.7s

test_tsLib.R..................   30 tests OK  0.1s

test_tsProfile.R..............   12 tests OK  22ms

test_tsRim.R..................    9 tests OK  7ms

test_tsSample.R...............   19 tests OK  66ms

test_write_ri_file.R..........    6 tests OK  11ms
All ok, 181 results (7.9s)
> 
> proc.time()
   user  system elapsed 
  7.999   0.227   8.272 

Example timings

TargetSearch.Rcheck/TargetSearch-Ex.timings

nameusersystemelapsed
FAMEoutliers0.0790.0000.079
FindAllPeaks0.6260.0030.656
FindPeaks0.1130.0000.114
ImportFameSettings0.0100.0000.011
ImportLibrary0.0260.0000.026
ImportSamples0.0140.0000.014
NetCDFPeakFinding0.1200.0210.226
Profile0.6460.0550.704
ProfileCleanUp0.4910.0030.496
RIcorrect9.3020.2799.801
TSExample2.0370.0322.075
Write.Results0.0660.0000.065
baseline0.2180.0080.226
baselineCorrection0.2400.0000.241
baselineCorrectionQuant0.2940.0000.294
checkRimLim0.5720.0320.604
file0.0590.0000.060
fixRI0.6860.0160.704
makeIndex0.0030.0000.003
medianRILib0.2360.0040.240
ncdf4Convert-method0.090.000.09
ncdf4_convert0.0360.0000.037
ncdf4_convert_from_path1.5720.0361.614
ncdf4_data_extract0.3130.0120.326
ncdf4_plot_peak0.8760.0240.901
ncdf4_update_ri0.2060.0040.211
peakCDFextraction0.3190.0120.331
peakFind0.1350.0000.135
plotFAME0.0050.0040.008
plotPeak0.1230.0030.128
plotPeakRI0.4630.0080.472
plotPeakSimple0.2070.0080.215
plotRIdev0.3080.0160.325
plotRefSpectra0.1180.0000.119
plotSpectra0.1330.0080.141
quantMatrix0.4930.0000.495
ri2rt0.0050.0000.005
riMatrix0.5810.0000.583
ri_data_extract0.0260.0040.029
ri_plot_peak0.6710.0120.688
rt2ri0.0050.0000.005
sampleRI0.2590.0080.268
tsLib-class0.0300.0040.034
tsMSdata-class0.0110.0000.010
tsProfile-class0.0090.0000.009
tsRim-class0.0020.0000.003
tsSample-class0.0270.0000.027
tsUpdate-method000
updateRI1.1640.0041.174
writeLibText0.0290.0000.030
writeMSP0.0190.0000.019