| Back to Multiple platform build/check report for BioC 3.21: simplified long |
|
This page was generated on 2025-10-16 11:38 -0400 (Thu, 16 Oct 2025).
| Hostname | OS | Arch (*) | R version | Installed pkgs |
|---|---|---|---|---|
| nebbiolo1 | Linux (Ubuntu 24.04.3 LTS) | x86_64 | 4.5.1 (2025-06-13) -- "Great Square Root" | 4833 |
| merida1 | macOS 12.7.6 Monterey | x86_64 | 4.5.1 RC (2025-06-05 r88288) -- "Great Square Root" | 4614 |
| kjohnson1 | macOS 13.7.5 Ventura | arm64 | 4.5.1 Patched (2025-06-14 r88325) -- "Great Square Root" | 4555 |
| kunpeng2 | Linux (openEuler 24.03 LTS) | aarch64 | R Under development (unstable) (2025-02-19 r87757) -- "Unsuffered Consequences" | 4586 |
| Click on any hostname to see more info about the system (e.g. compilers) (*) as reported by 'uname -p', except on Windows and Mac OS X | ||||
| Package 2163/2341 | Hostname | OS / Arch | INSTALL | BUILD | CHECK | BUILD BIN | ||||||||
| TargetSearch 2.10.0 (landing page) Alvaro Cuadros-Inostroza
| nebbiolo1 | Linux (Ubuntu 24.04.3 LTS) / x86_64 | OK | OK | OK | |||||||||
| merida1 | macOS 12.7.6 Monterey / x86_64 | OK | OK | OK | OK | |||||||||
| kjohnson1 | macOS 13.7.5 Ventura / arm64 | OK | OK | OK | OK | |||||||||
| kunpeng2 | Linux (openEuler 24.03 LTS) / aarch64 | OK | OK | OK | ||||||||||
|
To the developers/maintainers of the TargetSearch package: - Allow up to 24 hours (and sometimes 48 hours) for your latest push to git@git.bioconductor.org:packages/TargetSearch.git to reflect on this report. See Troubleshooting Build Report for more information. - Use the following Renviron settings to reproduce errors and warnings. - If 'R CMD check' started to fail recently on the Linux builder(s) over a missing dependency, add the missing dependency to 'Suggests:' in your DESCRIPTION file. See Renviron.bioc for more information. |
| Package: TargetSearch |
| Version: 2.10.0 |
| Command: /home/biocbuild/bbs-3.21-bioc/R/bin/R CMD check --install=check:TargetSearch.install-out.txt --library=/home/biocbuild/bbs-3.21-bioc/R/site-library --timings TargetSearch_2.10.0.tar.gz |
| StartedAt: 2025-10-16 04:18:28 -0400 (Thu, 16 Oct 2025) |
| EndedAt: 2025-10-16 04:19:49 -0400 (Thu, 16 Oct 2025) |
| EllapsedTime: 81.2 seconds |
| RetCode: 0 |
| Status: OK |
| CheckDir: TargetSearch.Rcheck |
| Warnings: 0 |
##############################################################################
##############################################################################
###
### Running command:
###
### /home/biocbuild/bbs-3.21-bioc/R/bin/R CMD check --install=check:TargetSearch.install-out.txt --library=/home/biocbuild/bbs-3.21-bioc/R/site-library --timings TargetSearch_2.10.0.tar.gz
###
##############################################################################
##############################################################################
* using log directory ‘/home/biocbuild/bbs-3.21-bioc/meat/TargetSearch.Rcheck’
* using R version 4.5.1 (2025-06-13)
* using platform: x86_64-pc-linux-gnu
* R was compiled by
gcc (Ubuntu 13.3.0-6ubuntu2~24.04) 13.3.0
GNU Fortran (Ubuntu 13.3.0-6ubuntu2~24.04) 13.3.0
* running under: Ubuntu 24.04.3 LTS
* using session charset: UTF-8
* checking for file ‘TargetSearch/DESCRIPTION’ ... OK
* checking extension type ... Package
* this is package ‘TargetSearch’ version ‘2.10.0’
* checking package namespace information ... OK
* checking package dependencies ... OK
* checking if this is a source package ... OK
* checking if there is a namespace ... OK
* checking for hidden files and directories ... OK
* checking for portable file names ... OK
* checking for sufficient/correct file permissions ... OK
* checking whether package ‘TargetSearch’ can be installed ... OK
* used C compiler: ‘gcc (Ubuntu 13.3.0-6ubuntu2~24.04) 13.3.0’
* checking installed package size ... OK
* checking package directory ... OK
* checking ‘build’ directory ... OK
* checking DESCRIPTION meta-information ... OK
* checking top-level files ... OK
* checking for left-over files ... OK
* checking index information ... OK
* checking package subdirectories ... OK
* checking code files for non-ASCII characters ... OK
* checking R files for syntax errors ... OK
* checking whether the package can be loaded ... OK
* checking whether the package can be loaded with stated dependencies ... OK
* checking whether the package can be unloaded cleanly ... OK
* checking whether the namespace can be loaded with stated dependencies ... OK
* checking whether the namespace can be unloaded cleanly ... OK
* checking loading without being on the library search path ... OK
* checking dependencies in R code ... OK
* checking S3 generic/method consistency ... OK
* checking replacement functions ... OK
* checking foreign function calls ... OK
* checking R code for possible problems ... OK
* checking Rd files ... OK
* checking Rd metadata ... OK
* checking Rd cross-references ... OK
* checking for missing documentation entries ... OK
* checking for code/documentation mismatches ... OK
* checking Rd \usage sections ... OK
* checking Rd contents ... OK
* checking for unstated dependencies in examples ... OK
* checking contents of ‘data’ directory ... OK
* checking data for non-ASCII characters ... OK
* checking data for ASCII and uncompressed saves ... OK
* checking line endings in C/C++/Fortran sources/headers ... OK
* checking compiled code ... NOTE
Note: information on .o files is not available
* checking installed files from ‘inst/doc’ ... OK
* checking files in ‘vignettes’ ... OK
* checking examples ... OK
Examples with CPU (user + system) or elapsed time > 5s
user system elapsed
RIcorrect 8.682 0.854 9.589
* checking for unstated dependencies in ‘tests’ ... OK
* checking tests ...
Running ‘tinytest.R’
OK
* checking for unstated dependencies in vignettes ... OK
* checking package vignettes ... OK
* checking re-building of vignette outputs ... OK
* checking PDF version of manual ... OK
* DONE
Status: 1 NOTE
See
‘/home/biocbuild/bbs-3.21-bioc/meat/TargetSearch.Rcheck/00check.log’
for details.
TargetSearch.Rcheck/00install.out
############################################################################## ############################################################################## ### ### Running command: ### ### /home/biocbuild/bbs-3.21-bioc/R/bin/R CMD INSTALL TargetSearch ### ############################################################################## ############################################################################## * installing to library ‘/home/biocbuild/bbs-3.21-bioc/R/site-library’ * installing *source* package ‘TargetSearch’ ... ** this is package ‘TargetSearch’ version ‘2.10.0’ ** using staged installation ** libs using C compiler: ‘gcc (Ubuntu 13.3.0-6ubuntu2~24.04) 13.3.0’ gcc -std=gnu2x -I"/home/biocbuild/bbs-3.21-bioc/R/include" -DNDEBUG -I/usr/local/include -fpic -g -O2 -Wall -Werror=format-security -c Rinit.c -o Rinit.o gcc -std=gnu2x -I"/home/biocbuild/bbs-3.21-bioc/R/include" -DNDEBUG -I/usr/local/include -fpic -g -O2 -Wall -Werror=format-security -c baseline.c -o baseline.o gcc -std=gnu2x -I"/home/biocbuild/bbs-3.21-bioc/R/include" -DNDEBUG -I/usr/local/include -fpic -g -O2 -Wall -Werror=format-security -c detection.c -o detection.o gcc -std=gnu2x -I"/home/biocbuild/bbs-3.21-bioc/R/include" -DNDEBUG -I/usr/local/include -fpic -g -O2 -Wall -Werror=format-security -c file.c -o file.o gcc -std=gnu2x -I"/home/biocbuild/bbs-3.21-bioc/R/include" -DNDEBUG -I/usr/local/include -fpic -g -O2 -Wall -Werror=format-security -c find.c -o find.o gcc -std=gnu2x -I"/home/biocbuild/bbs-3.21-bioc/R/include" -DNDEBUG -I/usr/local/include -fpic -g -O2 -Wall -Werror=format-security -c get_line.c -o get_line.o gcc -std=gnu2x -I"/home/biocbuild/bbs-3.21-bioc/R/include" -DNDEBUG -I/usr/local/include -fpic -g -O2 -Wall -Werror=format-security -c hpf.c -o hpf.o gcc -std=gnu2x -I"/home/biocbuild/bbs-3.21-bioc/R/include" -DNDEBUG -I/usr/local/include -fpic -g -O2 -Wall -Werror=format-security -c matrix.c -o matrix.o gcc -std=gnu2x -I"/home/biocbuild/bbs-3.21-bioc/R/include" -DNDEBUG -I/usr/local/include -fpic -g -O2 -Wall -Werror=format-security -c ncdf.c -o ncdf.o gcc -std=gnu2x -I"/home/biocbuild/bbs-3.21-bioc/R/include" -DNDEBUG -I/usr/local/include -fpic -g -O2 -Wall -Werror=format-security -c peak.c -o peak.o gcc -std=gnu2x -I"/home/biocbuild/bbs-3.21-bioc/R/include" -DNDEBUG -I/usr/local/include -fpic -g -O2 -Wall -Werror=format-security -c spectrum.c -o spectrum.o gcc -std=gnu2x -I"/home/biocbuild/bbs-3.21-bioc/R/include" -DNDEBUG -I/usr/local/include -fpic -g -O2 -Wall -Werror=format-security -c strutils.c -o strutils.o gcc -std=gnu2x -I"/home/biocbuild/bbs-3.21-bioc/R/include" -DNDEBUG -I/usr/local/include -fpic -g -O2 -Wall -Werror=format-security -c utils.c -o utils.o gcc -std=gnu2x -shared -L/home/biocbuild/bbs-3.21-bioc/R/lib -L/usr/local/lib -o TargetSearch.so Rinit.o baseline.o detection.o file.o find.o get_line.o hpf.o matrix.o ncdf.o peak.o spectrum.o strutils.o utils.o -L/home/biocbuild/bbs-3.21-bioc/R/lib -lR installing to /home/biocbuild/bbs-3.21-bioc/R/site-library/00LOCK-TargetSearch/00new/TargetSearch/libs ** R ** data ** inst ** byte-compile and prepare package for lazy loading ** help *** installing help indices ** building package indices ** installing vignettes ** testing if installed package can be loaded from temporary location ** checking absolute paths in shared objects and dynamic libraries ** testing if installed package can be loaded from final location ** testing if installed package keeps a record of temporary installation path * DONE (TargetSearch)
TargetSearch.Rcheck/tests/tinytest.Rout
R version 4.5.1 (2025-06-13) -- "Great Square Root"
Copyright (C) 2025 The R Foundation for Statistical Computing
Platform: x86_64-pc-linux-gnu
R is free software and comes with ABSOLUTELY NO WARRANTY.
You are welcome to redistribute it under certain conditions.
Type 'license()' or 'licence()' for distribution details.
R is a collaborative project with many contributors.
Type 'contributors()' for more information and
'citation()' on how to cite R or R packages in publications.
Type 'demo()' for some demos, 'help()' for on-line help, or
'help.start()' for an HTML browser interface to help.
Type 'q()' to quit R.
> if ( requireNamespace("tinytest", quietly=TRUE) && requireNamespace("TargetSearchData", quietly=TRUE)) {
+ tinytest::test_package("TargetSearch", color=FALSE, verbose=1)
+ }
Loading required package: TargetSearchData
test_FindAllPeaks.R........... 19 tests OK 0.8s
FAMEs were saved in /tmp/Rtmp8SpSix/file34add6255862a4.pdf
FAMEs were saved in /tmp/Rtmp8SpSix/file34add6255862a4.pdf
FAMEs were saved in /tmp/Rtmp8SpSix/file34add6255862a4.pdf
FAMEs were saved in /tmp/Rtmp8SpSix/file34add6255862a4.pdf
test_fameoutliers.R........... 5 tests OK 56ms
test_file.R................... 4 tests OK 55ms
test_import_fame.R............ 14 tests OK 51ms
test_import_library.R......... 15 tests OK 87ms
test_ncdf4_plot_peak.R........ 7 tests OK 0.3s
test_quantMatrix.R............ 8 tests OK 27ms
test_ri_data_extract.R........ 6 tests OK 3.3s
test_ri_plot_peak.R........... 22 tests OK 0.1s
test_tsLib.R.................. 30 tests OK 82ms
test_tsProfile.R.............. 12 tests OK 13ms
test_tsRim.R.................. 9 tests OK 4ms
test_tsSample.R............... 19 tests OK 41ms
test_write_ri_file.R.......... 6 tests OK 7ms
All ok, 176 results (5.0s)
>
> proc.time()
user system elapsed
5.125 0.114 5.230
TargetSearch.Rcheck/TargetSearch-Ex.timings
| name | user | system | elapsed | |
| FAMEoutliers | 0.060 | 0.002 | 0.062 | |
| FindAllPeaks | 0.570 | 0.017 | 0.605 | |
| FindPeaks | 0.103 | 0.002 | 0.105 | |
| ImportFameSettings | 0.008 | 0.000 | 0.008 | |
| ImportLibrary | 0.015 | 0.002 | 0.018 | |
| ImportSamples | 0.010 | 0.001 | 0.009 | |
| NetCDFPeakFinding | 0.113 | 0.052 | 0.168 | |
| Profile | 0.479 | 0.009 | 0.488 | |
| ProfileCleanUp | 0.397 | 0.005 | 0.402 | |
| RIcorrect | 8.682 | 0.854 | 9.589 | |
| TSExample | 1.952 | 0.144 | 2.099 | |
| Write.Results | 0.046 | 0.001 | 0.048 | |
| baseline | 0.209 | 0.009 | 0.219 | |
| baselineCorrection | 0.202 | 0.011 | 0.213 | |
| baselineCorrectionQuant | 0.295 | 0.008 | 0.306 | |
| checkRimLim | 0.604 | 0.077 | 0.680 | |
| file | 0.055 | 0.004 | 0.059 | |
| fixRI | 0.628 | 0.058 | 0.686 | |
| makeIndex | 0.004 | 0.000 | 0.004 | |
| medianRILib | 0.236 | 0.005 | 0.241 | |
| ncdf4Convert-method | 0.094 | 0.017 | 0.111 | |
| ncdf4_convert | 0.022 | 0.005 | 0.027 | |
| ncdf4_convert_from_path | 1.569 | 0.134 | 1.704 | |
| ncdf4_data_extract | 0.282 | 0.020 | 0.303 | |
| ncdf4_plot_peak | 0.784 | 0.071 | 0.856 | |
| ncdf4_update_ri | 0.210 | 0.010 | 0.221 | |
| peakCDFextraction | 0.336 | 0.033 | 0.368 | |
| peakFind | 0.116 | 0.007 | 0.122 | |
| plotFAME | 0.007 | 0.000 | 0.008 | |
| plotPeak | 0.134 | 0.012 | 0.146 | |
| plotPeakRI | 0.410 | 0.011 | 0.421 | |
| plotPeakSimple | 0.223 | 0.015 | 0.239 | |
| plotRIdev | 0.233 | 0.007 | 0.241 | |
| plotRefSpectra | 0.082 | 0.001 | 0.082 | |
| plotSpectra | 0.120 | 0.001 | 0.123 | |
| quantMatrix | 0.387 | 0.010 | 0.397 | |
| ri2rt | 0.001 | 0.001 | 0.003 | |
| riMatrix | 0.550 | 0.038 | 0.588 | |
| ri_data_extract | 0.025 | 0.002 | 0.027 | |
| ri_plot_peak | 0.600 | 0.016 | 0.616 | |
| rt2ri | 0.004 | 0.000 | 0.003 | |
| sampleRI | 0.225 | 0.006 | 0.232 | |
| tsLib-class | 0.023 | 0.001 | 0.023 | |
| tsMSdata-class | 0.013 | 0.013 | 0.026 | |
| tsProfile-class | 0.007 | 0.002 | 0.009 | |
| tsRim-class | 0.001 | 0.000 | 0.002 | |
| tsSample-class | 0.023 | 0.000 | 0.023 | |
| tsUpdate-method | 0 | 0 | 0 | |
| updateRI | 0.906 | 0.060 | 0.966 | |
| writeLibText | 0.016 | 0.000 | 0.017 | |
| writeMSP | 0.012 | 0.002 | 0.015 | |