| Back to Multiple platform build/check report for BioC 3.21: simplified long |
|
This page was generated on 2025-10-16 11:40 -0400 (Thu, 16 Oct 2025).
| Hostname | OS | Arch (*) | R version | Installed pkgs |
|---|---|---|---|---|
| nebbiolo1 | Linux (Ubuntu 24.04.3 LTS) | x86_64 | 4.5.1 (2025-06-13) -- "Great Square Root" | 4833 |
| merida1 | macOS 12.7.6 Monterey | x86_64 | 4.5.1 RC (2025-06-05 r88288) -- "Great Square Root" | 4614 |
| kjohnson1 | macOS 13.7.5 Ventura | arm64 | 4.5.1 Patched (2025-06-14 r88325) -- "Great Square Root" | 4555 |
| kunpeng2 | Linux (openEuler 24.03 LTS) | aarch64 | R Under development (unstable) (2025-02-19 r87757) -- "Unsuffered Consequences" | 4586 |
| Click on any hostname to see more info about the system (e.g. compilers) (*) as reported by 'uname -p', except on Windows and Mac OS X | ||||
| Package 2211/2341 | Hostname | OS / Arch | INSTALL | BUILD | CHECK | BUILD BIN | ||||||||
| TOP 1.8.0 (landing page) Harry Robertson
| nebbiolo1 | Linux (Ubuntu 24.04.3 LTS) / x86_64 | OK | OK | OK | |||||||||
| merida1 | macOS 12.7.6 Monterey / x86_64 | OK | OK | OK | OK | |||||||||
| kjohnson1 | macOS 13.7.5 Ventura / arm64 | OK | OK | OK | OK | |||||||||
| kunpeng2 | Linux (openEuler 24.03 LTS) / aarch64 | OK | OK | NA | ||||||||||
|
To the developers/maintainers of the TOP package: - Allow up to 24 hours (and sometimes 48 hours) for your latest push to git@git.bioconductor.org:packages/TOP.git to reflect on this report. See Troubleshooting Build Report for more information. - Use the following Renviron settings to reproduce errors and warnings. - If 'R CMD check' started to fail recently on the Linux builder(s) over a missing dependency, add the missing dependency to 'Suggests:' in your DESCRIPTION file. See Renviron.bioc for more information. |
| Package: TOP |
| Version: 1.8.0 |
| Command: /Library/Frameworks/R.framework/Resources/bin/R CMD check --install=check:TOP.install-out.txt --library=/Library/Frameworks/R.framework/Resources/library --no-vignettes --timings TOP_1.8.0.tar.gz |
| StartedAt: 2025-10-15 15:33:35 -0400 (Wed, 15 Oct 2025) |
| EndedAt: 2025-10-15 15:37:59 -0400 (Wed, 15 Oct 2025) |
| EllapsedTime: 264.1 seconds |
| RetCode: 0 |
| Status: OK |
| CheckDir: TOP.Rcheck |
| Warnings: 0 |
##############################################################################
##############################################################################
###
### Running command:
###
### /Library/Frameworks/R.framework/Resources/bin/R CMD check --install=check:TOP.install-out.txt --library=/Library/Frameworks/R.framework/Resources/library --no-vignettes --timings TOP_1.8.0.tar.gz
###
##############################################################################
##############################################################################
* using log directory ‘/Users/biocbuild/bbs-3.21-bioc/meat/TOP.Rcheck’
* using R version 4.5.1 Patched (2025-06-14 r88325)
* using platform: aarch64-apple-darwin20
* R was compiled by
Apple clang version 16.0.0 (clang-1600.0.26.6)
GNU Fortran (GCC) 14.2.0
* running under: macOS Ventura 13.7.5
* using session charset: UTF-8
* using option ‘--no-vignettes’
* checking for file ‘TOP/DESCRIPTION’ ... OK
* this is package ‘TOP’ version ‘1.8.0’
* package encoding: UTF-8
* checking package namespace information ... OK
* checking package dependencies ... INFO
Imports includes 27 non-default packages.
Importing from so many packages makes the package vulnerable to any of
them becoming unavailable. Move as many as possible to Suggests and
use conditionally.
* checking if this is a source package ... OK
* checking if there is a namespace ... OK
* checking for hidden files and directories ... OK
* checking for portable file names ... OK
* checking for sufficient/correct file permissions ... OK
* checking whether package ‘TOP’ can be installed ... OK
* checking installed package size ... OK
* checking package directory ... OK
* checking ‘build’ directory ... OK
* checking DESCRIPTION meta-information ... OK
* checking top-level files ... OK
* checking for left-over files ... OK
* checking index information ... OK
* checking package subdirectories ... OK
* checking code files for non-ASCII characters ... OK
* checking R files for syntax errors ... OK
* checking whether the package can be loaded ... OK
* checking whether the package can be loaded with stated dependencies ... OK
* checking whether the package can be unloaded cleanly ... OK
* checking whether the namespace can be loaded with stated dependencies ... OK
* checking whether the namespace can be unloaded cleanly ... OK
* checking dependencies in R code ... OK
* checking S3 generic/method consistency ... OK
* checking replacement functions ... OK
* checking foreign function calls ... OK
* checking R code for possible problems ... NOTE
Surv_TOP_CI: no visible binding for global variable ‘offset’
TOP_coefPlot: no visible binding for global variable ‘lambda.min’
TOP_coefPlot: no visible binding for global variable ‘Features’
TOP_lambdaPlot: no visible binding for global variable ‘variable’
TOP_lambdaPlot: no visible binding for global variable ‘value’
TOP_lambdaPlot: no visible binding for global variable ‘Feature’
TOP_model: no visible binding for global variable ‘value’
TOP_model: no visible binding for global variable ‘SampleGroup’
TOP_model: no visible binding for global variable ‘n’
TOP_model: no visible binding for global variable ‘freq’
TOP_model: no visible binding for global variable ‘sd’
TOP_survival: no visible binding for global variable ‘coef’
TOP_survival: no visible binding for global variable ‘value’
TOP_survival: no visible binding for global variable ‘freq’
TOP_survival: no visible binding for global variable ‘sd’
TOP_survival: no visible binding for global variable ‘.’
TOP_survival: no visible binding for global variable ‘SampleGroup’
TOP_survival: no visible binding for global variable ‘n’
TOP_survivalPrediction: no visible binding for global variable ‘offset’
coefNetworkPlot: no visible binding for global variable ‘Features’
coefNetworkPlot: no visible binding for global variable ‘lambda.min’
coefNetworkPlot: no visible binding for global variable ‘score’
colCoxTests_combine: no visible binding for global variable ‘coef’
extractAUC: no visible binding for global variable ‘variable’
extractAUC: no visible binding for global variable ‘value’
simplenetworkPlot: no visible binding for global variable ‘Features’
simplenetworkPlot: no visible binding for global variable ‘lambda.min’
simplenetworkPlot: no visible binding for global variable ‘coef_abs’
simplenetworkPlot: no visible binding for global variable ‘from’
simplenetworkPlot: no visible binding for global variable ‘to’
simplenetworkPlot: no visible binding for global variable ‘name’
Undefined global functions or variables:
. Feature Features SampleGroup coef coef_abs freq from lambda.min n
name offset score sd to value variable
Consider adding
importFrom("stats", "coef", "offset", "sd")
to your NAMESPACE file.
* checking Rd files ... OK
* checking Rd metadata ... OK
* checking Rd cross-references ... OK
* checking for missing documentation entries ... OK
* checking for code/documentation mismatches ... OK
* checking Rd \usage sections ... OK
* checking Rd contents ... OK
* checking for unstated dependencies in examples ... OK
* checking contents of ‘data’ directory ... OK
* checking data for non-ASCII characters ... OK
* checking data for ASCII and uncompressed saves ... OK
* checking files in ‘vignettes’ ... OK
* checking examples ... OK
* checking for unstated dependencies in vignettes ... OK
* checking package vignettes ... OK
* checking running R code from vignettes ... SKIPPED
* checking re-building of vignette outputs ... SKIPPED
* checking PDF version of manual ... OK
* DONE
Status: 1 NOTE
See
‘/Users/biocbuild/bbs-3.21-bioc/meat/TOP.Rcheck/00check.log’
for details.
TOP.Rcheck/00install.out
############################################################################## ############################################################################## ### ### Running command: ### ### /Library/Frameworks/R.framework/Resources/bin/R CMD INSTALL TOP ### ############################################################################## ############################################################################## * installing to library ‘/Library/Frameworks/R.framework/Versions/4.5-arm64/Resources/library’ * installing *source* package ‘TOP’ ... ** this is package ‘TOP’ version ‘1.8.0’ ** using staged installation ** R ** data ** byte-compile and prepare package for lazy loading ** help *** installing help indices ** building package indices ** installing vignettes ** testing if installed package can be loaded from temporary location ** testing if installed package can be loaded from final location ** testing if installed package keeps a record of temporary installation path * DONE (TOP)
TOP.Rcheck/TOP-Ex.timings
| name | user | system | elapsed | |
| ROC_Plot | 0.834 | 0.031 | 0.868 | |
| Surv_Frank_CI | 1.007 | 0.046 | 1.065 | |
| TOP_coefPlot | 0.581 | 0.015 | 0.607 | |
| TOP_lambdaPlot | 0.927 | 0.067 | 1.012 | |
| TOP_model | 1.107 | 0.009 | 1.117 | |
| TOP_survival | 0.906 | 0.052 | 0.959 | |
| TOP_survivalPrediction | 0.893 | 0.024 | 0.916 | |
| coefNetworkPlot | 1.780 | 0.058 | 1.841 | |
| filterFeatures | 0.047 | 0.003 | 0.050 | |
| logit-expit | 0.054 | 0.002 | 0.056 | |
| pairwise_col_diff | 0.001 | 0.000 | 0.001 | |
| performance_TOP | 0.206 | 0.015 | 0.221 | |
| predict_TOP | 0.148 | 0.008 | 0.156 | |
| simplenetworkPlot | 0.557 | 0.016 | 0.575 | |