| Back to Multiple platform build/check report for BioC 3.22: simplified long | 
  | 
This page was generated on 2025-11-03 12:04 -0500 (Mon, 03 Nov 2025).
| Hostname | OS | Arch (*) | R version | Installed pkgs | 
|---|---|---|---|---|
| nebbiolo2 | Linux (Ubuntu 24.04.3 LTS) | x86_64 | 4.5.1 Patched (2025-08-23 r88802) -- "Great Square Root" | 4902 | 
| lconway | macOS 12.7.6 Monterey | x86_64 | 4.5.1 Patched (2025-09-10 r88807) -- "Great Square Root" | 4692 | 
| kjohnson3 | macOS 13.7.7 Ventura | arm64 | 4.5.1 Patched (2025-09-10 r88807) -- "Great Square Root" | 4638 | 
| Click on any hostname to see more info about the system (e.g. compilers) (*) as reported by 'uname -p', except on Windows and Mac OS X | ||||
| Package 2207/2361 | Hostname | OS / Arch | INSTALL | BUILD | CHECK | BUILD BIN | ||||||||
| TFutils 1.30.0  (landing page) Vincent Carey 
  | nebbiolo2 | Linux (Ubuntu 24.04.3 LTS) / x86_64 | OK | OK | OK | |||||||||
| lconway | macOS 12.7.6 Monterey / x86_64 | OK | OK | OK | OK | |||||||||
| kjohnson3 | macOS 13.7.7 Ventura / arm64 | OK | OK | OK | OK | |||||||||
| 
To the developers/maintainers of the TFutils package: - Allow up to 24 hours (and sometimes 48 hours) for your latest push to git@git.bioconductor.org:packages/TFutils.git to reflect on this report. See Troubleshooting Build Report for more information. - Use the following Renviron settings to reproduce errors and warnings. - If 'R CMD check' started to fail recently on the Linux builder(s) over a missing dependency, add the missing dependency to 'Suggests:' in your DESCRIPTION file. See Renviron.bioc for more information.  | 
| Package: TFutils | 
| Version: 1.30.0 | 
| Command: /Library/Frameworks/R.framework/Resources/bin/R CMD check --install=check:TFutils.install-out.txt --library=/Library/Frameworks/R.framework/Resources/library --no-vignettes --timings TFutils_1.30.0.tar.gz | 
| StartedAt: 2025-11-03 00:49:22 -0500 (Mon, 03 Nov 2025) | 
| EndedAt: 2025-11-03 00:56:27 -0500 (Mon, 03 Nov 2025) | 
| EllapsedTime: 425.2 seconds | 
| RetCode: 0 | 
| Status: OK | 
| CheckDir: TFutils.Rcheck | 
| Warnings: 0 | 
##############################################################################
##############################################################################
###
### Running command:
###
###   /Library/Frameworks/R.framework/Resources/bin/R CMD check --install=check:TFutils.install-out.txt --library=/Library/Frameworks/R.framework/Resources/library --no-vignettes --timings TFutils_1.30.0.tar.gz
###
##############################################################################
##############################################################################
* using log directory ‘/Users/biocbuild/bbs-3.22-bioc/meat/TFutils.Rcheck’
* using R version 4.5.1 Patched (2025-09-10 r88807)
* using platform: x86_64-apple-darwin20
* R was compiled by
    Apple clang version 14.0.0 (clang-1400.0.29.202)
    GNU Fortran (GCC) 14.2.0
* running under: macOS Monterey 12.7.6
* using session charset: UTF-8
* using option ‘--no-vignettes’
* checking for file ‘TFutils/DESCRIPTION’ ... OK
* this is package ‘TFutils’ version ‘1.30.0’
* package encoding: UTF-8
* checking package namespace information ... OK
* checking package dependencies ... OK
* checking if this is a source package ... OK
* checking if there is a namespace ... OK
* checking for hidden files and directories ... OK
* checking for portable file names ... OK
* checking for sufficient/correct file permissions ... OK
* checking whether package ‘TFutils’ can be installed ... OK
* checking installed package size ... INFO
  installed size is  5.3Mb
  sub-directories of 1Mb or more:
    data      3.4Mb
    lambert   1.4Mb
* checking package directory ... OK
* checking ‘build’ directory ... OK
* checking DESCRIPTION meta-information ... OK
* checking top-level files ... OK
* checking for left-over files ... OK
* checking index information ... OK
* checking package subdirectories ... OK
* checking code files for non-ASCII characters ... OK
* checking R files for syntax errors ... OK
* checking whether the package can be loaded ... OK
* checking whether the package can be loaded with stated dependencies ... OK
* checking whether the package can be unloaded cleanly ... OK
* checking whether the namespace can be loaded with stated dependencies ... OK
* checking whether the namespace can be unloaded cleanly ... OK
* checking dependencies in R code ... OK
* checking S3 generic/method consistency ... OK
* checking replacement functions ... OK
* checking foreign function calls ... OK
* checking R code for possible problems ... NOTE
fimo_granges : proctext: warning in read.delim(con, h = FALSE,
  stringsAsFactors = FALSE, sep = "\t"): partial argument match of 'h'
  to 'header'
setupHIZE: warning in read.delim(txtfn, sep = "\t", skip = 3, h =
  FALSE, stringsAsFactors = FALSE): partial argument match of 'h' to
  'header'
directHitsInCISBP: no visible binding for global variable
  ‘DISEASE.TRAIT’
directHitsInCISBP: no visible binding for global variable ‘MAPPED_GENE’
directHitsInCISBP: no visible binding for global variable ‘cisbpTFcat’
directHitsInCISBP: no visible binding for global variable ‘HGNC’
directHitsInCISBP: no visible binding for global variable ‘Family_Name’
tffamCirc.prep: no visible binding for global variable ‘TF family’
tffamCirc.prep: no visible binding for global variable ‘TFfamily’
tffamCirc.prep: no visible binding for global variable ‘Transcription
  factor’
topTraitsOfTargets: no visible binding for global variable
  ‘DISEASE.TRAIT’
Undefined global functions or variables:
  DISEASE.TRAIT Family_Name HGNC MAPPED_GENE TF family TFfamily
  Transcription factor cisbpTFcat
Consider adding
  importFrom("base", "factor")
  importFrom("stats", "family")
to your NAMESPACE file.
* checking Rd files ... OK
* checking Rd metadata ... OK
* checking Rd cross-references ... OK
* checking for missing documentation entries ... OK
* checking for code/documentation mismatches ... OK
* checking Rd \usage sections ... OK
* checking Rd contents ... OK
* checking for unstated dependencies in examples ... OK
* checking contents of ‘data’ directory ... OK
* checking data for non-ASCII characters ... OK
* checking LazyData ... OK
* checking data for ASCII and uncompressed saves ... OK
* checking line endings in Makefiles ... OK
* checking for GNU extensions in Makefiles ... OK
* checking include directives in Makefiles ... OK
* checking files in ‘vignettes’ ... OK
* checking examples ... OK
Examples with CPU (user + system) or elapsed time > 5s
                     user system elapsed
tffamCirc.plot     22.445  0.548  23.103
topTraitsOfTargets 15.862  0.901  16.852
tffamCirc.prep     11.490  0.076  11.585
genemodForGviz      6.868  0.378   7.290
* checking for unstated dependencies in ‘tests’ ... OK
* checking tests ...
  Running ‘testthat.R’
 OK
* checking for unstated dependencies in vignettes ... OK
* checking package vignettes ... OK
* checking running R code from vignettes ... SKIPPED
* checking re-building of vignette outputs ... SKIPPED
* checking PDF version of manual ... OK
* DONE
Status: 1 NOTE
See
  ‘/Users/biocbuild/bbs-3.22-bioc/meat/TFutils.Rcheck/00check.log’
for details.
TFutils.Rcheck/00install.out
############################################################################## ############################################################################## ### ### Running command: ### ### /Library/Frameworks/R.framework/Resources/bin/R CMD INSTALL TFutils ### ############################################################################## ############################################################################## * installing to library ‘/Library/Frameworks/R.framework/Versions/4.5-x86_64/Resources/library’ * installing *source* package ‘TFutils’ ... ** this is package ‘TFutils’ version ‘1.30.0’ ** using staged installation ** R ** data *** moving datasets to lazyload DB ** inst ** byte-compile and prepare package for lazy loading ** help *** installing help indices ** building package indices ** installing vignettes ** testing if installed package can be loaded from temporary location ** testing if installed package can be loaded from final location ** testing if installed package keeps a record of temporary installation path * DONE (TFutils)
TFutils.Rcheck/tests/testthat.Rout
R version 4.5.1 Patched (2025-09-10 r88807) -- "Great Square Root"
Copyright (C) 2025 The R Foundation for Statistical Computing
Platform: x86_64-apple-darwin20
R is free software and comes with ABSOLUTELY NO WARRANTY.
You are welcome to redistribute it under certain conditions.
Type 'license()' or 'licence()' for distribution details.
R is a collaborative project with many contributors.
Type 'contributors()' for more information and
'citation()' on how to cite R or R packages in publications.
Type 'demo()' for some demos, 'help()' for on-line help, or
'help.start()' for an HTML browser interface to help.
Type 'q()' to quit R.
> library(testthat)
> library(TFutils)
> 
> test_check("TFutils")
[ FAIL 0 | WARN 0 | SKIP 0 | PASS 5 ]
> 
> 
> proc.time()
   user  system elapsed 
 17.828   0.837  18.743 
TFutils.Rcheck/TFutils-Ex.timings
| name | user | system | elapsed | |
| HGNCmap | 0.001 | 0.000 | 0.001 | |
| TFCatalog | 0.249 | 0.021 | 0.271 | |
| TFtargs | 0.000 | 0.001 | 0.001 | |
| URL_s3_tf | 0 | 0 | 0 | |
| anchor_pmids | 0.004 | 0.000 | 0.005 | |
| browse_gotf_main | 0.000 | 0.000 | 0.001 | |
| browse_humantfs_main | 0 | 0 | 0 | |
| browse_lambert_gwaslinks | 0 | 0 | 0 | |
| browse_lambert_main | 0 | 0 | 0 | |
| cisbpTFcat | 0.029 | 0.003 | 0.032 | |
| cisbpTFcat_2.0 | 0.030 | 0.004 | 0.034 | |
| defaultCircosParms | 0.007 | 0.003 | 0.010 | |
| demo_fimo_granges | 0.008 | 0.000 | 0.009 | |
| directHitsInCISBP | 0.211 | 0.012 | 0.224 | |
| encode690 | 0.036 | 0.002 | 0.039 | |
| fimo16 | 0.012 | 0.001 | 0.014 | |
| fimoMap | 0.001 | 0.000 | 0.002 | |
| fimo_granges | 0.001 | 0.001 | 0.001 | |
| genemodForGviz | 6.868 | 0.378 | 7.290 | |
| genemodelDF | 0.103 | 0.001 | 0.105 | |
| get_rslocs_38 | 0.000 | 0.001 | 0.000 | |
| grabTab | 0.297 | 0.013 | 0.313 | |
| gwascat_hg19_chr17 | 0.045 | 0.002 | 0.047 | |
| hocomoco.mono | 0.005 | 0.001 | 0.005 | |
| hocomoco.mono.sep2018 | 0.005 | 0.001 | 0.005 | |
| importFIMO | 0.035 | 0.001 | 0.037 | |
| importFIMO_local_split | 0.015 | 0.009 | 0.026 | |
| lambert_snps | 0.180 | 0.009 | 0.190 | |
| metadata_tf | 0.007 | 0.009 | 0.016 | |
| named_tf | 0.006 | 0.016 | 0.023 | |
| retrieve_gotf_main | 0 | 0 | 0 | |
| retrieve_humantfs_main | 0 | 0 | 0 | |
| retrieve_lambert_main | 0 | 0 | 0 | |
| seqinfo_hg19_chr17 | 0.003 | 0.000 | 0.004 | |
| tffamCirc.plot | 22.445 | 0.548 | 23.103 | |
| tffamCirc.prep | 11.490 | 0.076 | 11.585 | |
| tfhash | 0.412 | 0.469 | 0.886 | |
| tftColl | 0.183 | 0.016 | 0.199 | |
| tftCollMap | 0.001 | 0.000 | 0.002 | |
| topTraitsOfTargets | 15.862 | 0.901 | 16.852 | |