| Back to Multiple platform build/check report for BioC 3.21: simplified long |
|
This page was generated on 2025-10-16 11:41 -0400 (Thu, 16 Oct 2025).
| Hostname | OS | Arch (*) | R version | Installed pkgs |
|---|---|---|---|---|
| nebbiolo1 | Linux (Ubuntu 24.04.3 LTS) | x86_64 | 4.5.1 (2025-06-13) -- "Great Square Root" | 4833 |
| merida1 | macOS 12.7.6 Monterey | x86_64 | 4.5.1 RC (2025-06-05 r88288) -- "Great Square Root" | 4614 |
| kjohnson1 | macOS 13.7.5 Ventura | arm64 | 4.5.1 Patched (2025-06-14 r88325) -- "Great Square Root" | 4555 |
| kunpeng2 | Linux (openEuler 24.03 LTS) | aarch64 | R Under development (unstable) (2025-02-19 r87757) -- "Unsuffered Consequences" | 4586 |
| Click on any hostname to see more info about the system (e.g. compilers) (*) as reported by 'uname -p', except on Windows and Mac OS X | ||||
| Package 2045/2341 | Hostname | OS / Arch | INSTALL | BUILD | CHECK | BUILD BIN | ||||||||
Gregory Ryslik
| nebbiolo1 | Linux (Ubuntu 24.04.3 LTS) / x86_64 | OK | OK | OK | |||||||||
| merida1 | macOS 12.7.6 Monterey / x86_64 | OK | OK | OK | OK | |||||||||
| kjohnson1 | macOS 13.7.5 Ventura / arm64 | OK | OK | OK | OK | |||||||||
| kunpeng2 | Linux (openEuler 24.03 LTS) / aarch64 | OK | OK | OK | ||||||||||
|
To the developers/maintainers of the SpacePAC package: - Allow up to 24 hours (and sometimes 48 hours) for your latest push to git@git.bioconductor.org:packages/SpacePAC.git to reflect on this report. See Troubleshooting Build Report for more information. - Use the following Renviron settings to reproduce errors and warnings. - If 'R CMD check' started to fail recently on the Linux builder(s) over a missing dependency, add the missing dependency to 'Suggests:' in your DESCRIPTION file. See Renviron.bioc for more information. - See Martin Grigorov's blog post for how to debug Linux ARM64 related issues on a x86_64 host. |
| Package: SpacePAC |
| Version: 1.46.0 |
| Command: /home/biocbuild/R/R/bin/R CMD check --install=check:SpacePAC.install-out.txt --library=/home/biocbuild/R/R/site-library --no-vignettes --timings SpacePAC_1.46.0.tar.gz |
| StartedAt: 2025-10-14 14:31:56 -0000 (Tue, 14 Oct 2025) |
| EndedAt: 2025-10-14 14:34:49 -0000 (Tue, 14 Oct 2025) |
| EllapsedTime: 172.2 seconds |
| RetCode: 0 |
| Status: OK |
| CheckDir: SpacePAC.Rcheck |
| Warnings: 0 |
##############################################################################
##############################################################################
###
### Running command:
###
### /home/biocbuild/R/R/bin/R CMD check --install=check:SpacePAC.install-out.txt --library=/home/biocbuild/R/R/site-library --no-vignettes --timings SpacePAC_1.46.0.tar.gz
###
##############################################################################
##############################################################################
* using log directory ‘/home/biocbuild/bbs-3.21-bioc/meat/SpacePAC.Rcheck’
* using R Under development (unstable) (2025-02-19 r87757)
* using platform: aarch64-unknown-linux-gnu
* R was compiled by
aarch64-unknown-linux-gnu-gcc (GCC) 14.2.0
GNU Fortran (GCC) 14.2.0
* running under: openEuler 24.03 (LTS-SP1)
* using session charset: UTF-8
* using option ‘--no-vignettes’
* checking for file ‘SpacePAC/DESCRIPTION’ ... OK
* checking extension type ... Package
* this is package ‘SpacePAC’ version ‘1.46.0’
* checking package namespace information ... OK
* checking package dependencies ... OK
* checking if this is a source package ... OK
* checking if there is a namespace ... OK
* checking for hidden files and directories ... OK
* checking for portable file names ... OK
* checking for sufficient/correct file permissions ... OK
* checking whether package ‘SpacePAC’ can be installed ... OK
* checking installed package size ... OK
* checking package directory ... OK
* checking ‘build’ directory ... OK
* checking DESCRIPTION meta-information ... NOTE
Malformed Title field: should not end in a period.
* checking top-level files ... OK
* checking for left-over files ... OK
* checking index information ... OK
* checking package subdirectories ... OK
* checking code files for non-ASCII characters ... OK
* checking R files for syntax errors ... OK
* checking whether the package can be loaded ... OK
* checking whether the package can be loaded with stated dependencies ... OK
* checking whether the package can be unloaded cleanly ... OK
* checking whether the namespace can be loaded with stated dependencies ... OK
* checking whether the namespace can be unloaded cleanly ... OK
* checking loading without being on the library search path ... OK
* checking whether startup messages can be suppressed ... OK
* checking dependencies in R code ... NOTE
Package in Depends field not imported from: ‘iPAC’
These packages need to be imported from (in the NAMESPACE file)
for when this namespace is loaded but not attached.
* checking S3 generic/method consistency ... OK
* checking replacement functions ... OK
* checking foreign function calls ... OK
* checking R code for possible problems ... NOTE
SpaceClust: no visible global function definition for ‘flush.console’
SpaceClust: no visible global function definition for ‘ppois’
create.Distance.Matrix: no visible global function definition for
‘dist’
create.Result.Matrix: no visible global function definition for
‘p.adjust’
get.Avg.Neighbor.Distance: no visible global function definition for
‘dist’
get.Local.Radius.Results: no visible global function definition for
‘sd’
make.3D.Sphere: no visible global function definition for ‘rgl.open’
make.3D.Sphere: no visible global function definition for ‘rgl.bg’
make.3D.Sphere: no visible global function definition for ‘plot3d’
make.3D.Sphere: no visible global function definition for ‘decorate3d’
make.3D.Sphere: no visible global function definition for ‘spheres3d’
Undefined global functions or variables:
decorate3d dist flush.console p.adjust plot3d ppois rgl.bg rgl.open
sd spheres3d
Consider adding
importFrom("stats", "dist", "p.adjust", "ppois", "sd")
importFrom("utils", "flush.console")
to your NAMESPACE file.
* checking Rd files ... OK
* checking Rd metadata ... OK
* checking Rd cross-references ... OK
* checking for missing documentation entries ... OK
* checking for code/documentation mismatches ... OK
* checking Rd \usage sections ... OK
* checking Rd contents ... OK
* checking for unstated dependencies in examples ... OK
* checking files in ‘vignettes’ ... OK
* checking examples ... OK
Examples with CPU (user + system) or elapsed time > 5s
user system elapsed
SpaceClust 52.535 0.67 64.715
* checking for unstated dependencies in ‘tests’ ... OK
* checking tests ...
Running ‘runTests.R’
OK
* checking for unstated dependencies in vignettes ... OK
* checking package vignettes ... OK
* checking running R code from vignettes ... SKIPPED
* checking re-building of vignette outputs ... SKIPPED
* checking PDF version of manual ... OK
* DONE
Status: 3 NOTEs
See
‘/home/biocbuild/bbs-3.21-bioc/meat/SpacePAC.Rcheck/00check.log’
for details.
SpacePAC.Rcheck/00install.out
############################################################################## ############################################################################## ### ### Running command: ### ### /home/biocbuild/R/R/bin/R CMD INSTALL SpacePAC ### ############################################################################## ############################################################################## * installing to library ‘/home/biocbuild/R/R-devel_2025-02-19/site-library’ * installing *source* package ‘SpacePAC’ ... ** this is package ‘SpacePAC’ version ‘1.46.0’ ** using staged installation ** R ** inst ** byte-compile and prepare package for lazy loading Warning message: In fun(libname, pkgname) : Package 'iPAC' is deprecated and will be removed from Bioconductor version 3.22 ** help *** installing help indices ** building package indices ** installing vignettes ** testing if installed package can be loaded from temporary location Warning in fun(libname, pkgname) : Package 'iPAC' is deprecated and will be removed from Bioconductor version 3.22 Warning in fun(libname, pkgname) : Package 'SpacePAC' is deprecated and will be removed from Bioconductor version 3.22 ** testing if installed package can be loaded from final location Warning in fun(libname, pkgname) : Package 'iPAC' is deprecated and will be removed from Bioconductor version 3.22 Warning in fun(libname, pkgname) : Package 'SpacePAC' is deprecated and will be removed from Bioconductor version 3.22 ** testing if installed package keeps a record of temporary installation path * DONE (SpacePAC)
SpacePAC.Rcheck/tests/runTests.Rout
R Under development (unstable) (2025-02-19 r87757) -- "Unsuffered Consequences"
Copyright (C) 2025 The R Foundation for Statistical Computing
Platform: aarch64-unknown-linux-gnu
R is free software and comes with ABSOLUTELY NO WARRANTY.
You are welcome to redistribute it under certain conditions.
Type 'license()' or 'licence()' for distribution details.
R is a collaborative project with many contributors.
Type 'contributors()' for more information and
'citation()' on how to cite R or R packages in publications.
Type 'demo()' for some demos, 'help()' for on-line help, or
'help.start()' for an HTML browser interface to help.
Type 'q()' to quit R.
> BiocGenerics:::testPackage("SpacePAC")
Attaching package: 'generics'
The following objects are masked from 'package:base':
as.difftime, as.factor, as.ordered, intersect, is.element, setdiff,
setequal, union
Attaching package: 'BiocGenerics'
The following objects are masked from 'package:stats':
IQR, mad, sd, var, xtabs
The following objects are masked from 'package:base':
Filter, Find, Map, Position, Reduce, anyDuplicated, aperm, append,
as.data.frame, basename, cbind, colnames, dirname, do.call,
duplicated, eval, evalq, get, grep, grepl, is.unsorted, lapply,
mapply, match, mget, order, paste, pmax, pmax.int, pmin, pmin.int,
rank, rbind, rownames, sapply, saveRDS, table, tapply, unique,
unsplit, which.max, which.min
Attaching package: 'S4Vectors'
The following object is masked from 'package:utils':
findMatches
The following objects are masked from 'package:base':
I, expand.grid, unname
Attaching package: 'Biostrings'
The following object is masked from 'package:base':
strsplit
Attaching package: 'pwalign'
The following objects are masked from 'package:Biostrings':
PairwiseAlignments, PairwiseAlignmentsSingleSubject, aligned,
alignedPattern, alignedSubject, compareStrings, deletion,
errorSubstitutionMatrices, indel, insertion, mismatchSummary,
mismatchTable, nedit, nindel, nucleotideSubstitutionMatrix,
pairwiseAlignment, pattern, pid, qualitySubstitutionMatrices,
stringDist, unaligned, writePairwiseAlignments
Welcome to Bioconductor
Vignettes contain introductory material; view with
'browseVignettes()'. To cite Bioconductor, see
'citation("Biobase")', and for packages 'citation("pkgname")'.
Processing radius # 1 : radius length = 1.00 : Percentage complete 0.00
Processing radius # 2 : radius length = 2.00 : Percentage complete 0.25
Processing radius # 3 : radius length = 3.00 : Percentage complete 0.50
Processing radius # 4 : radius length = 4.00 : Percentage complete 0.75
Processing radius # 1 : radius length = 1.00 : Percentage complete 0.00
Processing radius # 2 : radius length = 2.00 : Percentage complete 0.25
Processing radius # 3 : radius length = 3.00 : Percentage complete 0.50
Processing radius # 4 : radius length = 4.00 : Percentage complete 0.75
RUNIT TEST PROTOCOL -- Tue Oct 14 14:34:43 2025
***********************************************
Number of test functions: 1
Number of errors: 0
Number of failures: 0
1 Test Suite :
SpacePAC RUnit Tests - 1 test function, 0 errors, 0 failures
Number of test functions: 1
Number of errors: 0
Number of failures: 0
Warning messages:
1: In fun(libname, pkgname) :
Package 'iPAC' is deprecated and will be removed from Bioconductor
version 3.22
2: In fun(libname, pkgname) :
Package 'SpacePAC' is deprecated and will be removed from Bioconductor
version 3.22
>
> proc.time()
user system elapsed
17.598 0.244 19.547
SpacePAC.Rcheck/SpacePAC-Ex.timings
| name | user | system | elapsed | |
| SpaceClust | 52.535 | 0.670 | 64.715 | |
| SpacePAC-package | 0 | 0 | 0 | |
| make.3D.Sphere | 0.000 | 0.000 | 0.001 | |