| Back to Multiple platform build/check report for BioC 3.22: simplified long |
|
This page was generated on 2025-11-20 12:04 -0500 (Thu, 20 Nov 2025).
| Hostname | OS | Arch (*) | R version | Installed pkgs |
|---|---|---|---|---|
| nebbiolo2 | Linux (Ubuntu 24.04.3 LTS) | x86_64 | 4.5.2 (2025-10-31) -- "[Not] Part in a Rumble" | 4615 |
| merida1 | macOS 12.7.6 Monterey | x86_64 | 4.5.2 Patched (2025-11-05 r88990) -- "[Not] Part in a Rumble" | 4610 |
| kjohnson1 | macOS 13.7.5 Ventura | arm64 | 4.5.2 Patched (2025-11-04 r88984) -- "[Not] Part in a Rumble" | 4598 |
| taishan | Linux (openEuler 24.03 LTS) | aarch64 | 4.5.0 (2025-04-11) -- "How About a Twenty-Six" | 4668 |
| Click on any hostname to see more info about the system (e.g. compilers) (*) as reported by 'uname -p', except on Windows and Mac OS X | ||||
| Package 2049/2361 | Hostname | OS / Arch | INSTALL | BUILD | CHECK | BUILD BIN | ||||||||
| SmartPhos 1.0.0 (landing page) Shubham Agrawal
| nebbiolo2 | Linux (Ubuntu 24.04.3 LTS) / x86_64 | OK | OK | OK | |||||||||
| merida1 | macOS 12.7.6 Monterey / x86_64 | OK | OK | OK | OK | |||||||||
| kjohnson1 | macOS 13.7.5 Ventura / arm64 | OK | OK | OK | OK | |||||||||
| taishan | Linux (openEuler 24.03 LTS) / aarch64 | OK | OK | OK | ||||||||||
|
To the developers/maintainers of the SmartPhos package: - Allow up to 24 hours (and sometimes 48 hours) for your latest push to git@git.bioconductor.org:packages/SmartPhos.git to reflect on this report. See Troubleshooting Build Report for more information. - Use the following Renviron settings to reproduce errors and warnings. - If 'R CMD check' started to fail recently on the Linux builder(s) over a missing dependency, add the missing dependency to 'Suggests:' in your DESCRIPTION file. See Renviron.bioc for more information. |
| Package: SmartPhos |
| Version: 1.0.0 |
| Command: /home/biocbuild/bbs-3.22-bioc/R/bin/R CMD check --install=check:SmartPhos.install-out.txt --library=/home/biocbuild/bbs-3.22-bioc/R/site-library --timings SmartPhos_1.0.0.tar.gz |
| StartedAt: 2025-11-18 08:42:43 -0500 (Tue, 18 Nov 2025) |
| EndedAt: 2025-11-18 08:49:01 -0500 (Tue, 18 Nov 2025) |
| EllapsedTime: 378.3 seconds |
| RetCode: 0 |
| Status: OK |
| CheckDir: SmartPhos.Rcheck |
| Warnings: 0 |
##############################################################################
##############################################################################
###
### Running command:
###
### /home/biocbuild/bbs-3.22-bioc/R/bin/R CMD check --install=check:SmartPhos.install-out.txt --library=/home/biocbuild/bbs-3.22-bioc/R/site-library --timings SmartPhos_1.0.0.tar.gz
###
##############################################################################
##############################################################################
* using log directory ‘/home/biocbuild/bbs-3.22-bioc/meat/SmartPhos.Rcheck’
* using R version 4.5.2 (2025-10-31)
* using platform: x86_64-pc-linux-gnu
* R was compiled by
gcc (Ubuntu 13.3.0-6ubuntu2~24.04) 13.3.0
GNU Fortran (Ubuntu 13.3.0-6ubuntu2~24.04) 13.3.0
* running under: Ubuntu 24.04.3 LTS
* using session charset: UTF-8
* checking for file ‘SmartPhos/DESCRIPTION’ ... OK
* checking extension type ... Package
* this is package ‘SmartPhos’ version ‘1.0.0’
* package encoding: UTF-8
* checking package namespace information ... OK
* checking package dependencies ... INFO
Imports includes 36 non-default packages.
Importing from so many packages makes the package vulnerable to any of
them becoming unavailable. Move as many as possible to Suggests and
use conditionally.
* checking if this is a source package ... OK
* checking if there is a namespace ... OK
* checking for hidden files and directories ... OK
* checking for portable file names ... OK
* checking for sufficient/correct file permissions ... OK
* checking whether package ‘SmartPhos’ can be installed ... OK
* checking installed package size ... INFO
installed size is 7.1Mb
sub-directories of 1Mb or more:
data 1.3Mb
shiny-app 5.4Mb
* checking package directory ... OK
* checking ‘build’ directory ... OK
* checking DESCRIPTION meta-information ... OK
* checking top-level files ... OK
* checking for left-over files ... OK
* checking index information ... OK
* checking package subdirectories ... OK
* checking code files for non-ASCII characters ... OK
* checking R files for syntax errors ... OK
* checking whether the package can be loaded ... OK
* checking whether the package can be loaded with stated dependencies ... OK
* checking whether the package can be unloaded cleanly ... OK
* checking whether the namespace can be loaded with stated dependencies ... OK
* checking whether the namespace can be unloaded cleanly ... OK
* checking loading without being on the library search path ... OK
* checking dependencies in R code ... NOTE
Namespaces in Imports field not imported from:
‘DT’ ‘XML’ ‘cowplot’ ‘factoextra’ ‘ggbeeswarm’ ‘grid’ ‘plotly’
‘shinyBS’ ‘shinyWidgets’ ‘shinyjs’ ‘shinythemes’ ‘tools’
All declared Imports should be used.
* checking S3 generic/method consistency ... OK
* checking replacement functions ... OK
* checking foreign function calls ... OK
* checking R code for possible problems ... NOTE
runFisher: no visible binding for global variable ‘signature’
runGSEAforPhospho: no visible binding for global variable ‘signature’
Undefined global functions or variables:
signature
Consider adding
importFrom("methods", "signature")
to your NAMESPACE file (and ensure that your DESCRIPTION Imports field
contains 'methods').
* checking Rd files ... OK
* checking Rd metadata ... OK
* checking Rd cross-references ... OK
* checking for missing documentation entries ... OK
* checking for code/documentation mismatches ... OK
* checking Rd \usage sections ... OK
* checking Rd contents ... OK
* checking for unstated dependencies in examples ... OK
* checking contents of ‘data’ directory ... OK
* checking data for non-ASCII characters ... OK
* checking data for ASCII and uncompressed saves ... OK
* checking files in ‘vignettes’ ... OK
* checking examples ... OK
* checking for unstated dependencies in ‘tests’ ... OK
* checking tests ...
Running ‘testthat.R’
OK
* checking for unstated dependencies in vignettes ... OK
* checking package vignettes ... OK
* checking re-building of vignette outputs ... OK
* checking PDF version of manual ... OK
* DONE
Status: 2 NOTEs
See
‘/home/biocbuild/bbs-3.22-bioc/meat/SmartPhos.Rcheck/00check.log’
for details.
SmartPhos.Rcheck/00install.out
############################################################################## ############################################################################## ### ### Running command: ### ### /home/biocbuild/bbs-3.22-bioc/R/bin/R CMD INSTALL SmartPhos ### ############################################################################## ############################################################################## * installing to library ‘/home/biocbuild/bbs-3.22-bioc/R/site-library’ * installing *source* package ‘SmartPhos’ ... ** this is package ‘SmartPhos’ version ‘1.0.0’ ** using staged installation ** R ** data ** inst ** byte-compile and prepare package for lazy loading ** help *** installing help indices ** building package indices ** installing vignettes ** testing if installed package can be loaded from temporary location ** testing if installed package can be loaded from final location ** testing if installed package keeps a record of temporary installation path * DONE (SmartPhos)
SmartPhos.Rcheck/tests/testthat.Rout
R version 4.5.2 (2025-10-31) -- "[Not] Part in a Rumble"
Copyright (C) 2025 The R Foundation for Statistical Computing
Platform: x86_64-pc-linux-gnu
R is free software and comes with ABSOLUTELY NO WARRANTY.
You are welcome to redistribute it under certain conditions.
Type 'license()' or 'licence()' for distribution details.
R is a collaborative project with many contributors.
Type 'contributors()' for more information and
'citation()' on how to cite R or R packages in publications.
Type 'demo()' for some demos, 'help()' for on-line help, or
'help.start()' for an HTML browser interface to help.
Type 'q()' to quit R.
> # This file is part of the standard setup for testthat.
> # It is recommended that you do not modify it.
> #
> # Where should you do additional test configuration?
> # Learn more about the roles of various files in:
> # * https://r-pkgs.org/testing-design.html#sec-tests-files-overview
> # * https://testthat.r-lib.org/articles/special-files.html
>
> library(testthat)
> library(SmartPhos)
>
> test_check("SmartPhos")
harmonizing input:
removing 5 sampleMap rows not in names(experiments)
harmonizing input:
removing 5 sampleMap rows not in names(experiments)
Running gene set analysis:
Checking arguments...done!
Final gene/gene-set association: 20 genes and 22 gene sets
Details:
Calculating gene set statistics from 20 out of 65 gene-level statistics
Removed 4366 genes from GSC due to lack of matching gene statistics
Removed 28 gene sets containing no genes after gene removal
Removed additionally 0 gene sets not matching the size limits
Loaded additional information for 22 gene sets
Calculating gene set statistics...done!
Calculating gene set significance...done!
Adjusting for multiple testing...done!
Running gene set analysis:
Checking arguments...done!
Final gene/gene-set association: 20 genes and 22 gene sets
Details:
Calculating gene set statistics from 20 out of 65 gene-level statistics
Removed 4366 genes from GSC due to lack of matching gene statistics
Removed 28 gene sets containing no genes after gene removal
Removed additionally 0 gene sets not matching the size limits
Loaded additional information for 22 gene sets
Calculating gene set statistics...done!
Calculating gene set significance...done!
Adjusting for multiple testing...done!
Imputing along margin 2 (samples/columns).
Imputing along margin 2 (samples/columns).
New names:
* `` -> `...1`
* `` -> `...2`
* `` -> `...3`
[ FAIL 0 | WARN 0 | SKIP 0 | PASS 309 ]
>
> proc.time()
user system elapsed
61.258 5.094 65.860
SmartPhos.Rcheck/SmartPhos-Ex.timings
| name | user | system | elapsed | |
| Homo_sapien_kinase_substrate_network | 0.068 | 0.001 | 0.069 | |
| Mus_musculus_kinase_substrate_network | 0.052 | 0.001 | 0.053 | |
| addZeroTime | 0.383 | 0.012 | 0.396 | |
| calcKinaseScore | 0.775 | 0.061 | 0.836 | |
| clusterEnrich | 1.067 | 0.006 | 1.073 | |
| clusterTS | 1.058 | 0.005 | 1.063 | |
| dda_example | 0.002 | 0.001 | 0.004 | |
| dia_example | 0.005 | 0.001 | 0.006 | |
| enrichDifferential | 0.501 | 0.004 | 0.504 | |
| getDecouplerNetwork | 0.426 | 0.144 | 0.571 | |
| getRatioMatrix | 0.649 | 0.005 | 0.655 | |
| intensityBoxPlot | 0.692 | 0.001 | 0.693 | |
| makeSmartPhosDirectory | 0.000 | 0.014 | 0.023 | |
| medianNorm | 0.001 | 0.000 | 0.000 | |
| mscale | 0.002 | 0.000 | 0.002 | |
| normByFullProteome | 0.312 | 0.001 | 0.313 | |
| performCombinedNormalization | 0.158 | 0.017 | 0.175 | |
| performDifferentialExp | 0.353 | 0.003 | 0.356 | |
| plotHeatmap | 0.458 | 0.002 | 0.460 | |
| plotIntensity | 1.108 | 0.005 | 1.113 | |
| plotKinaseDE | 1.201 | 0.000 | 1.202 | |
| plotKinaseTimeSeries | 0.332 | 0.001 | 0.333 | |
| plotLogRatio | 1.064 | 0.000 | 1.064 | |
| plotMissing | 0.337 | 0.002 | 0.339 | |
| plotPCA | 0.280 | 0.001 | 0.281 | |
| plotTimeSeries | 0.572 | 0.005 | 0.577 | |
| plotVolcano | 0.585 | 0.004 | 0.590 | |
| preprocessPhos | 0.383 | 0.002 | 0.385 | |
| preprocessProteome | 0.317 | 0.003 | 0.320 | |
| readExperiment | 0.166 | 0.000 | 0.167 | |
| readExperimentDIA | 3.554 | 0.431 | 3.875 | |
| readPhosphoExperiment | 0.022 | 0.002 | 0.025 | |
| readPhosphoExperimentDIA | 1.833 | 0.213 | 2.015 | |
| readProteomeExperiment | 0.023 | 0.003 | 0.026 | |
| readProteomeExperimentDIA | 1.817 | 0.376 | 2.149 | |
| runFisher | 0.452 | 0.119 | 0.571 | |
| runSmartPhos | 0 | 0 | 0 | |
| swissProt | 0.228 | 0.040 | 0.268 | |