| Back to Multiple platform build/check report for BioC 3.21: simplified long |
|
This page was generated on 2025-04-22 13:18 -0400 (Tue, 22 Apr 2025).
| Hostname | OS | Arch (*) | R version | Installed pkgs |
|---|---|---|---|---|
| nebbiolo1 | Linux (Ubuntu 24.04.1 LTS) | x86_64 | 4.5.0 RC (2025-04-04 r88126) -- "How About a Twenty-Six" | 4831 |
| palomino7 | Windows Server 2022 Datacenter | x64 | 4.5.0 RC (2025-04-04 r88126 ucrt) -- "How About a Twenty-Six" | 4573 |
| lconway | macOS 12.7.1 Monterey | x86_64 | 4.5.0 RC (2025-04-04 r88126) -- "How About a Twenty-Six" | 4599 |
| kjohnson3 | macOS 13.7.1 Ventura | arm64 | 4.5.0 RC (2025-04-04 r88126) -- "How About a Twenty-Six" | 4553 |
| kunpeng2 | Linux (openEuler 24.03 LTS) | aarch64 | R Under development (unstable) (2025-02-19 r87757) -- "Unsuffered Consequences" | 4570 |
| Click on any hostname to see more info about the system (e.g. compilers) (*) as reported by 'uname -p', except on Windows and Mac OS X | ||||
| Package 2015/2341 | Hostname | OS / Arch | INSTALL | BUILD | CHECK | BUILD BIN | ||||||||
| SingleR 2.10.0 (landing page) Aaron Lun
| nebbiolo1 | Linux (Ubuntu 24.04.1 LTS) / x86_64 | OK | OK | OK | |||||||||
| palomino7 | Windows Server 2022 Datacenter / x64 | OK | OK | OK | OK | |||||||||
| lconway | macOS 12.7.1 Monterey / x86_64 | OK | OK | OK | OK | |||||||||
| kjohnson3 | macOS 13.7.1 Ventura / arm64 | OK | OK | OK | OK | |||||||||
| kunpeng2 | Linux (openEuler 24.03 LTS) / aarch64 | OK | OK | OK | ||||||||||
|
To the developers/maintainers of the SingleR package: - Allow up to 24 hours (and sometimes 48 hours) for your latest push to git@git.bioconductor.org:packages/SingleR.git to reflect on this report. See Troubleshooting Build Report for more information. - Use the following Renviron settings to reproduce errors and warnings. - If 'R CMD check' started to fail recently on the Linux builder(s) over a missing dependency, add the missing dependency to 'Suggests:' in your DESCRIPTION file. See Renviron.bioc for more information. |
| Package: SingleR |
| Version: 2.10.0 |
| Command: rm -rf SingleR.buildbin-libdir && mkdir SingleR.buildbin-libdir && /Users/biocbuild/BBS/utils/build-universal.sh SingleR_2.10.0.tar.gz /Library/Frameworks/R.framework/Resources/bin/R SingleR.buildbin-libdir |
| StartedAt: 2025-04-21 22:52:55 -0400 (Mon, 21 Apr 2025) |
| EndedAt: 2025-04-21 22:53:18 -0400 (Mon, 21 Apr 2025) |
| EllapsedTime: 22.5 seconds |
| RetCode: 0 |
| Status: OK |
| PackageFile: SingleR_2.10.0.tgz |
| PackageFileSize: 965.1 KiB |
##############################################################################
##############################################################################
###
### Running command:
###
### rm -rf SingleR.buildbin-libdir && mkdir SingleR.buildbin-libdir && /Users/biocbuild/BBS/utils/build-universal.sh SingleR_2.10.0.tar.gz /Library/Frameworks/R.framework/Resources/bin/R SingleR.buildbin-libdir
###
##############################################################################
##############################################################################
>>>>>>>
>>>>>>> INSTALLATION WITH 'R CMD INSTALL --preclean --no-multiarch --library=SingleR.buildbin-libdir SingleR_2.10.0.tar.gz'
>>>>>>>
* installing *source* package ‘SingleR’ ...
** this is package ‘SingleR’ version ‘2.10.0’
** using staged installation
** libs
using C++ compiler: ‘Apple clang version 15.0.0 (clang-1500.1.0.2.5)’
using C++17
using SDK: ‘MacOSX11.3.sdk’
clang++ -arch arm64 -std=gnu++17 -I"/Library/Frameworks/R.framework/Resources/include" -DNDEBUG -I'/Library/Frameworks/R.framework/Versions/4.5-arm64/Resources/library/Rcpp/include' -I'/Library/Frameworks/R.framework/Versions/4.5-arm64/Resources/library/beachmat/include' -I'/Library/Frameworks/R.framework/Versions/4.5-arm64/Resources/library/assorthead/include' -I'/Library/Frameworks/R.framework/Versions/4.5-arm64/Resources/library/BiocNeighbors/include' -I/opt/R/arm64/include -fPIC -falign-functions=64 -Wall -g -O2 -c RcppExports.cpp -o RcppExports.o
clang++ -arch arm64 -std=gnu++17 -I"/Library/Frameworks/R.framework/Resources/include" -DNDEBUG -I'/Library/Frameworks/R.framework/Versions/4.5-arm64/Resources/library/Rcpp/include' -I'/Library/Frameworks/R.framework/Versions/4.5-arm64/Resources/library/beachmat/include' -I'/Library/Frameworks/R.framework/Versions/4.5-arm64/Resources/library/assorthead/include' -I'/Library/Frameworks/R.framework/Versions/4.5-arm64/Resources/library/BiocNeighbors/include' -I/opt/R/arm64/include -fPIC -falign-functions=64 -Wall -g -O2 -c classify_integrated.cpp -o classify_integrated.o
clang++ -arch arm64 -std=gnu++17 -I"/Library/Frameworks/R.framework/Resources/include" -DNDEBUG -I'/Library/Frameworks/R.framework/Versions/4.5-arm64/Resources/library/Rcpp/include' -I'/Library/Frameworks/R.framework/Versions/4.5-arm64/Resources/library/beachmat/include' -I'/Library/Frameworks/R.framework/Versions/4.5-arm64/Resources/library/assorthead/include' -I'/Library/Frameworks/R.framework/Versions/4.5-arm64/Resources/library/BiocNeighbors/include' -I/opt/R/arm64/include -fPIC -falign-functions=64 -Wall -g -O2 -c classify_single.cpp -o classify_single.o
clang++ -arch arm64 -std=gnu++17 -I"/Library/Frameworks/R.framework/Resources/include" -DNDEBUG -I'/Library/Frameworks/R.framework/Versions/4.5-arm64/Resources/library/Rcpp/include' -I'/Library/Frameworks/R.framework/Versions/4.5-arm64/Resources/library/beachmat/include' -I'/Library/Frameworks/R.framework/Versions/4.5-arm64/Resources/library/assorthead/include' -I'/Library/Frameworks/R.framework/Versions/4.5-arm64/Resources/library/BiocNeighbors/include' -I/opt/R/arm64/include -fPIC -falign-functions=64 -Wall -g -O2 -c find_classic_markers.cpp -o find_classic_markers.o
clang++ -arch arm64 -std=gnu++17 -I"/Library/Frameworks/R.framework/Resources/include" -DNDEBUG -I'/Library/Frameworks/R.framework/Versions/4.5-arm64/Resources/library/Rcpp/include' -I'/Library/Frameworks/R.framework/Versions/4.5-arm64/Resources/library/beachmat/include' -I'/Library/Frameworks/R.framework/Versions/4.5-arm64/Resources/library/assorthead/include' -I'/Library/Frameworks/R.framework/Versions/4.5-arm64/Resources/library/BiocNeighbors/include' -I/opt/R/arm64/include -fPIC -falign-functions=64 -Wall -g -O2 -c grouped_medians.cpp -o grouped_medians.o
clang++ -arch arm64 -std=gnu++17 -I"/Library/Frameworks/R.framework/Resources/include" -DNDEBUG -I'/Library/Frameworks/R.framework/Versions/4.5-arm64/Resources/library/Rcpp/include' -I'/Library/Frameworks/R.framework/Versions/4.5-arm64/Resources/library/beachmat/include' -I'/Library/Frameworks/R.framework/Versions/4.5-arm64/Resources/library/assorthead/include' -I'/Library/Frameworks/R.framework/Versions/4.5-arm64/Resources/library/BiocNeighbors/include' -I/opt/R/arm64/include -fPIC -falign-functions=64 -Wall -g -O2 -c train_integrated.cpp -o train_integrated.o
clang++ -arch arm64 -std=gnu++17 -I"/Library/Frameworks/R.framework/Resources/include" -DNDEBUG -I'/Library/Frameworks/R.framework/Versions/4.5-arm64/Resources/library/Rcpp/include' -I'/Library/Frameworks/R.framework/Versions/4.5-arm64/Resources/library/beachmat/include' -I'/Library/Frameworks/R.framework/Versions/4.5-arm64/Resources/library/assorthead/include' -I'/Library/Frameworks/R.framework/Versions/4.5-arm64/Resources/library/BiocNeighbors/include' -I/opt/R/arm64/include -fPIC -falign-functions=64 -Wall -g -O2 -c train_single.cpp -o train_single.o
train_single.cpp:19:9: warning: unused variable 'NR' [-Wunused-variable]
int NR = parsed->ptr->nrow();
^
1 warning generated.
clang++ -arch arm64 -std=gnu++17 -dynamiclib -Wl,-headerpad_max_install_names -undefined dynamic_lookup -L/Library/Frameworks/R.framework/Resources/lib -L/opt/R/arm64/lib -o SingleR.so RcppExports.o classify_integrated.o classify_single.o find_classic_markers.o grouped_medians.o train_integrated.o train_single.o -F/Library/Frameworks/R.framework/.. -framework R
installing to /Users/biocbuild/bbs-3.21-bioc/meat/SingleR.buildbin-libdir/00LOCK-SingleR/00new/SingleR/libs
** R
** inst
** byte-compile and prepare package for lazy loading
** help
*** installing help indices
** building package indices
** installing vignettes
** testing if installed package can be loaded from temporary location
** checking absolute paths in shared objects and dynamic libraries
** testing if installed package can be loaded from final location
** testing if installed package keeps a record of temporary installation path
* DONE (SingleR)
>>>>>>>
>>>>>>> FIXING PATHS TO DYNAMIC LIBRARIES FOR SingleR.buildbin-libdir/SingleR/libs/SingleR.so
>>>>>>>
>>>>>>> Paths before fix:
SingleR.buildbin-libdir/SingleR/libs/SingleR.so:
SingleR.so (compatibility version 0.0.0, current version 0.0.0)
/Library/Frameworks/R.framework/Versions/4.5-arm64/Resources/lib/libR.dylib (compatibility version 4.5.0, current version 4.5.0)
/usr/lib/libc++.1.dylib (compatibility version 1.0.0, current version 905.6.0)
/usr/lib/libSystem.B.dylib (compatibility version 1.0.0, current version 1292.100.5)
>>>>>>> Fix with install_name_tool:
install_name_tool -change "/usr/local/lib/libgcc_s.1.1.dylib" "/Library/Frameworks/R.framework/Versions/4.5-arm64/Resources/lib/libgcc_s.1.1.dylib" "SingleR.buildbin-libdir/SingleR/libs/SingleR.so"
install_name_tool -change "/usr/local/lib/libgfortran.5.dylib" "/Library/Frameworks/R.framework/Versions/4.5-arm64/Resources/lib/libgfortran.5.dylib" "SingleR.buildbin-libdir/SingleR/libs/SingleR.so"
install_name_tool -change "/usr/local/lib/libquadmath.0.dylib" "/Library/Frameworks/R.framework/Versions/4.5-arm64/Resources/lib/libquadmath.0.dylib" "SingleR.buildbin-libdir/SingleR/libs/SingleR.so"
>>>>>>> Paths after fix:
SingleR.buildbin-libdir/SingleR/libs/SingleR.so:
SingleR.so (compatibility version 0.0.0, current version 0.0.0)
/Library/Frameworks/R.framework/Versions/4.5-arm64/Resources/lib/libR.dylib (compatibility version 4.5.0, current version 4.5.0)
/usr/lib/libc++.1.dylib (compatibility version 1.0.0, current version 905.6.0)
/usr/lib/libSystem.B.dylib (compatibility version 1.0.0, current version 1292.100.5)