| Back to Multiple platform build/check report for BioC 3.21: simplified long |
|
This page was generated on 2025-10-16 11:40 -0400 (Thu, 16 Oct 2025).
| Hostname | OS | Arch (*) | R version | Installed pkgs |
|---|---|---|---|---|
| nebbiolo1 | Linux (Ubuntu 24.04.3 LTS) | x86_64 | 4.5.1 (2025-06-13) -- "Great Square Root" | 4833 |
| merida1 | macOS 12.7.6 Monterey | x86_64 | 4.5.1 RC (2025-06-05 r88288) -- "Great Square Root" | 4614 |
| kjohnson1 | macOS 13.7.5 Ventura | arm64 | 4.5.1 Patched (2025-06-14 r88325) -- "Great Square Root" | 4555 |
| kunpeng2 | Linux (openEuler 24.03 LTS) | aarch64 | R Under development (unstable) (2025-02-19 r87757) -- "Unsuffered Consequences" | 4586 |
| Click on any hostname to see more info about the system (e.g. compilers) (*) as reported by 'uname -p', except on Windows and Mac OS X | ||||
| Package 2011/2341 | Hostname | OS / Arch | INSTALL | BUILD | CHECK | BUILD BIN | ||||||||
| SingleCellExperiment 1.30.1 (landing page) Davide Risso
| nebbiolo1 | Linux (Ubuntu 24.04.3 LTS) / x86_64 | OK | OK | OK | |||||||||
| merida1 | macOS 12.7.6 Monterey / x86_64 | OK | OK | OK | OK | |||||||||
| kjohnson1 | macOS 13.7.5 Ventura / arm64 | OK | OK | OK | OK | |||||||||
| kunpeng2 | Linux (openEuler 24.03 LTS) / aarch64 | OK | OK | OK | ||||||||||
|
To the developers/maintainers of the SingleCellExperiment package: - Allow up to 24 hours (and sometimes 48 hours) for your latest push to git@git.bioconductor.org:packages/SingleCellExperiment.git to reflect on this report. See Troubleshooting Build Report for more information. - Use the following Renviron settings to reproduce errors and warnings. - If 'R CMD check' started to fail recently on the Linux builder(s) over a missing dependency, add the missing dependency to 'Suggests:' in your DESCRIPTION file. See Renviron.bioc for more information. |
| Package: SingleCellExperiment |
| Version: 1.30.1 |
| Command: /Library/Frameworks/R.framework/Resources/bin/R CMD check --install=check:SingleCellExperiment.install-out.txt --library=/Library/Frameworks/R.framework/Resources/library --no-vignettes --timings SingleCellExperiment_1.30.1.tar.gz |
| StartedAt: 2025-10-15 12:48:35 -0400 (Wed, 15 Oct 2025) |
| EndedAt: 2025-10-15 12:52:38 -0400 (Wed, 15 Oct 2025) |
| EllapsedTime: 242.9 seconds |
| RetCode: 0 |
| Status: OK |
| CheckDir: SingleCellExperiment.Rcheck |
| Warnings: 0 |
##############################################################################
##############################################################################
###
### Running command:
###
### /Library/Frameworks/R.framework/Resources/bin/R CMD check --install=check:SingleCellExperiment.install-out.txt --library=/Library/Frameworks/R.framework/Resources/library --no-vignettes --timings SingleCellExperiment_1.30.1.tar.gz
###
##############################################################################
##############################################################################
* using log directory ‘/Users/biocbuild/bbs-3.21-bioc/meat/SingleCellExperiment.Rcheck’
* using R version 4.5.1 Patched (2025-06-14 r88325)
* using platform: aarch64-apple-darwin20
* R was compiled by
Apple clang version 16.0.0 (clang-1600.0.26.6)
GNU Fortran (GCC) 14.2.0
* running under: macOS Ventura 13.7.5
* using session charset: UTF-8
* using option ‘--no-vignettes’
* checking for file ‘SingleCellExperiment/DESCRIPTION’ ... OK
* this is package ‘SingleCellExperiment’ version ‘1.30.1’
* checking package namespace information ... OK
* checking package dependencies ... OK
* checking if this is a source package ... OK
* checking if there is a namespace ... OK
* checking for hidden files and directories ... OK
* checking for portable file names ... OK
* checking for sufficient/correct file permissions ... OK
* checking whether package ‘SingleCellExperiment’ can be installed ... OK
* checking installed package size ... OK
* checking package directory ... OK
* checking ‘build’ directory ... OK
* checking DESCRIPTION meta-information ... OK
* checking top-level files ... OK
* checking for left-over files ... OK
* checking index information ... OK
* checking package subdirectories ... OK
* checking code files for non-ASCII characters ... OK
* checking R files for syntax errors ... OK
* checking whether the package can be loaded ... OK
* checking whether the package can be loaded with stated dependencies ... OK
* checking whether the package can be unloaded cleanly ... OK
* checking whether the namespace can be loaded with stated dependencies ... OK
* checking whether the namespace can be unloaded cleanly ... OK
* checking dependencies in R code ... NOTE
Unexported objects imported by ':::' calls:
‘BiocGenerics:::replaceSlots’ ‘S4Vectors:::disableValidity’
‘SummarizedExperiment:::.SummarizedExperiment.charbound’
See the note in ?`:::` about the use of this operator.
* checking S3 generic/method consistency ... OK
* checking replacement functions ... OK
* checking foreign function calls ... OK
* checking R code for possible problems ... OK
* checking Rd files ... OK
* checking Rd metadata ... OK
* checking Rd cross-references ... NOTE
Found the following Rd file(s) with Rd \link{} targets missing package
anchors:
SingleCellExperiment.Rd: RangedSummarizedExperiment-class,
SummarizedExperiment, SummarizedExperiment-class, SelfHits-class,
assays, rowData, colData
altExps.Rd: SummarizedExperiment-class, colData, List-class, assay<-,
Annotated-class, metadata, Vector-class, mcols
assays.Rd: assay, assay<-
colLabels.Rd: SummarizedExperiment-class, colData
colPairs.Rd: SelfHits-class, List-class, mcols
combine.Rd: rbind,SummarizedExperiment-method,
cbind,SummarizedExperiment-method, colData,
combineCols,SummarizedExperiment-method, combineCols,
[,SummarizedExperiment-method, SummarizedExperiment-class
internals.Rd: DataFrame-class, rowData, colData, metadata,
rowData,SummarizedExperiment-method,
colData,SummarizedExperiment-method, rowData<-, colData<-,
metadata<-
reducedDims.Rd: List-class, assay<-, Annotated-class, metadata,
Vector-class, mcols
rowPairs.Rd: SelfHits-class, List-class, mcols
rowSubset.Rd: rowData
simplifyToSCE.Rd: SummarizedExperiment-class
sizeFactors.Rd: colData
unsplitAltExps.Rd: colData, ConstantMatrix-class, DelayedArray-class
updateObject.Rd: sizeFactors<-, colData
Please provide package anchors for all Rd \link{} targets not in the
package itself and the base packages.
* checking for missing documentation entries ... OK
* checking for code/documentation mismatches ... OK
* checking Rd \usage sections ... OK
* checking Rd contents ... OK
* checking for unstated dependencies in examples ... OK
* checking files in ‘vignettes’ ... OK
* checking examples ... OK
* checking for unstated dependencies in ‘tests’ ... OK
* checking tests ...
Running ‘testthat.R’
OK
* checking for unstated dependencies in vignettes ... OK
* checking package vignettes ... OK
* checking running R code from vignettes ... SKIPPED
* checking re-building of vignette outputs ... SKIPPED
* checking PDF version of manual ... OK
* DONE
Status: 2 NOTEs
See
‘/Users/biocbuild/bbs-3.21-bioc/meat/SingleCellExperiment.Rcheck/00check.log’
for details.
SingleCellExperiment.Rcheck/00install.out
############################################################################## ############################################################################## ### ### Running command: ### ### /Library/Frameworks/R.framework/Resources/bin/R CMD INSTALL SingleCellExperiment ### ############################################################################## ############################################################################## * installing to library ‘/Library/Frameworks/R.framework/Versions/4.5-arm64/Resources/library’ * installing *source* package ‘SingleCellExperiment’ ... ** this is package ‘SingleCellExperiment’ version ‘1.30.1’ ** using staged installation ** R ** inst ** byte-compile and prepare package for lazy loading ** help *** installing help indices ** building package indices ** installing vignettes ** testing if installed package can be loaded from temporary location ** testing if installed package can be loaded from final location ** testing if installed package keeps a record of temporary installation path * DONE (SingleCellExperiment)
SingleCellExperiment.Rcheck/tests/testthat.Rout
R version 4.5.1 Patched (2025-06-14 r88325) -- "Great Square Root"
Copyright (C) 2025 The R Foundation for Statistical Computing
Platform: aarch64-apple-darwin20
R is free software and comes with ABSOLUTELY NO WARRANTY.
You are welcome to redistribute it under certain conditions.
Type 'license()' or 'licence()' for distribution details.
R is a collaborative project with many contributors.
Type 'contributors()' for more information and
'citation()' on how to cite R or R packages in publications.
Type 'demo()' for some demos, 'help()' for on-line help, or
'help.start()' for an HTML browser interface to help.
Type 'q()' to quit R.
> library(testthat)
> library(SingleCellExperiment)
Loading required package: SummarizedExperiment
Loading required package: MatrixGenerics
Loading required package: matrixStats
Attaching package: 'MatrixGenerics'
The following objects are masked from 'package:matrixStats':
colAlls, colAnyNAs, colAnys, colAvgsPerRowSet, colCollapse,
colCounts, colCummaxs, colCummins, colCumprods, colCumsums,
colDiffs, colIQRDiffs, colIQRs, colLogSumExps, colMadDiffs,
colMads, colMaxs, colMeans2, colMedians, colMins, colOrderStats,
colProds, colQuantiles, colRanges, colRanks, colSdDiffs, colSds,
colSums2, colTabulates, colVarDiffs, colVars, colWeightedMads,
colWeightedMeans, colWeightedMedians, colWeightedSds,
colWeightedVars, rowAlls, rowAnyNAs, rowAnys, rowAvgsPerColSet,
rowCollapse, rowCounts, rowCummaxs, rowCummins, rowCumprods,
rowCumsums, rowDiffs, rowIQRDiffs, rowIQRs, rowLogSumExps,
rowMadDiffs, rowMads, rowMaxs, rowMeans2, rowMedians, rowMins,
rowOrderStats, rowProds, rowQuantiles, rowRanges, rowRanks,
rowSdDiffs, rowSds, rowSums2, rowTabulates, rowVarDiffs, rowVars,
rowWeightedMads, rowWeightedMeans, rowWeightedMedians,
rowWeightedSds, rowWeightedVars
Loading required package: GenomicRanges
Loading required package: stats4
Loading required package: BiocGenerics
Loading required package: generics
Attaching package: 'generics'
The following objects are masked from 'package:base':
as.difftime, as.factor, as.ordered, intersect, is.element, setdiff,
setequal, union
Attaching package: 'BiocGenerics'
The following objects are masked from 'package:stats':
IQR, mad, sd, var, xtabs
The following objects are masked from 'package:base':
Filter, Find, Map, Position, Reduce, anyDuplicated, aperm, append,
as.data.frame, basename, cbind, colnames, dirname, do.call,
duplicated, eval, evalq, get, grep, grepl, is.unsorted, lapply,
mapply, match, mget, order, paste, pmax, pmax.int, pmin, pmin.int,
rank, rbind, rownames, sapply, saveRDS, table, tapply, unique,
unsplit, which.max, which.min
Loading required package: S4Vectors
Attaching package: 'S4Vectors'
The following object is masked from 'package:utils':
findMatches
The following objects are masked from 'package:base':
I, expand.grid, unname
Loading required package: IRanges
Loading required package: GenomeInfoDb
Loading required package: Biobase
Welcome to Bioconductor
Vignettes contain introductory material; view with
'browseVignettes()'. To cite Bioconductor, see
'citation("Biobase")', and for packages 'citation("pkgname")'.
Attaching package: 'Biobase'
The following object is masked from 'package:MatrixGenerics':
rowMedians
The following objects are masked from 'package:matrixStats':
anyMissing, rowMedians
> test_check("SingleCellExperiment")
class: SingleCellExperiment
dim: 200 100
metadata(0):
assays(2): counts logcounts
rownames: NULL
rowData names(0):
colnames: NULL
colData names(1): sizeFactor
reducedDimNames(2): PCA TSNE
mainExpName: NULL
altExpNames(2): Spike Protein
[ FAIL 0 | WARN 7 | SKIP 0 | PASS 767 ]
[ FAIL 0 | WARN 7 | SKIP 0 | PASS 767 ]
>
> proc.time()
user system elapsed
47.717 1.167 49.408
SingleCellExperiment.Rcheck/SingleCellExperiment-Ex.timings
| name | user | system | elapsed | |
| LEM-combine | 0.076 | 0.013 | 0.091 | |
| LEM-getset | 0.063 | 0.109 | 0.179 | |
| LEM-misc | 0.008 | 0.001 | 0.010 | |
| LEM-subset | 0.025 | 0.002 | 0.027 | |
| LinearEmbeddingMatrix | 0.003 | 0.000 | 0.004 | |
| SingleCellExperiment | 0.376 | 0.014 | 0.393 | |
| altExps | 0.415 | 0.047 | 0.466 | |
| applySCE | 0.611 | 0.043 | 0.657 | |
| assays | 0.293 | 0.015 | 0.313 | |
| colLabels | 0.165 | 0.012 | 0.176 | |
| colPairs | 0.373 | 0.020 | 0.394 | |
| combine | 1.272 | 0.019 | 1.302 | |
| internals | 0.164 | 0.004 | 0.169 | |
| miscellaneous | 0.243 | 0.008 | 0.253 | |
| reduced.dim.matrix | 0.003 | 0.002 | 0.004 | |
| reducedDims | 0.297 | 0.012 | 0.312 | |
| rowPairs | 0.349 | 0.010 | 0.363 | |
| rowSubset | 0.203 | 0.007 | 0.216 | |
| simplifyToSCE | 0.453 | 0.009 | 0.464 | |
| sizeFactors | 0.177 | 0.006 | 0.184 | |
| splitAltExps | 0.309 | 0.007 | 0.317 | |
| swapAltExp | 0.540 | 0.009 | 0.552 | |
| unsplitAltExps | 0.492 | 0.006 | 0.502 | |