| Back to Multiple platform build/check report for BioC 3.22: simplified long |
|
This page was generated on 2025-11-05 12:40 -0500 (Wed, 05 Nov 2025).
| Hostname | OS | Arch (*) | R version | Installed pkgs |
|---|---|---|---|---|
| nebbiolo2 | Linux (Ubuntu 24.04.3 LTS) | x86_64 | 4.5.1 Patched (2025-08-23 r88802) -- "Great Square Root" | 4902 |
| kjohnson3 | macOS 13.7.7 Ventura | arm64 | 4.5.1 Patched (2025-09-10 r88807) -- "Great Square Root" | 4638 |
| Click on any hostname to see more info about the system (e.g. compilers) (*) as reported by 'uname -p', except on Windows and Mac OS X | ||||
| Package 2008/2361 | Hostname | OS / Arch | INSTALL | BUILD | CHECK | BUILD BIN | ||||||||
| SigCheck 2.42.0 (landing page) Rory Stark
| nebbiolo2 | Linux (Ubuntu 24.04.3 LTS) / x86_64 | OK | OK | OK | |||||||||
| kjohnson3 | macOS 13.7.7 Ventura / arm64 | OK | OK | OK | OK | |||||||||
|
To the developers/maintainers of the SigCheck package: - Allow up to 24 hours (and sometimes 48 hours) for your latest push to git@git.bioconductor.org:packages/SigCheck.git to reflect on this report. See Troubleshooting Build Report for more information. - Use the following Renviron settings to reproduce errors and warnings. - If 'R CMD check' started to fail recently on the Linux builder(s) over a missing dependency, add the missing dependency to 'Suggests:' in your DESCRIPTION file. See Renviron.bioc for more information. |
| Package: SigCheck |
| Version: 2.42.0 |
| Command: /home/biocbuild/bbs-3.22-bioc/R/bin/R CMD check --install=check:SigCheck.install-out.txt --library=/home/biocbuild/bbs-3.22-bioc/R/site-library --timings SigCheck_2.42.0.tar.gz |
| StartedAt: 2025-11-05 04:06:44 -0500 (Wed, 05 Nov 2025) |
| EndedAt: 2025-11-05 04:14:41 -0500 (Wed, 05 Nov 2025) |
| EllapsedTime: 477.5 seconds |
| RetCode: 0 |
| Status: OK |
| CheckDir: SigCheck.Rcheck |
| Warnings: 0 |
##############################################################################
##############################################################################
###
### Running command:
###
### /home/biocbuild/bbs-3.22-bioc/R/bin/R CMD check --install=check:SigCheck.install-out.txt --library=/home/biocbuild/bbs-3.22-bioc/R/site-library --timings SigCheck_2.42.0.tar.gz
###
##############################################################################
##############################################################################
* using log directory ‘/home/biocbuild/bbs-3.22-bioc/meat/SigCheck.Rcheck’
* using R version 4.5.1 Patched (2025-08-23 r88802)
* using platform: x86_64-pc-linux-gnu
* R was compiled by
gcc (Ubuntu 13.3.0-6ubuntu2~24.04) 13.3.0
GNU Fortran (Ubuntu 13.3.0-6ubuntu2~24.04) 13.3.0
* running under: Ubuntu 24.04.3 LTS
* using session charset: UTF-8
* checking for file ‘SigCheck/DESCRIPTION’ ... OK
* checking extension type ... Package
* this is package ‘SigCheck’ version ‘2.42.0’
* checking package namespace information ... OK
* checking package dependencies ... OK
* checking if this is a source package ... OK
* checking if there is a namespace ... OK
* checking for hidden files and directories ... OK
* checking for portable file names ... OK
* checking for sufficient/correct file permissions ... OK
* checking whether package ‘SigCheck’ can be installed ... OK
* checking installed package size ... OK
* checking package directory ... OK
* checking ‘build’ directory ... OK
* checking DESCRIPTION meta-information ... OK
* checking top-level files ... OK
* checking for left-over files ... OK
* checking index information ... OK
* checking package subdirectories ... OK
* checking code files for non-ASCII characters ... OK
* checking R files for syntax errors ... OK
* checking whether the package can be loaded ... OK
* checking whether the package can be loaded with stated dependencies ... OK
* checking whether the package can be unloaded cleanly ... OK
* checking whether the namespace can be loaded with stated dependencies ... OK
* checking whether the namespace can be unloaded cleanly ... OK
* checking loading without being on the library search path ... OK
* checking dependencies in R code ... OK
* checking S3 generic/method consistency ... OK
* checking replacement functions ... OK
* checking foreign function calls ... OK
* checking R code for possible problems ... NOTE
sigCheckKnown: no visible binding for global variable ‘knownSignatures’
Undefined global functions or variables:
knownSignatures
* checking Rd files ... OK
* checking Rd metadata ... OK
* checking Rd cross-references ... NOTE
Found the following Rd file(s) with Rd \link{} targets missing package
anchors:
SigCheck-package.Rd: ExpressionSet, MLearn
SigCheckObject-class.Rd: ExpressionSet, ExpressionSet-class,
eSet-class, VersionedBiobase-class, Versioned-class
sigCheck.Rd: ExpressionSet, fvarLabels, svmI, MLearn, survdiff
sigCheckAll.Rd: ExpressionSet
Please provide package anchors for all Rd \link{} targets not in the
package itself and the base packages.
* checking for missing documentation entries ... OK
* checking for code/documentation mismatches ... OK
* checking Rd \usage sections ... OK
* checking Rd contents ... OK
* checking for unstated dependencies in examples ... OK
* checking contents of ‘data’ directory ... OK
* checking data for non-ASCII characters ... OK
* checking data for ASCII and uncompressed saves ... OK
* checking files in ‘vignettes’ ... OK
* checking examples ... OK
Examples with CPU (user + system) or elapsed time > 5s
user system elapsed
sigCheckAll 127.403 8.111 135.531
sigCheckKnown 63.891 2.244 66.138
sigCheckPermuted 15.109 1.200 16.310
sigCheck 13.448 1.078 14.541
sigCheckPlot 11.714 0.917 12.633
sigCheckRandom 9.041 0.668 9.710
* checking for unstated dependencies in vignettes ... OK
* checking package vignettes ... OK
* checking re-building of vignette outputs ... OK
* checking PDF version of manual ... OK
* DONE
Status: 2 NOTEs
See
‘/home/biocbuild/bbs-3.22-bioc/meat/SigCheck.Rcheck/00check.log’
for details.
SigCheck.Rcheck/00install.out
############################################################################## ############################################################################## ### ### Running command: ### ### /home/biocbuild/bbs-3.22-bioc/R/bin/R CMD INSTALL SigCheck ### ############################################################################## ############################################################################## * installing to library ‘/home/biocbuild/bbs-3.22-bioc/R/site-library’ * installing *source* package ‘SigCheck’ ... ** this is package ‘SigCheck’ version ‘2.42.0’ ** using staged installation ** R ** data ** inst ** byte-compile and prepare package for lazy loading Creating a new generic function for ‘signature’ in package ‘SigCheck’ ** help *** installing help indices ** building package indices ** installing vignettes ** testing if installed package can be loaded from temporary location ** testing if installed package can be loaded from final location ** testing if installed package keeps a record of temporary installation path * DONE (SigCheck)
SigCheck.Rcheck/SigCheck-Ex.timings
| name | user | system | elapsed | |
| SigCheckObject-class | 0.002 | 0.000 | 0.002 | |
| classifyResults | 0.029 | 0.004 | 0.033 | |
| knownSignatures | 0.014 | 0.001 | 0.015 | |
| nkiResults | 0.017 | 0.001 | 0.018 | |
| sigCheck | 13.448 | 1.078 | 14.541 | |
| sigCheckAll | 127.403 | 8.111 | 135.531 | |
| sigCheckKnown | 63.891 | 2.244 | 66.138 | |
| sigCheckPermuted | 15.109 | 1.200 | 16.310 | |
| sigCheckPlot | 11.714 | 0.917 | 12.633 | |
| sigCheckRandom | 9.041 | 0.668 | 9.710 | |