Back to Multiple platform build/check report for BioC 3.20:   simplified   long
ABCDEFGHIJKLMNOPQR[S]TUVWXYZ

This page was generated on 2025-02-03 12:07 -0500 (Mon, 03 Feb 2025).

HostnameOSArch (*)R versionInstalled pkgs
nebbiolo2Linux (Ubuntu 24.04.1 LTS)x86_644.4.2 (2024-10-31) -- "Pile of Leaves" 4746
palomino8Windows Server 2022 Datacenterx644.4.2 (2024-10-31 ucrt) -- "Pile of Leaves" 4494
merida1macOS 12.7.5 Montereyx86_644.4.2 (2024-10-31) -- "Pile of Leaves" 4517
kjohnson1macOS 13.6.6 Venturaarm644.4.2 (2024-10-31) -- "Pile of Leaves" 4469
taishanLinux (openEuler 24.03 LTS)aarch644.4.2 (2024-10-31) -- "Pile of Leaves" 4400
Click on any hostname to see more info about the system (e.g. compilers)      (*) as reported by 'uname -p', except on Windows and Mac OS X

Package 1937/2289HostnameOS / ArchINSTALLBUILDCHECKBUILD BIN
SeqVarTools 1.44.0  (landing page)
Stephanie M. Gogarten
Snapshot Date: 2025-01-30 13:00 -0500 (Thu, 30 Jan 2025)
git_url: https://git.bioconductor.org/packages/SeqVarTools
git_branch: RELEASE_3_20
git_last_commit: f9630cc
git_last_commit_date: 2024-10-29 09:47:21 -0500 (Tue, 29 Oct 2024)
nebbiolo2Linux (Ubuntu 24.04.1 LTS) / x86_64  OK    OK    OK  UNNEEDED, same version is already published
palomino8Windows Server 2022 Datacenter / x64  OK    OK    OK    OK  UNNEEDED, same version is already published
merida1macOS 12.7.5 Monterey / x86_64  OK    OK    OK    OK  UNNEEDED, same version is already published
kjohnson1macOS 13.6.6 Ventura / arm64  OK    OK    OK    OK  UNNEEDED, same version is already published
taishanLinux (openEuler 24.03 LTS) / aarch64  OK    OK    OK  


CHECK results for SeqVarTools on palomino8

To the developers/maintainers of the SeqVarTools package:
- Allow up to 24 hours (and sometimes 48 hours) for your latest push to git@git.bioconductor.org:packages/SeqVarTools.git to reflect on this report. See Troubleshooting Build Report for more information.
- Use the following Renviron settings to reproduce errors and warnings.
- If 'R CMD check' started to fail recently on the Linux builder(s) over a missing dependency, add the missing dependency to 'Suggests:' in your DESCRIPTION file. See Renviron.bioc for more information.

raw results


Summary

Package: SeqVarTools
Version: 1.44.0
Command: F:\biocbuild\bbs-3.20-bioc\R\bin\R.exe CMD check --no-multiarch --install=check:SeqVarTools.install-out.txt --library=F:\biocbuild\bbs-3.20-bioc\R\library --no-vignettes --timings SeqVarTools_1.44.0.tar.gz
StartedAt: 2025-01-31 06:25:55 -0500 (Fri, 31 Jan 2025)
EndedAt: 2025-01-31 06:30:39 -0500 (Fri, 31 Jan 2025)
EllapsedTime: 284.2 seconds
RetCode: 0
Status:   OK  
CheckDir: SeqVarTools.Rcheck
Warnings: 0

Command output

##############################################################################
##############################################################################
###
### Running command:
###
###   F:\biocbuild\bbs-3.20-bioc\R\bin\R.exe CMD check --no-multiarch --install=check:SeqVarTools.install-out.txt --library=F:\biocbuild\bbs-3.20-bioc\R\library --no-vignettes --timings SeqVarTools_1.44.0.tar.gz
###
##############################################################################
##############################################################################


* using log directory 'F:/biocbuild/bbs-3.20-bioc/meat/SeqVarTools.Rcheck'
* using R version 4.4.2 (2024-10-31 ucrt)
* using platform: x86_64-w64-mingw32
* R was compiled by
    gcc.exe (GCC) 13.3.0
    GNU Fortran (GCC) 13.3.0
* running under: Windows Server 2022 x64 (build 20348)
* using session charset: UTF-8
* using option '--no-vignettes'
* checking for file 'SeqVarTools/DESCRIPTION' ... OK
* checking extension type ... Package
* this is package 'SeqVarTools' version '1.44.0'
* checking package namespace information ... OK
* checking package dependencies ... OK
* checking if this is a source package ... OK
* checking if there is a namespace ... OK
* checking for hidden files and directories ... OK
* checking for portable file names ... OK
* checking whether package 'SeqVarTools' can be installed ... OK
* checking installed package size ... OK
* checking package directory ... OK
* checking 'build' directory ... OK
* checking DESCRIPTION meta-information ... OK
* checking top-level files ... OK
* checking for left-over files ... OK
* checking index information ... OK
* checking package subdirectories ... OK
* checking code files for non-ASCII characters ... OK
* checking R files for syntax errors ... OK
* checking whether the package can be loaded ... OK
* checking whether the package can be loaded with stated dependencies ... OK
* checking whether the package can be unloaded cleanly ... OK
* checking whether the namespace can be loaded with stated dependencies ... OK
* checking whether the namespace can be unloaded cleanly ... OK
* checking dependencies in R code ... OK
* checking S3 generic/method consistency ... OK
* checking replacement functions ... OK
* checking foreign function calls ... OK
* checking R code for possible problems ... OK
* checking Rd files ... OK
* checking Rd metadata ... OK
* checking Rd cross-references ... OK
* checking for missing documentation entries ... OK
* checking for code/documentation mismatches ... OK
* checking Rd \usage sections ... OK
* checking Rd contents ... OK
* checking for unstated dependencies in examples ... OK
* checking contents of 'data' directory ... OK
* checking data for non-ASCII characters ... OK
* checking LazyData ... OK
* checking data for ASCII and uncompressed saves ... OK
* checking sizes of PDF files under 'inst/doc' ... OK
* checking files in 'vignettes' ... OK
* checking examples ... OK
* checking for unstated dependencies in 'tests' ... OK
* checking tests ...
  Running 'test.R'
 OK
* checking for unstated dependencies in vignettes ... OK
* checking package vignettes ... OK
* checking running R code from vignettes ... SKIPPED
* checking re-building of vignette outputs ... SKIPPED
* checking PDF version of manual ... OK
* DONE

Status: OK


Installation output

SeqVarTools.Rcheck/00install.out

##############################################################################
##############################################################################
###
### Running command:
###
###   F:\biocbuild\bbs-3.20-bioc\R\bin\R.exe CMD INSTALL SeqVarTools
###
##############################################################################
##############################################################################


* installing to library 'F:/biocbuild/bbs-3.20-bioc/R/library'
* installing *source* package 'SeqVarTools' ...
** using staged installation
** R
** data
*** moving datasets to lazyload DB
** inst
** byte-compile and prepare package for lazy loading
** help
*** installing help indices
** building package indices
** installing vignettes
** testing if installed package can be loaded from temporary location
** testing if installed package can be loaded from final location
** testing if installed package keeps a record of temporary installation path
* DONE (SeqVarTools)

Tests output

SeqVarTools.Rcheck/tests/test.Rout


R version 4.4.2 (2024-10-31 ucrt) -- "Pile of Leaves"
Copyright (C) 2024 The R Foundation for Statistical Computing
Platform: x86_64-w64-mingw32/x64

R is free software and comes with ABSOLUTELY NO WARRANTY.
You are welcome to redistribute it under certain conditions.
Type 'license()' or 'licence()' for distribution details.

R is a collaborative project with many contributors.
Type 'contributors()' for more information and
'citation()' on how to cite R or R packages in publications.

Type 'demo()' for some demos, 'help()' for on-line help, or
'help.start()' for an HTML browser interface to help.
Type 'q()' to quit R.

> library(GenomicRanges)
Loading required package: stats4
Loading required package: BiocGenerics

Attaching package: 'BiocGenerics'

The following objects are masked from 'package:stats':

    IQR, mad, sd, var, xtabs

The following objects are masked from 'package:base':

    Filter, Find, Map, Position, Reduce, anyDuplicated, aperm, append,
    as.data.frame, basename, cbind, colnames, dirname, do.call,
    duplicated, eval, evalq, get, grep, grepl, intersect, is.unsorted,
    lapply, mapply, match, mget, order, paste, pmax, pmax.int, pmin,
    pmin.int, rank, rbind, rownames, sapply, saveRDS, setdiff, table,
    tapply, union, unique, unsplit, which.max, which.min

Loading required package: S4Vectors

Attaching package: 'S4Vectors'

The following object is masked from 'package:utils':

    findMatches

The following objects are masked from 'package:base':

    I, expand.grid, unname

Loading required package: IRanges

Attaching package: 'IRanges'

The following object is masked from 'package:grDevices':

    windows

Loading required package: GenomeInfoDb
> BiocGenerics:::testPackage("SeqVarTools")
Loading required package: Biobase
Welcome to Bioconductor

    Vignettes contain introductory material; view with
    'browseVignettes()'. To cite Bioconductor, see
    'citation("Biobase")', and for packages 'citation("pkgname")'.

# of selected samples: 5
# of selected variants: 5
# of selected samples: 5
# of selected variants: 10
# of selected samples: 90
# of selected variants: 1,348
# of selected samples: 90
# of selected variants: 1,348
# of selected samples: 3
# of selected samples: 3
matching samples... 2 pairs identified!
matching variants... 1346 non-overlapping variant matches identified!
# of selected samples: 2
# of selected variants: 1,346
# of selected samples: 90
# of selected variants: 1,348
# of selected samples: 90
# of selected variants: 1,348
# of selected samples: 2
# of selected variants: 50
# of selected samples: 2
# of selected variants: 51
matching samples... 2 pairs identified!
matching variants... 26 non-overlapping variant matches identified!
# of selected variants: 26
# of selected samples: 90
# of selected variants: 1,348
# of selected samples: 5
# of selected variants: 10
# of selected samples: 5
# of selected variants: 10
File: F:\biocbuild\bbs-3.20-bioc\R\library\SeqArray\extdata\CEU_Exon.gds (287.6K)
+    [  ] *
|--+ description   [  ] *
|--+ sample.id   { Str8 90 LZMA_ra(34.7%), 257B } *
|--+ variant.id   { Int32 1348 LZMA_ra(16.7%), 905B } *
|--+ position   { Int32 1348 LZMA_ra(64.4%), 3.4K } *
|--+ chromosome   { Str8 1348 LZMA_ra(4.39%), 157B } *
|--+ allele   { Str8 1348 LZMA_ra(16.6%), 901B } *
|--+ genotype   [  ] *
|  |--+ data   { Bit2 2x90x1348 LZMA_ra(26.3%), 15.6K } *
|  |--+ ~data   { Bit2 2x1348x90 LZMA_ra(29.2%), 17.3K } *
|  |--+ extra.index   { Int32 3x0 LZMA_ra, 18B } *
|  \--+ extra   { Int16 0 LZMA_ra, 18B }
|--+ phase   [  ]
|  |--+ data   { Bit1 90x1348 LZMA_ra(0.86%), 137B } *
|  |--+ ~data   { Bit1 1348x90 LZMA_ra(0.86%), 137B } *
|  |--+ extra.index   { Int32 3x0 LZMA_ra, 18B } *
|  \--+ extra   { Bit1 0 LZMA_ra, 18B }
|--+ annotation   [  ]
|  |--+ id   { Str8 1348 LZMA_ra(38.3%), 5.5K } *
|  |--+ qual   { Float32 1348 LZMA_ra(2.11%), 121B } *
|  |--+ filter   { Int32,factor 1348 LZMA_ra(2.11%), 121B } *
|  |--+ info   [  ]
|  |  |--+ AA   { Str8 1328 LZMA_ra(22.1%), 593B } *
|  |  |--+ AC   { Int32 1348 LZMA_ra(24.1%), 1.3K } *
|  |  |--+ AN   { Int32 1348 LZMA_ra(19.6%), 1.0K } *
|  |  |--+ DP   { Int32 1348 LZMA_ra(47.7%), 2.5K } *
|  |  |--+ HM2   { Bit1 1348 LZMA_ra(145.6%), 253B } *
|  |  |--+ HM3   { Bit1 1348 LZMA_ra(145.6%), 253B } *
|  |  |--+ OR   { Str8 1348 LZMA_ra(19.6%), 341B } *
|  |  |--+ GP   { Str8 1348 LZMA_ra(24.3%), 3.8K } *
|  |  \--+ BN   { Int32 1348 LZMA_ra(20.7%), 1.1K } *
|  \--+ format   [  ]
|     \--+ DP   [  ] *
|        |--+ data   { VL_Int 90x1348 LZMA_ra(70.8%), 115.2K } *
|        \--+ ~data   { VL_Int 1348x90 LZMA_ra(65.1%), 105.9K } *
\--+ sample.annotation   [  ]
   \--+ family   { Str8 90 LZMA_ra(55.0%), 221B } *
# of selected variants: 142
# of selected samples: 90
# of selected variants: 1,348
# of selected variants: 5
# of selected samples: 90
# of selected variants: 1,348
# of selected samples: 5
# of selected variants: 5
# of selected samples: 90
# of selected variants: 1,348
# of selected samples: 90
# of selected variants: 1,348
# of selected samples: 3
# of selected samples: 3
matching samples... 2 pairs identified!
matching variants... 1346 variant matches identified!
matching samples... 2 pairs identified!
matching variants... 1346 variant matches identified!
# of selected samples: 90
# of selected variants: 1,348
# of selected samples: 90
# of selected variants: 1,348
# of selected samples: 2
# of selected variants: 50
# of selected samples: 2
# of selected variants: 51
matching samples... 2 pairs identified!
matching variants... 26 variant matches identified!
matching samples... 2 pairs identified!
matching variants... 26 variant matches identified!
# of selected variants: 26
# of selected samples: 90
# of selected variants: 1,348
# of selected samples: 90
# of selected variants: 1,348
# of selected samples: 3
# of selected samples: 3
matching samples... 2 pairs identified!
matching variants... 1346 variant matches identified!
matching samples... 2 pairs identified!
matching variants... 1346 variant matches identified!
matching samples... 2 pairs identified!
matching variants... 1346 variant matches identified!
matching samples... 2 pairs identified!
matching variants... 1346 variant matches identified!
# of selected samples: 90
# of selected variants: 1,348
# of selected samples: 90
# of selected variants: 1,348
# of selected samples: 2
# of selected variants: 50
# of selected samples: 2
# of selected variants: 51
matching samples... 2 pairs identified!
matching variants... 26 variant matches identified!
matching samples... 2 pairs identified!
matching variants... 26 variant matches identified!
# of selected variants: 26
Warning in SeqVarTools:::.samplePairs1(samples) :
  More than two samples for subject 4
Selecting first two samples: samp7, samp8
# of selected samples: 5
# of selected variants: 10
# of selected samples: 5
# of selected variants: 10
# of selected samples: 5
# of selected variants: 10
# of selected samples: 5
# of selected variants: 10
# of selected samples: 5
# of selected variants: 10
# of selected samples: 90
# of selected variants: 1,348
# of selected samples: 5
# of selected variants: 10
# of selected samples: 5
# of selected variants: 10
# of selected samples: 5
# of selected variants: 10
# of selected samples: 90
# of selected variants: 1,348
# of selected samples: 5
# of selected variants: 10
# of selected samples: 5
# of selected variants: 10
# of selected variants: 1,346
# of selected variants: 1,330
# of selected samples: 5
# of selected variants: 10
# of selected samples: 90
# of selected variants: 1,348
# of selected samples: 5
# of selected variants: 10
# of selected samples: 5
# of selected variants: 10
# of selected samples: 5
# of selected variants: 10
# of selected samples: 90
# of selected variants: 1,348
# of selected samples: 5
# of selected variants: 10
# of selected samples: 3
# of selected variants: 10
# of selected samples: 3
# of selected samples: 90
# of selected variants: 1,348
# of selected variants: 10
# of selected samples: 3
# of selected samples: 5
# of selected variants: 10
# of selected samples: 90
# of selected variants: 1,348
# of selected samples: 5
# of selected variants: 10
# of selected samples: 5
# of selected variants: 10
starting worker pid=5040 on localhost:11106 at 06:28:52.253
starting worker pid=128032 on localhost:11106 at 06:28:52.260
starting worker pid=93112 on localhost:11106 at 06:28:52.280
starting worker pid=63632 on localhost:11106 at 06:28:52.293
starting worker pid=87916 on localhost:11106 at 06:28:52.308
starting worker pid=10400 on localhost:11106 at 06:28:52.364
starting worker pid=110392 on localhost:11106 at 06:28:52.387
starting worker pid=115044 on localhost:11106 at 06:28:52.478
starting worker pid=63332 on localhost:11106 at 06:28:52.481
starting worker pid=22540 on localhost:11106 at 06:28:52.504
starting worker pid=20292 on localhost:11106 at 06:28:52.522
starting worker pid=29800 on localhost:11106 at 06:28:52.526
starting worker pid=60280 on localhost:11106 at 06:28:52.545
starting worker pid=78800 on localhost:11106 at 06:28:52.560
starting worker pid=73500 on localhost:11106 at 06:28:52.562
starting worker pid=97664 on localhost:11106 at 06:28:52.573
starting worker pid=58200 on localhost:11106 at 06:28:52.609
starting worker pid=32040 on localhost:11106 at 06:28:52.640
starting worker pid=81868 on localhost:11106 at 06:28:52.673
starting worker pid=132180 on localhost:11106 at 06:28:52.680
starting worker pid=138124 on localhost:11106 at 06:28:52.745
starting worker pid=18664 on localhost:11106 at 06:28:52.750
starting worker pid=14836 on localhost:11106 at 06:28:52.758
starting worker pid=87868 on localhost:11106 at 06:28:52.768
starting worker pid=39464 on localhost:11106 at 06:28:52.771
starting worker pid=101816 on localhost:11106 at 06:28:52.775
starting worker pid=31428 on localhost:11106 at 06:28:52.779
starting worker pid=81636 on localhost:11106 at 06:28:52.783
starting worker pid=142368 on localhost:11106 at 06:28:52.790
starting worker pid=68776 on localhost:11106 at 06:28:52.791
starting worker pid=36608 on localhost:11106 at 06:28:52.852
starting worker pid=136544 on localhost:11106 at 06:29:05.235
starting worker pid=98656 on localhost:11106 at 06:29:05.236
starting worker pid=113452 on localhost:11106 at 06:29:05.236
starting worker pid=97576 on localhost:11106 at 06:29:05.235
starting worker pid=31228 on localhost:11106 at 06:29:05.235
starting worker pid=132564 on localhost:11106 at 06:29:05.240
starting worker pid=78444 on localhost:11106 at 06:29:05.238
starting worker pid=83960 on localhost:11106 at 06:29:05.237
starting worker pid=6748 on localhost:11106 at 06:29:05.238
starting worker pid=35324 on localhost:11106 at 06:29:05.237
starting worker pid=112848 on localhost:11106 at 06:29:05.238
starting worker pid=81456 on localhost:11106 at 06:29:05.240
starting worker pid=120632 on localhost:11106 at 06:29:05.237
starting worker pid=135700 on localhost:11106 at 06:29:05.237
starting worker pid=10360 on localhost:11106 at 06:29:05.240
starting worker pid=78020 on localhost:11106 at 06:29:05.241
starting worker pid=41540 on localhost:11106 at 06:29:05.237
starting worker pid=112752 on localhost:11106 at 06:29:05.242
starting worker pid=32660 on localhost:11106 at 06:29:05.241
starting worker pid=56400 on localhost:11106 at 06:29:05.241
starting worker pid=46308 on localhost:11106 at 06:29:05.242
starting worker pid=129924 on localhost:11106 at 06:29:05.242
starting worker pid=99876 on localhost:11106 at 06:29:05.242
starting worker pid=51396 on localhost:11106 at 06:29:05.243
starting worker pid=35900 on localhost:11106 at 06:29:05.243
starting worker pid=106992 on localhost:11106 at 06:29:05.243
starting worker pid=54212 on localhost:11106 at 06:29:05.244
starting worker pid=98164 on localhost:11106 at 06:29:05.244
starting worker pid=9864 on localhost:11106 at 06:29:05.243
starting worker pid=74684 on localhost:11106 at 06:29:05.242
starting worker pid=109172 on localhost:11106 at 06:29:05.245
starting worker pid=47072 on localhost:11106 at 06:29:30.151
starting worker pid=33048 on localhost:11106 at 06:29:30.169
starting worker pid=62804 on localhost:11106 at 06:29:30.194
starting worker pid=142676 on localhost:11106 at 06:29:30.198
starting worker pid=117916 on localhost:11106 at 06:29:30.202
starting worker pid=115872 on localhost:11106 at 06:29:30.277
starting worker pid=49484 on localhost:11106 at 06:29:30.295
starting worker pid=92084 on localhost:11106 at 06:29:30.358
starting worker pid=23220 on localhost:11106 at 06:29:30.373
starting worker pid=133108 on localhost:11106 at 06:29:30.387
starting worker pid=57200 on localhost:11106 at 06:29:30.389
starting worker pid=5344 on localhost:11106 at 06:29:30.423
starting worker pid=131576 on localhost:11106 at 06:29:30.447
starting worker pid=17472 on localhost:11106 at 06:29:30.475
starting worker pid=84044 on localhost:11106 at 06:29:30.477
starting worker pid=126288 on localhost:11106 at 06:29:30.477
starting worker pid=13156 on localhost:11106 at 06:29:30.499
starting worker pid=94260 on localhost:11106 at 06:29:30.501
starting worker pid=63236 on localhost:11106 at 06:29:30.502
starting worker pid=90240 on localhost:11106 at 06:29:30.546
starting worker pid=43796 on localhost:11106 at 06:29:30.630
starting worker pid=47124 on localhost:11106 at 06:29:30.686
starting worker pid=57148 on localhost:11106 at 06:29:30.690
starting worker pid=100232 on localhost:11106 at 06:29:30.737
starting worker pid=15384 on localhost:11106 at 06:29:30.758
starting worker pid=33116 on localhost:11106 at 06:29:30.781
starting worker pid=43004 on localhost:11106 at 06:29:30.784
starting worker pid=62652 on localhost:11106 at 06:29:30.804
starting worker pid=66496 on localhost:11106 at 06:29:30.818
starting worker pid=10800 on localhost:11106 at 06:29:30.830
starting worker pid=33060 on localhost:11106 at 06:29:30.858
starting worker pid=58936 on localhost:11106 at 06:29:40.618
starting worker pid=87124 on localhost:11106 at 06:29:40.657
starting worker pid=75756 on localhost:11106 at 06:29:40.768
starting worker pid=9908 on localhost:11106 at 06:29:40.839
starting worker pid=103616 on localhost:11106 at 06:29:40.934
starting worker pid=52536 on localhost:11106 at 06:29:40.934
starting worker pid=96984 on localhost:11106 at 06:29:40.934
starting worker pid=67664 on localhost:11106 at 06:29:40.960
starting worker pid=33236 on localhost:11106 at 06:29:40.965
starting worker pid=134720 on localhost:11106 at 06:29:40.988
starting worker pid=30948 on localhost:11106 at 06:29:40.993
starting worker pid=138836 on localhost:11106 at 06:29:41.021
starting worker pid=16584 on localhost:11106 at 06:29:41.058
starting worker pid=106092 on localhost:11106 at 06:29:41.068
starting worker pid=101008 on localhost:11106 at 06:29:41.075
starting worker pid=43568 on localhost:11106 at 06:29:41.105
starting worker pid=18516 on localhost:11106 at 06:29:41.106
starting worker pid=13804 on localhost:11106 at 06:29:41.116
starting worker pid=17880 on localhost:11106 at 06:29:41.155
starting worker pid=86004 on localhost:11106 at 06:29:41.164
starting worker pid=117136 on localhost:11106 at 06:29:41.191
starting worker pid=88616 on localhost:11106 at 06:29:41.194
starting worker pid=45880 on localhost:11106 at 06:29:41.224
starting worker pid=115784 on localhost:11106 at 06:29:41.224
starting worker pid=63300 on localhost:11106 at 06:29:41.233
starting worker pid=131052 on localhost:11106 at 06:29:41.246
starting worker pid=91868 on localhost:11106 at 06:29:41.267
starting worker pid=59972 on localhost:11106 at 06:29:41.301
starting worker pid=57476 on localhost:11106 at 06:29:41.310
starting worker pid=124908 on localhost:11106 at 06:29:41.374
starting worker pid=116656 on localhost:11106 at 06:29:41.470
starting worker pid=91060 on localhost:11106 at 06:30:01.040
starting worker pid=31512 on localhost:11106 at 06:30:01.071
starting worker pid=9072 on localhost:11106 at 06:30:01.104
starting worker pid=97448 on localhost:11106 at 06:30:01.109
starting worker pid=14724 on localhost:11106 at 06:30:01.111
starting worker pid=130472 on localhost:11106 at 06:30:01.115
starting worker pid=18912 on localhost:11106 at 06:30:01.140
starting worker pid=110552 on localhost:11106 at 06:30:01.148
starting worker pid=109368 on localhost:11106 at 06:30:01.218
starting worker pid=140044 on localhost:11106 at 06:30:01.233
starting worker pid=120412 on localhost:11106 at 06:30:01.342
starting worker pid=86180 on localhost:11106 at 06:30:01.364
starting worker pid=93848 on localhost:11106 at 06:30:01.391
starting worker pid=119840 on localhost:11106 at 06:30:01.411
starting worker pid=48328 on localhost:11106 at 06:30:01.442
starting worker pid=22716 on localhost:11106 at 06:30:01.461
starting worker pid=90880 on localhost:11106 at 06:30:01.464
starting worker pid=140040 on localhost:11106 at 06:30:01.468
starting worker pid=19868 on localhost:11106 at 06:30:01.468
starting worker pid=8284 on localhost:11106 at 06:30:01.469
starting worker pid=144044 on localhost:11106 at 06:30:01.473
starting worker pid=81756 on localhost:11106 at 06:30:01.483
starting worker pid=21452 on localhost:11106 at 06:30:01.484
starting worker pid=103716 on localhost:11106 at 06:30:01.503
starting worker pid=14860 on localhost:11106 at 06:30:01.505
starting worker pid=47668 on localhost:11106 at 06:30:01.508
starting worker pid=105056 on localhost:11106 at 06:30:01.543
starting worker pid=47852 on localhost:11106 at 06:30:01.545
starting worker pid=32812 on localhost:11106 at 06:30:01.547
starting worker pid=21492 on localhost:11106 at 06:30:01.560
starting worker pid=10612 on localhost:11106 at 06:30:01.564
# of selected samples: 5
# of selected variants: 10
# of selected samples: 90
# of selected variants: 1,348
# of selected samples: 5
# of selected variants: 10
# of selected variants: 903
# of selected samples: 59
# of selected samples: 58
# of selected samples: 32
# of selected samples: 5
# of selected variants: 10
# of selected samples: 90
# of selected variants: 1,348
# of selected samples: 5
# of selected variants: 10
# of selected samples: 5
# of selected variants: 10
# of selected samples: 90
# of selected variants: 1,348
# of selected samples: 5
# of selected variants: 10
# of selected samples: 10
# of selected samples: 10
# of selected variants: 10
# of selected samples: 10


RUNIT TEST PROTOCOL -- Fri Jan 31 06:30:24 2025 
*********************************************** 
Number of test functions: 152 
Number of errors: 0 
Number of failures: 0 

 
1 Test Suite : 
SeqVarTools RUnit Tests - 152 test functions, 0 errors, 0 failures
Number of test functions: 152 
Number of errors: 0 
Number of failures: 0 
> 
> proc.time()
   user  system elapsed 
  27.23    2.46  116.29 

Example timings

SeqVarTools.Rcheck/SeqVarTools-Ex.timings

nameusersystemelapsed
Iterator-class0.600.050.64
SeqVarData-class0.070.000.07
allele-methods0.020.000.02
alleleFrequency0.030.000.03
alternateAlleleDetection000
applyMethod0.270.020.28
countSingletons0.020.000.01
duplicateDiscordance0.200.000.21
getGenotype0.030.000.03
getVariableLengthData0.020.000.01
heterozygosity0.190.010.21
hwe0.040.000.05
imputedDosage0.240.030.31
inbreedCoeff0.150.010.17
isSNV000
isVariant0.000.020.02
meanBySample0.050.000.05
mendelErr0.020.000.01
missingGenotypeRate0.010.000.02
pca0.910.060.97
pedigree0.010.000.01
refFrac0.070.000.06
regression0.090.000.10
setVariantID0.010.000.14
titv0.200.060.29
variantInfo0.050.000.04