Back to Multiple platform build/check report for BioC 3.22:   simplified   long
ABCDEFGHIJKLMNOPQR[S]TUVWXYZ

This page was generated on 2025-11-20 12:07 -0500 (Thu, 20 Nov 2025).

HostnameOSArch (*)R versionInstalled pkgs
nebbiolo2Linux (Ubuntu 24.04.3 LTS)x86_644.5.2 (2025-10-31) -- "[Not] Part in a Rumble" 4615
merida1macOS 12.7.6 Montereyx86_644.5.2 Patched (2025-11-05 r88990) -- "[Not] Part in a Rumble" 4610
kjohnson1macOS 13.7.5 Venturaarm644.5.2 Patched (2025-11-04 r88984) -- "[Not] Part in a Rumble" 4598
taishanLinux (openEuler 24.03 LTS)aarch644.5.0 (2025-04-11) -- "How About a Twenty-Six" 4668
Click on any hostname to see more info about the system (e.g. compilers)      (*) as reported by 'uname -p', except on Windows and Mac OS X

Package 1983/2361HostnameOS / ArchINSTALLBUILDCHECKBUILD BIN
SeqGSEA 1.50.0  (landing page)
Xi Wang
Snapshot Date: 2025-11-17 13:45 -0500 (Mon, 17 Nov 2025)
git_url: https://git.bioconductor.org/packages/SeqGSEA
git_branch: RELEASE_3_22
git_last_commit: 03ba6a6
git_last_commit_date: 2025-10-29 10:14:28 -0500 (Wed, 29 Oct 2025)
nebbiolo2Linux (Ubuntu 24.04.3 LTS) / x86_64  OK    OK    OK  UNNEEDED, same version is already published
merida1macOS 12.7.6 Monterey / x86_64  OK    OK    OK    OK  UNNEEDED, same version is already published
kjohnson1macOS 13.7.5 Ventura / arm64  OK    OK    OK    OK  UNNEEDED, same version is already published
taishanLinux (openEuler 24.03 LTS) / aarch64  OK    OK    OK  


CHECK results for SeqGSEA on taishan

To the developers/maintainers of the SeqGSEA package:
- Allow up to 24 hours (and sometimes 48 hours) for your latest push to git@git.bioconductor.org:packages/SeqGSEA.git to reflect on this report. See Troubleshooting Build Report for more information.
- Use the following Renviron settings to reproduce errors and warnings.
- If 'R CMD check' started to fail recently on the Linux builder(s) over a missing dependency, add the missing dependency to 'Suggests:' in your DESCRIPTION file. See Renviron.bioc for more information.
- See Martin Grigorov's blog post for how to debug Linux ARM64 related issues on a x86_64 host.

raw results


Summary

Package: SeqGSEA
Version: 1.50.0
Command: /home/biocbuild/R/R/bin/R CMD check --install=check:SeqGSEA.install-out.txt --library=/home/biocbuild/R/R/site-library --no-vignettes --timings SeqGSEA_1.50.0.tar.gz
StartedAt: 2025-11-18 15:06:05 -0000 (Tue, 18 Nov 2025)
EndedAt: 2025-11-18 15:13:21 -0000 (Tue, 18 Nov 2025)
EllapsedTime: 435.7 seconds
RetCode: 0
Status:   OK  
CheckDir: SeqGSEA.Rcheck
Warnings: 0

Command output

##############################################################################
##############################################################################
###
### Running command:
###
###   /home/biocbuild/R/R/bin/R CMD check --install=check:SeqGSEA.install-out.txt --library=/home/biocbuild/R/R/site-library --no-vignettes --timings SeqGSEA_1.50.0.tar.gz
###
##############################################################################
##############################################################################


* using log directory ‘/home/biocbuild/bbs-3.22-bioc/meat/SeqGSEA.Rcheck’
* using R version 4.5.0 (2025-04-11)
* using platform: aarch64-unknown-linux-gnu
* R was compiled by
    aarch64-unknown-linux-gnu-gcc (GCC) 14.2.0
    GNU Fortran (GCC) 14.2.0
* running under: openEuler 24.03 (LTS)
* using session charset: UTF-8
* using option ‘--no-vignettes’
* checking for file ‘SeqGSEA/DESCRIPTION’ ... OK
* checking extension type ... Package
* this is package ‘SeqGSEA’ version ‘1.50.0’
* checking package namespace information ... OK
* checking package dependencies ... OK
* checking if this is a source package ... OK
* checking if there is a namespace ... OK
* checking for hidden files and directories ... OK
* checking for portable file names ... OK
* checking for sufficient/correct file permissions ... OK
* checking whether package ‘SeqGSEA’ can be installed ... OK
* checking installed package size ... OK
* checking package directory ... OK
* checking ‘build’ directory ... OK
* checking DESCRIPTION meta-information ... OK
* checking top-level files ... OK
* checking for left-over files ... OK
* checking index information ... OK
* checking package subdirectories ... OK
* checking code files for non-ASCII characters ... OK
* checking R files for syntax errors ... OK
* checking whether the package can be loaded ... OK
* checking whether the package can be loaded with stated dependencies ... OK
* checking whether the package can be unloaded cleanly ... OK
* checking whether the namespace can be loaded with stated dependencies ... OK
* checking whether the namespace can be unloaded cleanly ... OK
* checking loading without being on the library search path ... OK
* checking dependencies in R code ... NOTE
There are ::: calls to the package's namespace in its code. A package
  almost never needs to use ::: for its own objects:
  ‘estiExonProbVar’
* checking S3 generic/method consistency ... OK
* checking replacement functions ... OK
* checking foreign function calls ... OK
* checking R code for possible problems ... NOTE
DENBStat4GSEA: no visible global function definition for ‘colData’
DENBStatPermut4GSEA: no visible global function definition for
  ‘%dopar%’
DENBStatPermut4GSEA: no visible global function definition for
  ‘foreach’
DENBStatPermut4GSEA: no visible binding for global variable ‘i’
DENBTest: no visible global function definition for ‘colData’
DENBTest: no visible global function definition for ‘p.adjust’
DEpermutePval: no visible global function definition for ‘p.adjust’
DSpermute4GSEA: no visible global function definition for ‘%dopar%’
DSpermute4GSEA: no visible global function definition for ‘foreach’
DSpermute4GSEA : <anonymous>: no visible binding for global variable
  ‘i’
DSpermutePval: no visible global function definition for ‘p.adjust’
calES.perm: no visible global function definition for ‘%dopar%’
calES.perm: no visible global function definition for ‘foreach’
calES.perm: no visible binding for global variable ‘i’
calES.perm: no visible global function definition for ‘%do%’
calES.perm: no visible binding for global variable ‘j’
loadExonCountData : <anonymous>: no visible global function definition
  for ‘read.table’
nbinomTestForMatrices : <anonymous>: no visible global function
  definition for ‘dnbinom’
plotES : <anonymous>: no visible global function definition for
  ‘density’
plotES: no visible global function definition for ‘density’
plotES : <anonymous>: no visible global function definition for
  ‘points’
plotES: no visible global function definition for ‘points’
plotES: no visible global function definition for ‘colors’
plotES: no visible global function definition for ‘lines’
plotES: no visible global function definition for ‘legend’
plotES: no visible global function definition for ‘dev.off’
plotGeneScore: no visible global function definition for ‘lines’
plotGeneScore: no visible global function definition for ‘colors’
plotGeneScore: no visible global function definition for ‘points’
plotGeneScore: no visible global function definition for ‘matlines’
plotGeneScore: no visible global function definition for ‘legend’
plotGeneScore: no visible global function definition for ‘dev.off’
plotSig: no visible global function definition for ‘points’
plotSig: no visible global function definition for ‘colors’
plotSig: no visible global function definition for ‘legend’
plotSig: no visible global function definition for ‘dev.off’
plotSigGeneSet: no visible global function definition for ‘par’
plotSigGeneSet: no visible global function definition for ‘layout’
plotSigGeneSet: no visible global function definition for ‘lines’
plotSigGeneSet : <anonymous>: no visible global function definition for
  ‘lines’
plotSigGeneSet: no visible global function definition for ‘colors’
plotSigGeneSet: no visible global function definition for ‘text’
plotSigGeneSet: no visible global function definition for ‘density’
plotSigGeneSet: no visible global function definition for ‘legend’
plotSigGeneSet: no visible global function definition for ‘dev.off’
runDESeq: no visible global function definition for ‘DataFrame’
runSeqGSEA: no visible global function definition for ‘makeCluster’
runSeqGSEA: no visible global function definition for ‘write.table’
signifES : <anonymous>: no visible global function definition for
  ‘median’
writeScores: no visible global function definition for ‘write.table’
writeSigGeneSet: no visible global function definition for
  ‘write.table’
Undefined global functions or variables:
  %do% %dopar% DataFrame colData colors density dev.off dnbinom foreach
  i j layout legend lines makeCluster matlines median p.adjust par
  points read.table text write.table
Consider adding
  importFrom("grDevices", "colors", "dev.off")
  importFrom("graphics", "layout", "legend", "lines", "matlines", "par",
             "points", "text")
  importFrom("stats", "density", "dnbinom", "median", "p.adjust")
  importFrom("utils", "read.table", "write.table")
to your NAMESPACE file.
* checking Rd files ... OK
* checking Rd metadata ... OK
* checking Rd cross-references ... NOTE
Found the following Rd file(s) with Rd \link{} targets missing package
anchors:
  ReadCountSet-class.Rd: eSet-class
Please provide package anchors for all Rd \link{} targets not in the
package itself and the base packages.
* checking for missing documentation entries ... OK
* checking for code/documentation mismatches ... OK
* checking Rd \usage sections ... OK
* checking Rd contents ... OK
* checking for unstated dependencies in examples ... OK
* checking contents of ‘data’ directory ... OK
* checking data for non-ASCII characters ... OK
* checking data for ASCII and uncompressed saves ... OK
* checking files in ‘vignettes’ ... OK
* checking examples ... OK
Examples with CPU (user + system) or elapsed time > 5s
                      user system elapsed
topDEGenes          14.182  0.059  14.278
DENBStatPermut4GSEA 13.696  0.111  13.852
DEpermutePval       13.550  0.044  13.635
topDSGenes           9.041  0.096   9.165
DSresultGeneTable    8.767  0.020   8.812
genpermuteMat        8.653  0.094   8.775
DSpermutePval        8.721  0.016   8.764
normFactor           8.679  0.032   8.739
DSresultExonTable    8.660  0.040   8.725
topDSExons           8.573  0.035   8.636
scoreNormalization   8.541  0.040   8.606
DSpermute4GSEA       8.369  0.108   8.500
* checking for unstated dependencies in vignettes ... OK
* checking package vignettes ... OK
* checking running R code from vignettes ... SKIPPED
* checking re-building of vignette outputs ... SKIPPED
* checking PDF version of manual ... OK
* DONE

Status: 3 NOTEs
See
  ‘/home/biocbuild/bbs-3.22-bioc/meat/SeqGSEA.Rcheck/00check.log’
for details.


Installation output

SeqGSEA.Rcheck/00install.out

##############################################################################
##############################################################################
###
### Running command:
###
###   /home/biocbuild/R/R/bin/R CMD INSTALL SeqGSEA
###
##############################################################################
##############################################################################


* installing to library ‘/home/biocbuild/R/R-4.5.0/site-library’
* installing *source* package ‘SeqGSEA’ ...
** this is package ‘SeqGSEA’ version ‘1.50.0’
** using staged installation
** R
** data
** inst
** byte-compile and prepare package for lazy loading
** help
*** installing help indices
** building package indices
** installing vignettes
** testing if installed package can be loaded from temporary location
** testing if installed package can be loaded from final location
** testing if installed package keeps a record of temporary installation path
* DONE (SeqGSEA)

Tests output


Example timings

SeqGSEA.Rcheck/SeqGSEA-Ex.timings

nameusersystemelapsed
DENBStat4GSEA2.8910.1043.005
DENBStatPermut4GSEA13.696 0.11113.852
DENBTest2.5560.0512.615
DEpermutePval13.550 0.04413.635
DSpermute4GSEA8.3690.1088.500
DSpermutePval8.7210.0168.764
DSresultExonTable8.6600.0408.725
DSresultGeneTable8.7670.0208.812
GSEAresultTable2.3190.0442.370
GSEnrichAnalyze2.3150.0002.323
ReadCountSet-class0.0010.0000.001
SeqGeneSet-class000
calES0.0020.0040.007
calES.perm2.3320.0192.358
convertEnsembl2Symbol000
convertSymbol2Ensembl000
counts-methods0.0120.0000.013
estiExonNBstat0.8170.0120.831
estiGeneNBstat0.8220.0000.825
exonID0.0250.0150.041
exonTestability0.020.000.02
geneID0.0400.0080.047
geneList0.0050.0000.005
genePermuteScore0.0030.0040.006
geneScore0.0000.0040.004
geneSetDescs0.0030.0000.002
geneSetNames0.0020.0000.002
geneSetSize0.0020.0000.002
geneTestability0.0220.0010.023
genpermuteMat8.6530.0948.775
getGeneCount0.0190.0000.019
label0.0120.0000.012
loadExonCountData0.0010.0000.002
loadGenesets000
newGeneSets0.0030.0000.002
newReadCountSet0.1370.0000.138
normFactor8.6790.0328.739
plotES2.3810.0442.432
plotGeneScore0.1350.0000.136
plotSig2.3050.0202.332
plotSigGeneSet2.3060.0042.317
rankCombine0.0110.0000.011
runDESeq1.6590.0041.669
runSeqGSEA0.0020.0000.002
scoreNormalization8.5410.0408.606
size0.0020.0000.002
subsetByGenes0.0380.0000.039
topDEGenes14.182 0.05914.278
topDSExons8.5730.0358.636
topDSGenes9.0410.0969.165
topGeneSets2.2220.0202.250
writeScores0.0060.0000.006
writeSigGeneSet2.2100.0042.221