Back to Multiple platform build/check report for BioC 3.22:   simplified   long
ABCDEFGHIJKLMNOPQR[S]TUVWXYZ

This page was generated on 2025-11-27 12:05 -0500 (Thu, 27 Nov 2025).

HostnameOSArch (*)R versionInstalled pkgs
nebbiolo2Linux (Ubuntu 24.04.3 LTS)x86_644.5.2 (2025-10-31) -- "[Not] Part in a Rumble" 4876
merida1macOS 12.7.6 Montereyx86_644.5.2 Patched (2025-11-05 r88990) -- "[Not] Part in a Rumble" 4656
kjohnson1macOS 13.7.5 Venturaarm644.5.2 Patched (2025-11-04 r88984) -- "[Not] Part in a Rumble" 4602
taishanLinux (openEuler 24.03 LTS)aarch644.5.0 (2025-04-11) -- "How About a Twenty-Six" 4668
Click on any hostname to see more info about the system (e.g. compilers)      (*) as reported by 'uname -p', except on Windows and Mac OS X

Package 1941/2361HostnameOS / ArchINSTALLBUILDCHECKBUILD BIN
Sconify 1.30.0  (landing page)
Tyler J Burns
Snapshot Date: 2025-11-24 13:45 -0500 (Mon, 24 Nov 2025)
git_url: https://git.bioconductor.org/packages/Sconify
git_branch: RELEASE_3_22
git_last_commit: 615688e
git_last_commit_date: 2025-10-29 10:44:03 -0500 (Wed, 29 Oct 2025)
nebbiolo2Linux (Ubuntu 24.04.3 LTS) / x86_64  OK    OK    OK  UNNEEDED, same version is already published
merida1macOS 12.7.6 Monterey / x86_64  OK    OK    OK    OK  UNNEEDED, same version is already published
kjohnson1macOS 13.7.5 Ventura / arm64  OK    OK    OK    NA  
taishanLinux (openEuler 24.03 LTS) / aarch64  OK    OK    OK  


CHECK results for Sconify on taishan

To the developers/maintainers of the Sconify package:
- Allow up to 24 hours (and sometimes 48 hours) for your latest push to git@git.bioconductor.org:packages/Sconify.git to reflect on this report. See Troubleshooting Build Report for more information.
- Use the following Renviron settings to reproduce errors and warnings.
- If 'R CMD check' started to fail recently on the Linux builder(s) over a missing dependency, add the missing dependency to 'Suggests:' in your DESCRIPTION file. See Renviron.bioc for more information.
- See Martin Grigorov's blog post for how to debug Linux ARM64 related issues on a x86_64 host.

raw results


Summary

Package: Sconify
Version: 1.30.0
Command: /home/biocbuild/R/R/bin/R CMD check --install=check:Sconify.install-out.txt --library=/home/biocbuild/R/R/site-library --no-vignettes --timings Sconify_1.30.0.tar.gz
StartedAt: 2025-11-25 14:30:00 -0000 (Tue, 25 Nov 2025)
EndedAt: 2025-11-25 14:32:26 -0000 (Tue, 25 Nov 2025)
EllapsedTime: 146.1 seconds
RetCode: 0
Status:   OK  
CheckDir: Sconify.Rcheck
Warnings: 0

Command output

##############################################################################
##############################################################################
###
### Running command:
###
###   /home/biocbuild/R/R/bin/R CMD check --install=check:Sconify.install-out.txt --library=/home/biocbuild/R/R/site-library --no-vignettes --timings Sconify_1.30.0.tar.gz
###
##############################################################################
##############################################################################


* using log directory ‘/home/biocbuild/bbs-3.22-bioc/meat/Sconify.Rcheck’
* using R version 4.5.0 (2025-04-11)
* using platform: aarch64-unknown-linux-gnu
* R was compiled by
    aarch64-unknown-linux-gnu-gcc (GCC) 14.2.0
    GNU Fortran (GCC) 14.2.0
* running under: openEuler 24.03 (LTS)
* using session charset: UTF-8
* using option ‘--no-vignettes’
* checking for file ‘Sconify/DESCRIPTION’ ... OK
* checking extension type ... Package
* this is package ‘Sconify’ version ‘1.30.0’
* package encoding: UTF-8
* checking package namespace information ... OK
* checking package dependencies ... OK
* checking if this is a source package ... OK
* checking if there is a namespace ... OK
* checking for hidden files and directories ... OK
* checking for portable file names ... OK
* checking for sufficient/correct file permissions ... OK
* checking whether package ‘Sconify’ can be installed ... OK
* checking installed package size ... OK
* checking package directory ... OK
* checking ‘build’ directory ... OK
* checking DESCRIPTION meta-information ... OK
* checking top-level files ... OK
* checking for left-over files ... OK
* checking index information ... OK
* checking package subdirectories ... OK
* checking code files for non-ASCII characters ... OK
* checking R files for syntax errors ... OK
* checking whether the package can be loaded ... OK
* checking whether the package can be loaded with stated dependencies ... OK
* checking whether the package can be unloaded cleanly ... OK
* checking whether the namespace can be loaded with stated dependencies ... OK
* checking whether the namespace can be unloaded cleanly ... OK
* checking loading without being on the library search path ... OK
* checking dependencies in R code ... OK
* checking S3 generic/method consistency ... OK
* checking replacement functions ... OK
* checking foreign function calls ... OK
* checking R code for possible problems ... OK
* checking Rd files ... OK
* checking Rd metadata ... OK
* checking Rd cross-references ... OK
* checking for missing documentation entries ... OK
* checking for code/documentation mismatches ... OK
* checking Rd \usage sections ... OK
* checking Rd contents ... OK
* checking for unstated dependencies in examples ... OK
* checking contents of ‘data’ directory ... OK
* checking data for non-ASCII characters ... OK
* checking LazyData ... OK
* checking data for ASCII and uncompressed saves ... OK
* checking files in ‘vignettes’ ... OK
* checking examples ... OK
Examples with CPU (user + system) or elapsed time > 5s
                user system elapsed
SconeValues   17.125  0.143  17.304
ImputeTesting  5.049  0.036   5.094
* checking for unstated dependencies in ‘tests’ ... OK
* checking tests ...
  Running ‘testthat.R’
 OK
* checking for unstated dependencies in vignettes ... OK
* checking package vignettes ... OK
* checking running R code from vignettes ... SKIPPED
* checking re-building of vignette outputs ... SKIPPED
* checking PDF version of manual ... OK
* DONE

Status: OK


Installation output

Sconify.Rcheck/00install.out

##############################################################################
##############################################################################
###
### Running command:
###
###   /home/biocbuild/R/R/bin/R CMD INSTALL Sconify
###
##############################################################################
##############################################################################


* installing to library ‘/home/biocbuild/R/R-4.5.0/site-library’
* installing *source* package ‘Sconify’ ...
** this is package ‘Sconify’ version ‘1.30.0’
** using staged installation
** R
** data
*** moving datasets to lazyload DB
** inst
** byte-compile and prepare package for lazy loading
Note: wrong number of arguments to '/' 
Note: wrong number of arguments to 'asinh' 
** help
*** installing help indices
** building package indices
** installing vignettes
** testing if installed package can be loaded from temporary location
** testing if installed package can be loaded from final location
** testing if installed package keeps a record of temporary installation path
* DONE (Sconify)

Tests output

Sconify.Rcheck/tests/testthat.Rout


R version 4.5.0 (2025-04-11) -- "How About a Twenty-Six"
Copyright (C) 2025 The R Foundation for Statistical Computing
Platform: aarch64-unknown-linux-gnu

R is free software and comes with ABSOLUTELY NO WARRANTY.
You are welcome to redistribute it under certain conditions.
Type 'license()' or 'licence()' for distribution details.

R is a collaborative project with many contributors.
Type 'contributors()' for more information and
'citation()' on how to cite R or R packages in publications.

Type 'demo()' for some demos, 'help()' for on-line help, or
'help.start()' for an HTML browser interface to help.
Type 'q()' to quit R.

> library(testthat)
> library(Sconify)
> 
> test_check("Sconify")
Read the 100 x 27 data matrix successfully!
OpenMP is working. 1 threads.
Using no_dims = 2, perplexity = 30.000000, and theta = 0.500000
Computing input similarities...
Building tree...
Done in 0.01 seconds (sparsity = 0.964200)!
Learning embedding...
Iteration 50: error is 50.522365 (50 iterations in 0.01 seconds)
Iteration 100: error is 53.331864 (50 iterations in 0.02 seconds)
Iteration 150: error is 50.160632 (50 iterations in 0.01 seconds)
Iteration 200: error is 51.421744 (50 iterations in 0.01 seconds)
Iteration 250: error is 49.559794 (50 iterations in 0.01 seconds)
Iteration 300: error is 1.334710 (50 iterations in 0.01 seconds)
Iteration 350: error is 0.724633 (50 iterations in 0.01 seconds)
Iteration 400: error is 0.203472 (50 iterations in 0.01 seconds)
Iteration 450: error is 0.170494 (50 iterations in 0.01 seconds)
Iteration 500: error is 0.159582 (50 iterations in 0.01 seconds)
Iteration 550: error is 0.147905 (50 iterations in 0.01 seconds)
Iteration 600: error is 0.146637 (50 iterations in 0.01 seconds)
Iteration 650: error is 0.145676 (50 iterations in 0.01 seconds)
Iteration 700: error is 0.144715 (50 iterations in 0.01 seconds)
Iteration 750: error is 0.144759 (50 iterations in 0.01 seconds)
Iteration 800: error is 0.145056 (50 iterations in 0.01 seconds)
Iteration 850: error is 0.145179 (50 iterations in 0.01 seconds)
Iteration 900: error is 0.145462 (50 iterations in 0.01 seconds)
Iteration 950: error is 0.145276 (50 iterations in 0.01 seconds)
Iteration 1000: error is 0.146480 (50 iterations in 0.01 seconds)
Fitting performed in 0.25 seconds.
Read the 1000 x 27 data matrix successfully!
OpenMP is working. 1 threads.
Using no_dims = 2, perplexity = 30.000000, and theta = 0.500000
Computing input similarities...
Building tree...
Done in 0.16 seconds (sparsity = 0.129120)!
Learning embedding...
Iteration 50: error is 64.577724 (50 iterations in 0.39 seconds)
Iteration 100: error is 60.646693 (50 iterations in 0.27 seconds)
Iteration 150: error is 60.320583 (50 iterations in 0.28 seconds)
Iteration 200: error is 60.206942 (50 iterations in 0.30 seconds)
Iteration 250: error is 60.154750 (50 iterations in 0.30 seconds)
Iteration 300: error is 1.341046 (50 iterations in 0.27 seconds)
Iteration 350: error is 1.230979 (50 iterations in 0.26 seconds)
Iteration 400: error is 1.195293 (50 iterations in 0.24 seconds)
Iteration 450: error is 1.182309 (50 iterations in 0.24 seconds)
Iteration 500: error is 1.174934 (50 iterations in 0.25 seconds)
Iteration 550: error is 1.170091 (50 iterations in 0.24 seconds)
Iteration 600: error is 1.165645 (50 iterations in 0.25 seconds)
Iteration 650: error is 1.161582 (50 iterations in 0.25 seconds)
Iteration 700: error is 1.157718 (50 iterations in 0.23 seconds)
Iteration 750: error is 1.155004 (50 iterations in 0.23 seconds)
Iteration 800: error is 1.152668 (50 iterations in 0.23 seconds)
Iteration 850: error is 1.151133 (50 iterations in 0.23 seconds)
Iteration 900: error is 1.149617 (50 iterations in 0.24 seconds)
Iteration 950: error is 1.149380 (50 iterations in 0.25 seconds)
Iteration 1000: error is 1.148382 (50 iterations in 0.24 seconds)
Fitting performed in 5.22 seconds.
[ FAIL 0 | WARN 2 | SKIP 0 | PASS 72 ]

[ FAIL 0 | WARN 2 | SKIP 0 | PASS 72 ]
> 
> proc.time()
   user  system elapsed 
 30.657   0.918  31.646 

Example timings

Sconify.Rcheck/Sconify-Ex.timings

nameusersystemelapsed
FcsToTibble0.1720.0000.174
Fnn0.2550.1920.447
GetKnnDe0.0940.0080.102
GetMarkerNames0.0320.0040.037
ImputeTesting5.0490.0365.094
MakeHist0.6830.0160.700
MakeKnnList0.4430.0520.496
MeaningOfLife000
ParseMarkers0.2700.0190.289
PostProcessing0.0960.0160.111
ProcessMultipleFiles0.1210.0240.147
QuantNormalizeElements0.2460.0200.266
SconeValues17.125 0.14317.304
SplitFile0.1050.0040.108
StringToNumbers000
SubsampleAndTsne2.7810.0242.811
TsneVis0.2540.0040.259