| Back to Multiple platform build/check report for BioC 3.21: simplified long |
|
This page was generated on 2025-10-16 11:40 -0400 (Thu, 16 Oct 2025).
| Hostname | OS | Arch (*) | R version | Installed pkgs |
|---|---|---|---|---|
| nebbiolo1 | Linux (Ubuntu 24.04.3 LTS) | x86_64 | 4.5.1 (2025-06-13) -- "Great Square Root" | 4833 |
| merida1 | macOS 12.7.6 Monterey | x86_64 | 4.5.1 RC (2025-06-05 r88288) -- "Great Square Root" | 4614 |
| kjohnson1 | macOS 13.7.5 Ventura | arm64 | 4.5.1 Patched (2025-06-14 r88325) -- "Great Square Root" | 4555 |
| kunpeng2 | Linux (openEuler 24.03 LTS) | aarch64 | R Under development (unstable) (2025-02-19 r87757) -- "Unsuffered Consequences" | 4586 |
| Click on any hostname to see more info about the system (e.g. compilers) (*) as reported by 'uname -p', except on Windows and Mac OS X | ||||
| Package 2126/2341 | Hostname | OS / Arch | INSTALL | BUILD | CHECK | BUILD BIN | ||||||||
| SUITOR 1.10.0 (landing page) Bill Wheeler
| nebbiolo1 | Linux (Ubuntu 24.04.3 LTS) / x86_64 | OK | OK | OK | |||||||||
| merida1 | macOS 12.7.6 Monterey / x86_64 | OK | OK | OK | OK | |||||||||
| kjohnson1 | macOS 13.7.5 Ventura / arm64 | ERROR | ERROR | skipped | skipped | |||||||||
| kunpeng2 | Linux (openEuler 24.03 LTS) / aarch64 | OK | OK | OK | ||||||||||
|
To the developers/maintainers of the SUITOR package: - Allow up to 24 hours (and sometimes 48 hours) for your latest push to git@git.bioconductor.org:packages/SUITOR.git to reflect on this report. See Troubleshooting Build Report for more information. - Use the following Renviron settings to reproduce errors and warnings. - If 'R CMD check' started to fail recently on the Linux builder(s) over a missing dependency, add the missing dependency to 'Suggests:' in your DESCRIPTION file. See Renviron.bioc for more information. |
| Package: SUITOR |
| Version: 1.10.0 |
| Command: /Library/Frameworks/R.framework/Resources/bin/R CMD INSTALL SUITOR |
| StartedAt: 2025-10-13 15:21:11 -0400 (Mon, 13 Oct 2025) |
| EndedAt: 2025-10-13 15:21:13 -0400 (Mon, 13 Oct 2025) |
| EllapsedTime: 1.8 seconds |
| RetCode: 1 |
| Status: ERROR |
##############################################################################
##############################################################################
###
### Running command:
###
### /Library/Frameworks/R.framework/Resources/bin/R CMD INSTALL SUITOR
###
##############################################################################
##############################################################################
* installing to library ‘/Library/Frameworks/R.framework/Versions/4.5-arm64/Resources/library’
* installing *source* package ‘SUITOR’ ...
** this is package ‘SUITOR’ version ‘1.10.0’
** using staged installation
** libs
using C compiler: ‘Apple clang version 15.0.0 (clang-1500.0.40.1)’
using SDK: ‘MacOSX11.3.sdk’
clang -arch arm64 -std=gnu2x -I"/Library/Frameworks/R.framework/Resources/include" -DNDEBUG -I/opt/R/arm64/include -fPIC -falign-functions=64 -Wall -g -O2 -c SUITOR_init.c -o SUITOR_init.o
clang -arch arm64 -std=gnu2x -I"/Library/Frameworks/R.framework/Resources/include" -DNDEBUG -I/opt/R/arm64/include -fPIC -falign-functions=64 -Wall -g -O2 -c source.c -o source.o
source.c:166:28: error: unknown type name 'n'
static double * dVec_alloc(n, initFlag, initVal)
^
source.c:166:31: error: unknown type name 'initFlag'
static double * dVec_alloc(n, initFlag, initVal)
^
source.c:166:41: error: unknown type name 'initVal'
static double * dVec_alloc(n, initFlag, initVal)
^
source.c:166:49: error: expected ';' after top level declarator
static double * dVec_alloc(n, initFlag, initVal)
^
;
source.c:169:1: error: expected identifier or '('
{
^
source.c:185:25: error: unknown type name 'n'
static int * iVec_alloc(n, initFlag, initVal)
^
source.c:185:28: error: unknown type name 'initFlag'
static int * iVec_alloc(n, initFlag, initVal)
^
source.c:185:38: error: unknown type name 'initVal'
static int * iVec_alloc(n, initFlag, initVal)
^
source.c:185:46: error: expected ';' after top level declarator
static int * iVec_alloc(n, initFlag, initVal)
^
;
source.c:186:18: error: redefinition of 'initVal' with a different type: 'int' vs 'double'
int n, initFlag, initVal;
^
source.c:168:8: note: previous definition is here
double initVal;
^
source.c:187:1: error: expected identifier or '('
{
^
source.c:203:26: error: unknown type name 'n'
static char * cVec_alloc(n, initFlag, initVal)
^
source.c:203:29: error: unknown type name 'initFlag'
static char * cVec_alloc(n, initFlag, initVal)
^
source.c:203:39: error: unknown type name 'initVal'
static char * cVec_alloc(n, initFlag, initVal)
^
source.c:203:47: error: expected ';' after top level declarator
static char * cVec_alloc(n, initFlag, initVal)
^
;
source.c:205:6: error: redefinition of 'initVal' with a different type: 'char' vs 'double'
char initVal;
^
source.c:168:8: note: previous definition is here
double initVal;
^
source.c:206:1: error: expected identifier or '('
{
^
source.c:222:23: error: unknown type name 'v'
static void copy_dVec(v, n, ret)
^
source.c:222:26: error: unknown type name 'n'
static void copy_dVec(v, n, ret)
^
fatal error: too many errors emitted, stopping now [-ferror-limit=]
20 errors generated.
make: *** [source.o] Error 1
ERROR: compilation failed for package ‘SUITOR’
* removing ‘/Library/Frameworks/R.framework/Versions/4.5-arm64/Resources/library/SUITOR’