| Back to Multiple platform build/check report for BioC 3.22: simplified long |
|
This page was generated on 2025-11-20 12:05 -0500 (Thu, 20 Nov 2025).
| Hostname | OS | Arch (*) | R version | Installed pkgs |
|---|---|---|---|---|
| nebbiolo2 | Linux (Ubuntu 24.04.3 LTS) | x86_64 | 4.5.2 (2025-10-31) -- "[Not] Part in a Rumble" | 4615 |
| merida1 | macOS 12.7.6 Monterey | x86_64 | 4.5.2 Patched (2025-11-05 r88990) -- "[Not] Part in a Rumble" | 4610 |
| kjohnson1 | macOS 13.7.5 Ventura | arm64 | 4.5.2 Patched (2025-11-04 r88984) -- "[Not] Part in a Rumble" | 4598 |
| taishan | Linux (openEuler 24.03 LTS) | aarch64 | 4.5.0 (2025-04-11) -- "How About a Twenty-Six" | 4668 |
| Click on any hostname to see more info about the system (e.g. compilers) (*) as reported by 'uname -p', except on Windows and Mac OS X | ||||
| Package 2097/2361 | Hostname | OS / Arch | INSTALL | BUILD | CHECK | BUILD BIN | ||||||||
| SPIAT 1.12.0 (landing page) Yuzhou Feng
| nebbiolo2 | Linux (Ubuntu 24.04.3 LTS) / x86_64 | OK | OK | OK | |||||||||
| merida1 | macOS 12.7.6 Monterey / x86_64 | OK | OK | OK | OK | |||||||||
| kjohnson1 | macOS 13.7.5 Ventura / arm64 | OK | OK | OK | OK | |||||||||
| taishan | Linux (openEuler 24.03 LTS) / aarch64 | OK | OK | OK | ||||||||||
|
To the developers/maintainers of the SPIAT package: - Allow up to 24 hours (and sometimes 48 hours) for your latest push to git@git.bioconductor.org:packages/SPIAT.git to reflect on this report. See Troubleshooting Build Report for more information. - Use the following Renviron settings to reproduce errors and warnings. - If 'R CMD check' started to fail recently on the Linux builder(s) over a missing dependency, add the missing dependency to 'Suggests:' in your DESCRIPTION file. See Renviron.bioc for more information. |
| Package: SPIAT |
| Version: 1.12.0 |
| Command: /Library/Frameworks/R.framework/Resources/bin/R CMD check --install=check:SPIAT.install-out.txt --library=/Library/Frameworks/R.framework/Resources/library --no-vignettes --timings SPIAT_1.12.0.tar.gz |
| StartedAt: 2025-11-18 15:13:30 -0500 (Tue, 18 Nov 2025) |
| EndedAt: 2025-11-18 15:25:19 -0500 (Tue, 18 Nov 2025) |
| EllapsedTime: 708.8 seconds |
| RetCode: 0 |
| Status: OK |
| CheckDir: SPIAT.Rcheck |
| Warnings: 0 |
##############################################################################
##############################################################################
###
### Running command:
###
### /Library/Frameworks/R.framework/Resources/bin/R CMD check --install=check:SPIAT.install-out.txt --library=/Library/Frameworks/R.framework/Resources/library --no-vignettes --timings SPIAT_1.12.0.tar.gz
###
##############################################################################
##############################################################################
* using log directory ‘/Users/biocbuild/bbs-3.22-bioc/meat/SPIAT.Rcheck’
* using R version 4.5.2 Patched (2025-11-05 r88990)
* using platform: x86_64-apple-darwin20
* R was compiled by
Apple clang version 14.0.0 (clang-1400.0.29.202)
GNU Fortran (GCC) 14.2.0
* running under: macOS Monterey 12.7.6
* using session charset: UTF-8
* using option ‘--no-vignettes’
* checking for file ‘SPIAT/DESCRIPTION’ ... OK
* checking extension type ... Package
* this is package ‘SPIAT’ version ‘1.12.0’
* package encoding: UTF-8
* checking package namespace information ... OK
* checking package dependencies ... OK
* checking if this is a source package ... OK
* checking if there is a namespace ... OK
* checking for hidden files and directories ... OK
* checking for portable file names ... OK
* checking for sufficient/correct file permissions ... OK
* checking whether package ‘SPIAT’ can be installed ... OK
* checking installed package size ... OK
* checking package directory ... OK
* checking ‘build’ directory ... OK
* checking DESCRIPTION meta-information ... NOTE
License components with restrictions not permitted:
Artistic-2.0 + file LICENSE
* checking top-level files ... OK
* checking for left-over files ... OK
* checking index information ... OK
* checking package subdirectories ... OK
* checking code files for non-ASCII characters ... OK
* checking R files for syntax errors ... OK
* checking whether the package can be loaded ... OK
* checking whether the package can be loaded with stated dependencies ... OK
* checking whether the package can be unloaded cleanly ... OK
* checking whether the namespace can be loaded with stated dependencies ... OK
* checking whether the namespace can be unloaded cleanly ... OK
* checking dependencies in R code ... OK
* checking S3 generic/method consistency ... OK
* checking replacement functions ... OK
* checking foreign function calls ... OK
* checking R code for possible problems ... OK
* checking Rd files ... OK
* checking Rd metadata ... OK
* checking Rd cross-references ... OK
* checking for missing documentation entries ... OK
* checking for code/documentation mismatches ... OK
* checking Rd \usage sections ... OK
* checking Rd contents ... OK
* checking for unstated dependencies in examples ... OK
* checking contents of ‘data’ directory ... OK
* checking data for non-ASCII characters ... OK
* checking LazyData ... OK
* checking data for ASCII and uncompressed saves ... OK
* checking files in ‘vignettes’ ... OK
* checking examples ... OK
Examples with CPU (user + system) or elapsed time > 5s
user system elapsed
dimensionality_reduction_plot 35.033 0.924 36.643
calculate_percentage_of_grids 19.204 0.184 19.496
plot_composition_heatmap 9.026 0.369 9.623
calculate_pairwise_distances_between_celltypes 6.647 1.995 8.703
calculate_spatial_autocorrelation 7.507 0.054 7.680
grid_metrics 6.464 0.074 6.778
predict_phenotypes 5.992 0.132 6.284
calculate_summary_distances_between_celltypes 4.725 0.339 5.113
* checking for unstated dependencies in ‘tests’ ... OK
* checking tests ...
Running ‘testthat.R’
OK
* checking for unstated dependencies in vignettes ... OK
* checking package vignettes ... OK
* checking running R code from vignettes ... SKIPPED
* checking re-building of vignette outputs ... SKIPPED
* checking PDF version of manual ... OK
* DONE
Status: 1 NOTE
See
‘/Users/biocbuild/bbs-3.22-bioc/meat/SPIAT.Rcheck/00check.log’
for details.
SPIAT.Rcheck/00install.out
############################################################################## ############################################################################## ### ### Running command: ### ### /Library/Frameworks/R.framework/Resources/bin/R CMD INSTALL SPIAT ### ############################################################################## ############################################################################## * installing to library ‘/Library/Frameworks/R.framework/Versions/4.5-x86_64/Resources/library’ * installing *source* package ‘SPIAT’ ... ** this is package ‘SPIAT’ version ‘1.12.0’ ** using staged installation ** R ** data *** moving datasets to lazyload DB ** inst ** byte-compile and prepare package for lazy loading ** help *** installing help indices ** building package indices ** installing vignettes ** testing if installed package can be loaded from temporary location ** testing if installed package can be loaded from final location ** testing if installed package keeps a record of temporary installation path * DONE (SPIAT)
SPIAT.Rcheck/tests/testthat.Rout
R version 4.5.2 Patched (2025-11-05 r88990) -- "[Not] Part in a Rumble"
Copyright (C) 2025 The R Foundation for Statistical Computing
Platform: x86_64-apple-darwin20
R is free software and comes with ABSOLUTELY NO WARRANTY.
You are welcome to redistribute it under certain conditions.
Type 'license()' or 'licence()' for distribution details.
R is a collaborative project with many contributors.
Type 'contributors()' for more information and
'citation()' on how to cite R or R packages in publications.
Type 'demo()' for some demos, 'help()' for on-line help, or
'help.start()' for an HTML browser interface to help.
Type 'q()' to quit R.
> library(testthat)
> library(SPIAT)
Loading required package: SpatialExperiment
Loading required package: SingleCellExperiment
Loading required package: SummarizedExperiment
Loading required package: MatrixGenerics
Loading required package: matrixStats
Attaching package: 'MatrixGenerics'
The following objects are masked from 'package:matrixStats':
colAlls, colAnyNAs, colAnys, colAvgsPerRowSet, colCollapse,
colCounts, colCummaxs, colCummins, colCumprods, colCumsums,
colDiffs, colIQRDiffs, colIQRs, colLogSumExps, colMadDiffs,
colMads, colMaxs, colMeans2, colMedians, colMins, colOrderStats,
colProds, colQuantiles, colRanges, colRanks, colSdDiffs, colSds,
colSums2, colTabulates, colVarDiffs, colVars, colWeightedMads,
colWeightedMeans, colWeightedMedians, colWeightedSds,
colWeightedVars, rowAlls, rowAnyNAs, rowAnys, rowAvgsPerColSet,
rowCollapse, rowCounts, rowCummaxs, rowCummins, rowCumprods,
rowCumsums, rowDiffs, rowIQRDiffs, rowIQRs, rowLogSumExps,
rowMadDiffs, rowMads, rowMaxs, rowMeans2, rowMedians, rowMins,
rowOrderStats, rowProds, rowQuantiles, rowRanges, rowRanks,
rowSdDiffs, rowSds, rowSums2, rowTabulates, rowVarDiffs, rowVars,
rowWeightedMads, rowWeightedMeans, rowWeightedMedians,
rowWeightedSds, rowWeightedVars
Loading required package: GenomicRanges
Loading required package: stats4
Loading required package: BiocGenerics
Loading required package: generics
Attaching package: 'generics'
The following objects are masked from 'package:base':
as.difftime, as.factor, as.ordered, intersect, is.element, setdiff,
setequal, union
Attaching package: 'BiocGenerics'
The following objects are masked from 'package:stats':
IQR, mad, sd, var, xtabs
The following objects are masked from 'package:base':
Filter, Find, Map, Position, Reduce, anyDuplicated, aperm, append,
as.data.frame, basename, cbind, colnames, dirname, do.call,
duplicated, eval, evalq, get, grep, grepl, is.unsorted, lapply,
mapply, match, mget, order, paste, pmax, pmax.int, pmin, pmin.int,
rank, rbind, rownames, sapply, saveRDS, table, tapply, unique,
unsplit, which.max, which.min
Loading required package: S4Vectors
Attaching package: 'S4Vectors'
The following object is masked from 'package:utils':
findMatches
The following objects are masked from 'package:base':
I, expand.grid, unname
Loading required package: IRanges
Loading required package: Seqinfo
Loading required package: Biobase
Welcome to Bioconductor
Vignettes contain introductory material; view with
'browseVignettes()'. To cite Bioconductor, see
'citation("Biobase")', and for packages 'citation("pkgname")'.
Attaching package: 'Biobase'
The following object is masked from 'package:MatrixGenerics':
rowMedians
The following objects are masked from 'package:matrixStats':
anyMissing, rowMedians
>
> test_check("SPIAT")
[1] "Markers had been selected in minimum distance calculation: "
[1] "Immune1" "Tumour"
[1] "Crossing of cross K function is detected for this image, indicating a potential immune ring."
[1] "The crossing happens at the 50% of the specified distance."
[1] "The alpha of Polygon is: 63.24375"
[1] "Markers had been selected in minimum distance calculation: "
[1] "Non-border" "Border"
[1] "Tumour_marker"
[1] "Immune_marker1"
[1] "Immune_marker2"
[1] "Immune_marker3"
[1] "Immune_marker4"
[1] "Tumour_marker"
[1] "Immune_marker1"
[1] "Immune_marker2"
[1] "Immune_marker3"
[1] "Immune_marker4"
[1] "Tumour_marker threshold intensity: 0.445450443784465"
[1] "Immune_marker1 threshold intensity: 0.116980867970434"
[1] "Immune_marker2 threshold intensity: 0.124283809517202"
[1] "Immune_marker3 threshold intensity: 0.0166413130263845"
[1] "Immune_marker4 threshold intensity: 0.00989731350898589"
[ FAIL 0 | WARN 0 | SKIP 0 | PASS 80 ]
>
> proc.time()
user system elapsed
123.752 5.237 130.795
SPIAT.Rcheck/SPIAT-Ex.timings
| name | user | system | elapsed | |
| AUC_of_cross_function | 0.352 | 0.016 | 0.370 | |
| R_BC | 3.743 | 0.155 | 3.973 | |
| average_marker_intensity_within_radius | 0.103 | 0.004 | 0.108 | |
| average_minimum_distance | 0.029 | 0.003 | 0.033 | |
| average_nearest_neighbor_index | 0.506 | 0.007 | 0.516 | |
| average_percentage_of_cells_within_radius | 2.784 | 0.033 | 2.890 | |
| calculate_cell_proportions | 0.024 | 0.001 | 0.025 | |
| calculate_cross_functions | 0.384 | 0.007 | 0.393 | |
| calculate_distance_to_margin | 2.772 | 0.044 | 2.825 | |
| calculate_entropy | 0.021 | 0.000 | 0.022 | |
| calculate_minimum_distances_between_celltypes | 0.034 | 0.002 | 0.036 | |
| calculate_pairwise_distances_between_celltypes | 6.647 | 1.995 | 8.703 | |
| calculate_percentage_of_grids | 19.204 | 0.184 | 19.496 | |
| calculate_proportions_of_cells_in_structure | 3.065 | 0.041 | 3.115 | |
| calculate_spatial_autocorrelation | 7.507 | 0.054 | 7.680 | |
| calculate_summary_distances_between_celltypes | 4.725 | 0.339 | 5.113 | |
| calculate_summary_distances_of_cells_to_borders | 2.970 | 0.231 | 3.216 | |
| composition_of_neighborhoods | 2.752 | 0.453 | 3.240 | |
| compute_gradient | 0.129 | 0.001 | 0.131 | |
| crossing_of_crossK | 0.244 | 0.004 | 0.251 | |
| define_celltypes | 1.492 | 0.008 | 1.509 | |
| define_structure | 3.706 | 0.065 | 3.803 | |
| dimensionality_reduction_plot | 35.033 | 0.924 | 36.643 | |
| entropy_gradient_aggregated | 0.967 | 0.050 | 1.059 | |
| format_cellprofiler_to_spe | 0.248 | 0.003 | 0.253 | |
| format_codex_to_spe | 0.217 | 0.004 | 0.221 | |
| format_colData_to_spe | 0.236 | 0.003 | 0.244 | |
| format_halo_to_spe | 1.049 | 0.155 | 1.188 | |
| format_image_to_spe | 0.227 | 0.002 | 0.231 | |
| format_inform_to_spe | 0.436 | 0.035 | 0.458 | |
| format_spe_to_ppp | 0.034 | 0.001 | 0.035 | |
| grid_metrics | 6.464 | 0.074 | 6.778 | |
| identify_bordering_cells | 1.672 | 0.025 | 1.729 | |
| identify_neighborhoods | 3.423 | 0.323 | 3.772 | |
| image_splitter | 2.052 | 0.010 | 2.069 | |
| marker_intensity_boxplot | 0.883 | 0.008 | 0.895 | |
| marker_prediction_plot | 4.311 | 0.102 | 4.476 | |
| marker_surface_plot | 0.420 | 0.072 | 0.495 | |
| marker_surface_plot_stack | 0.500 | 0.064 | 0.568 | |
| measure_association_to_cell_properties | 1.079 | 0.011 | 1.097 | |
| mixing_score_summary | 0.035 | 0.001 | 0.036 | |
| number_of_cells_within_radius | 0.022 | 0.001 | 0.023 | |
| plot_average_intensity | 0.879 | 0.004 | 0.888 | |
| plot_cell_categories | 0.661 | 0.060 | 0.722 | |
| plot_cell_distances_violin | 3.427 | 0.142 | 3.584 | |
| plot_cell_marker_levels | 0.511 | 0.007 | 0.520 | |
| plot_cell_percentages | 1.427 | 0.011 | 1.459 | |
| plot_composition_heatmap | 9.026 | 0.369 | 9.623 | |
| plot_distance_heatmap | 3.341 | 0.225 | 3.585 | |
| plot_marker_level_heatmap | 2.004 | 0.104 | 2.135 | |
| predict_phenotypes | 5.992 | 0.132 | 6.284 | |
| select_celltypes | 0.106 | 0.002 | 0.108 | |