| Back to Multiple platform build/check report for BioC 3.22: simplified long |
|
This page was generated on 2025-11-01 12:03 -0400 (Sat, 01 Nov 2025).
| Hostname | OS | Arch (*) | R version | Installed pkgs |
|---|---|---|---|---|
| nebbiolo2 | Linux (Ubuntu 24.04.3 LTS) | x86_64 | 4.5.1 Patched (2025-08-23 r88802) -- "Great Square Root" | 4901 |
| lconway | macOS 12.7.6 Monterey | x86_64 | 4.5.1 Patched (2025-09-10 r88807) -- "Great Square Root" | 4691 |
| kjohnson3 | macOS 13.7.7 Ventura | arm64 | 4.5.1 Patched (2025-09-10 r88807) -- "Great Square Root" | 4637 |
| Click on any hostname to see more info about the system (e.g. compilers) (*) as reported by 'uname -p', except on Windows and Mac OS X | ||||
| Package 2050/2361 | Hostname | OS / Arch | INSTALL | BUILD | CHECK | BUILD BIN | ||||||||
| SMITE 1.38.0 (landing page) Neil Ari Wijetunga
| nebbiolo2 | Linux (Ubuntu 24.04.3 LTS) / x86_64 | OK | OK | OK | |||||||||
| lconway | macOS 12.7.6 Monterey / x86_64 | OK | OK | OK | OK | |||||||||
| kjohnson3 | macOS 13.7.7 Ventura / arm64 | OK | OK | OK | OK | |||||||||
|
To the developers/maintainers of the SMITE package: - Allow up to 24 hours (and sometimes 48 hours) for your latest push to git@git.bioconductor.org:packages/SMITE.git to reflect on this report. See Troubleshooting Build Report for more information. - Use the following Renviron settings to reproduce errors and warnings. - If 'R CMD check' started to fail recently on the Linux builder(s) over a missing dependency, add the missing dependency to 'Suggests:' in your DESCRIPTION file. See Renviron.bioc for more information. |
| Package: SMITE |
| Version: 1.38.0 |
| Command: /home/biocbuild/bbs-3.22-bioc/R/bin/R CMD check --install=check:SMITE.install-out.txt --library=/home/biocbuild/bbs-3.22-bioc/R/site-library --timings SMITE_1.38.0.tar.gz |
| StartedAt: 2025-11-01 04:22:43 -0400 (Sat, 01 Nov 2025) |
| EndedAt: 2025-11-01 04:28:16 -0400 (Sat, 01 Nov 2025) |
| EllapsedTime: 333.4 seconds |
| RetCode: 0 |
| Status: OK |
| CheckDir: SMITE.Rcheck |
| Warnings: 0 |
##############################################################################
##############################################################################
###
### Running command:
###
### /home/biocbuild/bbs-3.22-bioc/R/bin/R CMD check --install=check:SMITE.install-out.txt --library=/home/biocbuild/bbs-3.22-bioc/R/site-library --timings SMITE_1.38.0.tar.gz
###
##############################################################################
##############################################################################
* using log directory ‘/home/biocbuild/bbs-3.22-bioc/meat/SMITE.Rcheck’
* using R version 4.5.1 Patched (2025-08-23 r88802)
* using platform: x86_64-pc-linux-gnu
* R was compiled by
gcc (Ubuntu 13.3.0-6ubuntu2~24.04) 13.3.0
GNU Fortran (Ubuntu 13.3.0-6ubuntu2~24.04) 13.3.0
* running under: Ubuntu 24.04.3 LTS
* using session charset: UTF-8
* checking for file ‘SMITE/DESCRIPTION’ ... OK
* checking extension type ... Package
* this is package ‘SMITE’ version ‘1.38.0’
* checking package namespace information ... OK
* checking package dependencies ... OK
* checking if this is a source package ... OK
* checking if there is a namespace ... OK
* checking for hidden files and directories ... OK
* checking for portable file names ... OK
* checking for sufficient/correct file permissions ... OK
* checking whether package ‘SMITE’ can be installed ... OK
* checking installed package size ... OK
* checking package directory ... OK
* checking ‘build’ directory ... OK
* checking DESCRIPTION meta-information ... OK
* checking top-level files ... OK
* checking for left-over files ... OK
* checking index information ... OK
* checking package subdirectories ... OK
* checking code files for non-ASCII characters ... OK
* checking R files for syntax errors ... OK
* checking whether the package can be loaded ... OK
* checking whether the package can be loaded with stated dependencies ... OK
* checking whether the package can be unloaded cleanly ... OK
* checking whether the namespace can be loaded with stated dependencies ... OK
* checking whether the namespace can be unloaded cleanly ... OK
* checking loading without being on the library search path ... OK
* checking dependencies in R code ... OK
* checking S3 generic/method consistency ... OK
* checking replacement functions ... OK
* checking foreign function calls ... OK
* checking R code for possible problems ... OK
* checking Rd files ... OK
* checking Rd metadata ... OK
* checking Rd cross-references ... OK
* checking for missing documentation entries ... OK
* checking for code/documentation mismatches ... OK
* checking Rd \usage sections ... OK
* checking Rd contents ... OK
* checking for unstated dependencies in examples ... OK
* checking contents of ‘data’ directory ... OK
* checking data for non-ASCII characters ... OK
* checking data for ASCII and uncompressed saves ... OK
* checking files in ‘vignettes’ ... OK
* checking examples ... OK
* checking for unstated dependencies in vignettes ... OK
* checking package vignettes ... OK
* checking re-building of vignette outputs ... OK
* checking PDF version of manual ... OK
* DONE
Status: OK
SMITE.Rcheck/00install.out
############################################################################## ############################################################################## ### ### Running command: ### ### /home/biocbuild/bbs-3.22-bioc/R/bin/R CMD INSTALL SMITE ### ############################################################################## ############################################################################## * installing to library ‘/home/biocbuild/bbs-3.22-bioc/R/site-library’ * installing *source* package ‘SMITE’ ... ** this is package ‘SMITE’ version ‘1.38.0’ ** using staged installation ** R ** data ** inst ** byte-compile and prepare package for lazy loading ** help *** installing help indices ** building package indices ** installing vignettes ** testing if installed package can be loaded from temporary location ** testing if installed package can be loaded from final location ** testing if installed package keeps a record of temporary installation path * DONE (SMITE)
SMITE.Rcheck/SMITE-Ex.timings
| name | user | system | elapsed | |
| Reactome.Symbol.Igraph | 0.238 | 0.015 | 0.252 | |
| SMITE-package | 0.374 | 0.006 | 0.380 | |
| addShadowText | 0.002 | 0.000 | 0.001 | |
| annotateExpression | 1.130 | 0.063 | 1.193 | |
| annotateModification | 0.000 | 0.000 | 0.001 | |
| convertGeneIds | 1.961 | 0.128 | 2.089 | |
| curated_expression | 0.046 | 0.002 | 0.047 | |
| extractExpression | 0.288 | 0.003 | 0.291 | |
| extractGOseq | 0.092 | 0.001 | 0.094 | |
| extractModification | 1.883 | 0.069 | 1.954 | |
| extractModules | 0.094 | 0.000 | 0.095 | |
| extractScores | 0.094 | 0.000 | 0.094 | |
| genes_for_conversiontest | 1.070 | 0.024 | 1.094 | |
| hg19_gene_bed | 0.124 | 0.001 | 0.124 | |
| highScores | 0.089 | 0.002 | 0.092 | |
| histone_h3k4me1 | 0.064 | 0.002 | 0.067 | |
| makePvalueAnnotation | 0.597 | 0.011 | 0.608 | |
| makePvalueObject | 0.061 | 0.001 | 0.062 | |
| methylationdata | 0.059 | 0.000 | 0.059 | |
| normalizePval | 0.091 | 0.001 | 0.092 | |
| plotCompareScores | 0.460 | 0.007 | 0.469 | |
| plotDensityPval | 0.121 | 0.001 | 0.124 | |
| plotModule | 0.092 | 0.000 | 0.092 | |
| removeModification | 0.061 | 0.003 | 0.063 | |
| runBioNet | 0.091 | 0.004 | 0.096 | |
| runGOseq | 0.095 | 0.001 | 0.096 | |
| runSpinglass | 0.507 | 0.019 | 0.525 | |
| scorePval | 0.091 | 0.008 | 0.099 | |
| stoufferTest | 0.001 | 0.000 | 0.001 | |
| test_annotation_score_data | 0.122 | 0.000 | 0.124 | |