| Back to Multiple platform build/check report for BioC 3.22: simplified long |
|
This page was generated on 2025-10-31 12:03 -0400 (Fri, 31 Oct 2025).
| Hostname | OS | Arch (*) | R version | Installed pkgs |
|---|---|---|---|---|
| nebbiolo2 | Linux (Ubuntu 24.04.3 LTS) | x86_64 | 4.5.1 Patched (2025-08-23 r88802) -- "Great Square Root" | 4901 |
| lconway | macOS 12.7.6 Monterey | x86_64 | 4.5.1 Patched (2025-09-10 r88807) -- "Great Square Root" | 4691 |
| kjohnson3 | macOS 13.7.7 Ventura | arm64 | 4.5.1 Patched (2025-09-10 r88807) -- "Great Square Root" | 4637 |
| Click on any hostname to see more info about the system (e.g. compilers) (*) as reported by 'uname -p', except on Windows and Mac OS X | ||||
| Package 2006/2361 | Hostname | OS / Arch | INSTALL | BUILD | CHECK | BUILD BIN | ||||||||
| SIAMCAT 2.14.0 (landing page) Jakob Wirbel
| nebbiolo2 | Linux (Ubuntu 24.04.3 LTS) / x86_64 | OK | OK | OK | |||||||||
| lconway | macOS 12.7.6 Monterey / x86_64 | OK | OK | OK | OK | |||||||||
| kjohnson3 | macOS 13.7.7 Ventura / arm64 | OK | OK | OK | OK | |||||||||
|
To the developers/maintainers of the SIAMCAT package: - Allow up to 24 hours (and sometimes 48 hours) for your latest push to git@git.bioconductor.org:packages/SIAMCAT.git to reflect on this report. See Troubleshooting Build Report for more information. - Use the following Renviron settings to reproduce errors and warnings. - If 'R CMD check' started to fail recently on the Linux builder(s) over a missing dependency, add the missing dependency to 'Suggests:' in your DESCRIPTION file. See Renviron.bioc for more information. |
| Package: SIAMCAT |
| Version: 2.14.0 |
| Command: /home/biocbuild/bbs-3.22-bioc/R/bin/R CMD check --install=check:SIAMCAT.install-out.txt --library=/home/biocbuild/bbs-3.22-bioc/R/site-library --timings SIAMCAT_2.14.0.tar.gz |
| StartedAt: 2025-10-31 04:04:10 -0400 (Fri, 31 Oct 2025) |
| EndedAt: 2025-10-31 04:12:25 -0400 (Fri, 31 Oct 2025) |
| EllapsedTime: 495.5 seconds |
| RetCode: 0 |
| Status: OK |
| CheckDir: SIAMCAT.Rcheck |
| Warnings: 0 |
##############################################################################
##############################################################################
###
### Running command:
###
### /home/biocbuild/bbs-3.22-bioc/R/bin/R CMD check --install=check:SIAMCAT.install-out.txt --library=/home/biocbuild/bbs-3.22-bioc/R/site-library --timings SIAMCAT_2.14.0.tar.gz
###
##############################################################################
##############################################################################
* using log directory ‘/home/biocbuild/bbs-3.22-bioc/meat/SIAMCAT.Rcheck’
* using R version 4.5.1 Patched (2025-08-23 r88802)
* using platform: x86_64-pc-linux-gnu
* R was compiled by
gcc (Ubuntu 13.3.0-6ubuntu2~24.04) 13.3.0
GNU Fortran (Ubuntu 13.3.0-6ubuntu2~24.04) 13.3.0
* running under: Ubuntu 24.04.3 LTS
* using session charset: UTF-8
* checking for file ‘SIAMCAT/DESCRIPTION’ ... OK
* checking extension type ... Package
* this is package ‘SIAMCAT’ version ‘2.14.0’
* package encoding: UTF-8
* checking package namespace information ... OK
* checking package dependencies ... OK
* checking if this is a source package ... OK
* checking if there is a namespace ... OK
* checking for hidden files and directories ... NOTE
Found the following hidden files and directories:
.travis.yml
These were most likely included in error. See section ‘Package
structure’ in the ‘Writing R Extensions’ manual.
* checking for portable file names ... OK
* checking for sufficient/correct file permissions ... OK
* checking whether package ‘SIAMCAT’ can be installed ... OK
* checking installed package size ... INFO
installed size is 5.1Mb
sub-directories of 1Mb or more:
extdata 2.1Mb
help 1.9Mb
* checking package directory ... OK
* checking ‘build’ directory ... OK
* checking DESCRIPTION meta-information ... OK
* checking top-level files ... OK
* checking for left-over files ... OK
* checking index information ... OK
* checking package subdirectories ... OK
* checking code files for non-ASCII characters ... OK
* checking R files for syntax errors ... OK
* checking whether the package can be loaded ... OK
* checking whether the package can be loaded with stated dependencies ... OK
* checking whether the package can be unloaded cleanly ... OK
* checking whether the namespace can be loaded with stated dependencies ... OK
* checking whether the namespace can be unloaded cleanly ... OK
* checking loading without being on the library search path ... OK
* checking dependencies in R code ... OK
* checking S3 generic/method consistency ... OK
* checking replacement functions ... OK
* checking foreign function calls ... OK
* checking R code for possible problems ... OK
* checking Rd files ... OK
* checking Rd metadata ... OK
* checking Rd cross-references ... NOTE
Found the following Rd file(s) with Rd \link{} targets missing package
anchors:
check.associations.Rd: lmerTest
summarize.features.Rd: phyloseq
train.model.Rd: mlr3learners, glmnet, LiblineaR
Please provide package anchors for all Rd \link{} targets not in the
package itself and the base packages.
* checking for missing documentation entries ... OK
* checking for code/documentation mismatches ... OK
* checking Rd \usage sections ... OK
* checking Rd contents ... OK
* checking for unstated dependencies in examples ... OK
* checking contents of ‘data’ directory ... OK
* checking data for non-ASCII characters ... OK
* checking LazyData ... OK
* checking data for ASCII and uncompressed saves ... OK
* checking files in ‘vignettes’ ... OK
* checking examples ... OK
Examples with CPU (user + system) or elapsed time > 5s
user system elapsed
assign-model_list 22.139 0.386 22.527
train.model 22.011 0.140 22.153
make.predictions 21.805 0.270 22.076
model.interpretation.plot 21.194 0.160 21.354
* checking for unstated dependencies in vignettes ... OK
* checking package vignettes ... OK
* checking re-building of vignette outputs ... OK
* checking PDF version of manual ... OK
* DONE
Status: 2 NOTEs
See
‘/home/biocbuild/bbs-3.22-bioc/meat/SIAMCAT.Rcheck/00check.log’
for details.
SIAMCAT.Rcheck/00install.out
############################################################################## ############################################################################## ### ### Running command: ### ### /home/biocbuild/bbs-3.22-bioc/R/bin/R CMD INSTALL SIAMCAT ### ############################################################################## ############################################################################## * installing to library ‘/home/biocbuild/bbs-3.22-bioc/R/site-library’ * installing *source* package ‘SIAMCAT’ ... ** this is package ‘SIAMCAT’ version ‘2.14.0’ ** using staged installation ** R ** data *** moving datasets to lazyload DB ** inst ** byte-compile and prepare package for lazy loading ** help *** installing help indices *** copying figures ** building package indices ** installing vignettes ** testing if installed package can be loaded from temporary location ** testing if installed package can be loaded from final location ** testing if installed package keeps a record of temporary installation path * DONE (SIAMCAT)
SIAMCAT.Rcheck/SIAMCAT-Ex.timings
| name | user | system | elapsed | |
| accessSlot | 0.006 | 0.001 | 0.007 | |
| add.meta.pred | 0.022 | 0.001 | 0.023 | |
| assign-associations | 0.005 | 0.000 | 0.006 | |
| assign-data_split | 0.006 | 0.000 | 0.006 | |
| assign-eval_data | 0.005 | 0.000 | 0.006 | |
| assign-filt_feat | 0.005 | 0.001 | 0.006 | |
| assign-label | 0.005 | 0.001 | 0.006 | |
| assign-meta | 0.025 | 0.001 | 0.026 | |
| assign-model_list | 22.139 | 0.386 | 22.527 | |
| assign-norm_feat | 0.006 | 0.001 | 0.007 | |
| assign-orig_feat | 0.011 | 0.001 | 0.011 | |
| assign-physeq | 0.006 | 0.001 | 0.007 | |
| assign-pred_matrix | 0.051 | 0.027 | 0.078 | |
| assoc_param-methods | 0.005 | 0.000 | 0.005 | |
| association.plot | 0.206 | 0.006 | 0.212 | |
| associations-methods | 0.008 | 0.000 | 0.007 | |
| check.associations | 0.008 | 0.000 | 0.008 | |
| check.confounders | 0.404 | 0.005 | 0.409 | |
| create.data.split | 0.043 | 0.000 | 0.043 | |
| create.label | 0.001 | 0.001 | 0.003 | |
| data_split-methods | 0.005 | 0.000 | 0.005 | |
| eval_data-methods | 0.005 | 0.000 | 0.005 | |
| evaluate.predictions | 1.659 | 0.002 | 1.661 | |
| feature_type-methods | 0.004 | 0.000 | 0.005 | |
| feature_weights-methods | 0.005 | 0.000 | 0.005 | |
| filt_feat-methods | 0.004 | 0.000 | 0.005 | |
| filt_params-methods | 0.003 | 0.001 | 0.004 | |
| filter.features | 0.010 | 0.001 | 0.012 | |
| filter.label | 0.005 | 0.000 | 0.006 | |
| get.filt_feat.matrix | 0.004 | 0.000 | 0.004 | |
| get.norm_feat.matrix | 0.004 | 0.000 | 0.004 | |
| get.orig_feat.matrix | 0.004 | 0.001 | 0.005 | |
| label-methods | 0.004 | 0.000 | 0.004 | |
| make.predictions | 21.805 | 0.270 | 22.076 | |
| meta-methods | 0.015 | 0.001 | 0.017 | |
| model.evaluation.plot | 0.019 | 0.003 | 0.022 | |
| model.interpretation.plot | 21.194 | 0.160 | 21.354 | |
| model_list-methods | 0.004 | 0.001 | 0.005 | |
| model_type-methods | 0.005 | 0.000 | 0.004 | |
| models-methods | 0.004 | 0.001 | 0.005 | |
| norm_feat-methods | 0.005 | 0.000 | 0.005 | |
| norm_params-methods | 0.004 | 0.000 | 0.004 | |
| normalize.features | 0.011 | 0.001 | 0.012 | |
| orig_feat-methods | 0.005 | 0.000 | 0.005 | |
| physeq-methods | 0.008 | 0.000 | 0.007 | |
| pred_matrix-methods | 0.004 | 0.000 | 0.004 | |
| read.label | 0.005 | 0.000 | 0.007 | |
| read.lefse | 0.539 | 0.004 | 0.544 | |
| select.samples | 0.053 | 0.000 | 0.054 | |
| siamcat | 0.280 | 0.006 | 0.286 | |
| siamcat.to.lefse | 0.015 | 0.000 | 0.015 | |
| siamcat.to.maaslin | 0.018 | 0.000 | 0.017 | |
| summarize.features | 1.465 | 0.016 | 1.480 | |
| train.model | 22.011 | 0.140 | 22.153 | |
| validate.data | 0.017 | 0.000 | 0.017 | |
| volcano.plot | 0.009 | 0.001 | 0.010 | |
| weight_matrix-methods | 0.004 | 0.000 | 0.004 | |