Back to Multiple platform build/check report for BioC 3.21: simplified long |
|
This page was generated on 2025-04-22 13:20 -0400 (Tue, 22 Apr 2025).
Hostname | OS | Arch (*) | R version | Installed pkgs |
---|---|---|---|---|
nebbiolo1 | Linux (Ubuntu 24.04.1 LTS) | x86_64 | 4.5.0 RC (2025-04-04 r88126) -- "How About a Twenty-Six" | 4831 |
palomino7 | Windows Server 2022 Datacenter | x64 | 4.5.0 RC (2025-04-04 r88126 ucrt) -- "How About a Twenty-Six" | 4573 |
lconway | macOS 12.7.1 Monterey | x86_64 | 4.5.0 RC (2025-04-04 r88126) -- "How About a Twenty-Six" | 4599 |
kjohnson3 | macOS 13.7.1 Ventura | arm64 | 4.5.0 RC (2025-04-04 r88126) -- "How About a Twenty-Six" | 4553 |
kunpeng2 | Linux (openEuler 24.03 LTS) | aarch64 | R Under development (unstable) (2025-02-19 r87757) -- "Unsuffered Consequences" | 4570 |
Click on any hostname to see more info about the system (e.g. compilers) (*) as reported by 'uname -p', except on Windows and Mac OS X |
Package 1986/2341 | Hostname | OS / Arch | INSTALL | BUILD | CHECK | BUILD BIN | ||||||||
SIAMCAT 2.12.0 (landing page) Jakob Wirbel
| nebbiolo1 | Linux (Ubuntu 24.04.1 LTS) / x86_64 | OK | OK | OK | ![]() | ||||||||
palomino7 | Windows Server 2022 Datacenter / x64 | OK | OK | OK | OK | ![]() | ||||||||
lconway | macOS 12.7.1 Monterey / x86_64 | OK | OK | OK | OK | ![]() | ||||||||
kjohnson3 | macOS 13.7.1 Ventura / arm64 | OK | OK | OK | OK | ![]() | ||||||||
kunpeng2 | Linux (openEuler 24.03 LTS) / aarch64 | OK | OK | OK | ||||||||||
To the developers/maintainers of the SIAMCAT package: - Allow up to 24 hours (and sometimes 48 hours) for your latest push to git@git.bioconductor.org:packages/SIAMCAT.git to reflect on this report. See Troubleshooting Build Report for more information. - Use the following Renviron settings to reproduce errors and warnings. - If 'R CMD check' started to fail recently on the Linux builder(s) over a missing dependency, add the missing dependency to 'Suggests:' in your DESCRIPTION file. See Renviron.bioc for more information. - See Martin Grigorov's blog post for how to debug Linux ARM64 related issues on a x86_64 host. |
Package: SIAMCAT |
Version: 2.12.0 |
Command: /home/biocbuild/R/R/bin/R CMD check --install=check:SIAMCAT.install-out.txt --library=/home/biocbuild/R/R/site-library --no-vignettes --timings SIAMCAT_2.12.0.tar.gz |
StartedAt: 2025-04-22 13:51:39 -0000 (Tue, 22 Apr 2025) |
EndedAt: 2025-04-22 13:57:56 -0000 (Tue, 22 Apr 2025) |
EllapsedTime: 376.6 seconds |
RetCode: 0 |
Status: OK |
CheckDir: SIAMCAT.Rcheck |
Warnings: 0 |
############################################################################## ############################################################################## ### ### Running command: ### ### /home/biocbuild/R/R/bin/R CMD check --install=check:SIAMCAT.install-out.txt --library=/home/biocbuild/R/R/site-library --no-vignettes --timings SIAMCAT_2.12.0.tar.gz ### ############################################################################## ############################################################################## * using log directory ‘/home/biocbuild/bbs-3.21-bioc/meat/SIAMCAT.Rcheck’ * using R Under development (unstable) (2025-02-19 r87757) * using platform: aarch64-unknown-linux-gnu * R was compiled by aarch64-unknown-linux-gnu-gcc (GCC) 14.2.0 GNU Fortran (GCC) 14.2.0 * running under: openEuler 24.03 (LTS-SP1) * using session charset: UTF-8 * using option ‘--no-vignettes’ * checking for file ‘SIAMCAT/DESCRIPTION’ ... OK * checking extension type ... Package * this is package ‘SIAMCAT’ version ‘2.12.0’ * package encoding: UTF-8 * checking package namespace information ... OK * checking package dependencies ... OK * checking if this is a source package ... OK * checking if there is a namespace ... OK * checking for hidden files and directories ... NOTE Found the following hidden files and directories: .travis.yml These were most likely included in error. See section ‘Package structure’ in the ‘Writing R Extensions’ manual. * checking for portable file names ... OK * checking for sufficient/correct file permissions ... OK * checking whether package ‘SIAMCAT’ can be installed ... OK * checking installed package size ... INFO installed size is 5.1Mb sub-directories of 1Mb or more: extdata 2.1Mb help 1.9Mb * checking package directory ... OK * checking ‘build’ directory ... OK * checking DESCRIPTION meta-information ... OK * checking top-level files ... OK * checking for left-over files ... OK * checking index information ... OK * checking package subdirectories ... OK * checking code files for non-ASCII characters ... OK * checking R files for syntax errors ... OK * checking whether the package can be loaded ... OK * checking whether the package can be loaded with stated dependencies ... OK * checking whether the package can be unloaded cleanly ... OK * checking whether the namespace can be loaded with stated dependencies ... OK * checking whether the namespace can be unloaded cleanly ... OK * checking loading without being on the library search path ... OK * checking dependencies in R code ... OK * checking S3 generic/method consistency ... OK * checking replacement functions ... OK * checking foreign function calls ... OK * checking R code for possible problems ... OK * checking Rd files ... OK * checking Rd metadata ... OK * checking Rd cross-references ... NOTE Found the following Rd file(s) with Rd \link{} targets missing package anchors: check.associations.Rd: lmerTest summarize.features.Rd: phyloseq train.model.Rd: mlr3learners, glmnet, LiblineaR Please provide package anchors for all Rd \link{} targets not in the package itself and the base packages. * checking for missing documentation entries ... OK * checking for code/documentation mismatches ... OK * checking Rd \usage sections ... OK * checking Rd contents ... OK * checking for unstated dependencies in examples ... OK * checking contents of ‘data’ directory ... OK * checking data for non-ASCII characters ... OK * checking LazyData ... OK * checking data for ASCII and uncompressed saves ... OK * checking files in ‘vignettes’ ... OK * checking examples ... OK Examples with CPU (user + system) or elapsed time > 5s user system elapsed make.predictions 32.738 0.331 33.928 model.interpretation.plot 31.678 0.284 32.110 train.model 31.753 0.139 32.887 assign-model_list 31.391 0.422 33.145 * checking for unstated dependencies in vignettes ... OK * checking package vignettes ... OK * checking running R code from vignettes ... SKIPPED * checking re-building of vignette outputs ... SKIPPED * checking PDF version of manual ... OK * DONE Status: 2 NOTEs See ‘/home/biocbuild/bbs-3.21-bioc/meat/SIAMCAT.Rcheck/00check.log’ for details.
SIAMCAT.Rcheck/00install.out
############################################################################## ############################################################################## ### ### Running command: ### ### /home/biocbuild/R/R/bin/R CMD INSTALL SIAMCAT ### ############################################################################## ############################################################################## * installing to library ‘/home/biocbuild/R/R-devel_2025-02-19/site-library’ * installing *source* package ‘SIAMCAT’ ... ** this is package ‘SIAMCAT’ version ‘2.12.0’ ** using staged installation ** R ** data *** moving datasets to lazyload DB ** inst ** byte-compile and prepare package for lazy loading ** help *** installing help indices *** copying figures ** building package indices ** installing vignettes ** testing if installed package can be loaded from temporary location ** testing if installed package can be loaded from final location ** testing if installed package keeps a record of temporary installation path * DONE (SIAMCAT)
SIAMCAT.Rcheck/SIAMCAT-Ex.timings
name | user | system | elapsed | |
accessSlot | 0.009 | 0.000 | 0.008 | |
add.meta.pred | 0.031 | 0.000 | 0.031 | |
assign-associations | 0.008 | 0.000 | 0.008 | |
assign-data_split | 0.005 | 0.003 | 0.008 | |
assign-eval_data | 0.007 | 0.001 | 0.008 | |
assign-filt_feat | 0.004 | 0.003 | 0.008 | |
assign-label | 0.008 | 0.000 | 0.008 | |
assign-meta | 0.035 | 0.000 | 0.035 | |
assign-model_list | 31.391 | 0.422 | 33.145 | |
assign-norm_feat | 0.009 | 0.000 | 0.009 | |
assign-orig_feat | 0.010 | 0.004 | 0.014 | |
assign-physeq | 0.005 | 0.003 | 0.008 | |
assign-pred_matrix | 0.008 | 0.000 | 0.008 | |
assoc_param-methods | 0.006 | 0.000 | 0.006 | |
association.plot | 0.249 | 0.016 | 0.269 | |
associations-methods | 0.010 | 0.000 | 0.011 | |
check.associations | 0.007 | 0.004 | 0.012 | |
check.confounders | 0.626 | 0.032 | 0.659 | |
create.data.split | 0.029 | 0.000 | 0.030 | |
create.label | 0.002 | 0.000 | 0.003 | |
data_split-methods | 0.006 | 0.000 | 0.006 | |
eval_data-methods | 0.007 | 0.000 | 0.006 | |
evaluate.predictions | 2.254 | 0.012 | 2.279 | |
feature_type-methods | 0.006 | 0.000 | 0.006 | |
feature_weights-methods | 0.006 | 0.000 | 0.006 | |
filt_feat-methods | 0.006 | 0.000 | 0.005 | |
filt_params-methods | 0.006 | 0.000 | 0.006 | |
filter.features | 0.013 | 0.004 | 0.017 | |
filter.label | 0.008 | 0.000 | 0.009 | |
get.filt_feat.matrix | 0.006 | 0.000 | 0.006 | |
get.norm_feat.matrix | 0.006 | 0.000 | 0.006 | |
get.orig_feat.matrix | 0.006 | 0.000 | 0.005 | |
label-methods | 0.006 | 0.000 | 0.006 | |
make.predictions | 32.738 | 0.331 | 33.928 | |
meta-methods | 0.021 | 0.000 | 0.022 | |
model.evaluation.plot | 0.030 | 0.000 | 0.031 | |
model.interpretation.plot | 31.678 | 0.284 | 32.110 | |
model_list-methods | 0.006 | 0.000 | 0.006 | |
model_type-methods | 0.005 | 0.000 | 0.006 | |
models-methods | 0.006 | 0.000 | 0.005 | |
norm_feat-methods | 0.006 | 0.000 | 0.006 | |
norm_params-methods | 0.005 | 0.000 | 0.006 | |
normalize.features | 0.016 | 0.000 | 0.016 | |
orig_feat-methods | 0.006 | 0.000 | 0.006 | |
physeq-methods | 0.01 | 0.00 | 0.01 | |
pred_matrix-methods | 0.006 | 0.000 | 0.006 | |
read.label | 0.011 | 0.000 | 0.023 | |
read.lefse | 0.886 | 0.016 | 0.915 | |
select.samples | 0.075 | 0.003 | 0.078 | |
siamcat | 0.961 | 0.071 | 1.078 | |
siamcat.to.lefse | 0.019 | 0.000 | 0.020 | |
siamcat.to.maaslin | 0.021 | 0.000 | 0.022 | |
summarize.features | 2.053 | 0.016 | 2.090 | |
train.model | 31.753 | 0.139 | 32.887 | |
validate.data | 0.024 | 0.000 | 0.024 | |
volcano.plot | 0.013 | 0.000 | 0.014 | |
weight_matrix-methods | 0.006 | 0.000 | 0.006 | |