| Back to Multiple platform build/check report for BioC 3.21: simplified long |
|
This page was generated on 2025-10-16 11:38 -0400 (Thu, 16 Oct 2025).
| Hostname | OS | Arch (*) | R version | Installed pkgs |
|---|---|---|---|---|
| nebbiolo1 | Linux (Ubuntu 24.04.3 LTS) | x86_64 | 4.5.1 (2025-06-13) -- "Great Square Root" | 4833 |
| merida1 | macOS 12.7.6 Monterey | x86_64 | 4.5.1 RC (2025-06-05 r88288) -- "Great Square Root" | 4614 |
| kjohnson1 | macOS 13.7.5 Ventura | arm64 | 4.5.1 Patched (2025-06-14 r88325) -- "Great Square Root" | 4555 |
| kunpeng2 | Linux (openEuler 24.03 LTS) | aarch64 | R Under development (unstable) (2025-02-19 r87757) -- "Unsuffered Consequences" | 4586 |
| Click on any hostname to see more info about the system (e.g. compilers) (*) as reported by 'uname -p', except on Windows and Mac OS X | ||||
| Package 1955/2341 | Hostname | OS / Arch | INSTALL | BUILD | CHECK | BUILD BIN | ||||||||
| SELEX 1.40.0 (landing page) Harmen J. Bussemaker
| nebbiolo1 | Linux (Ubuntu 24.04.3 LTS) / x86_64 | OK | OK | OK | |||||||||
| merida1 | macOS 12.7.6 Monterey / x86_64 | OK | OK | OK | OK | |||||||||
| kjohnson1 | macOS 13.7.5 Ventura / arm64 | OK | OK | OK | OK | |||||||||
| kunpeng2 | Linux (openEuler 24.03 LTS) / aarch64 | OK | OK | OK | ||||||||||
|
To the developers/maintainers of the SELEX package: - Allow up to 24 hours (and sometimes 48 hours) for your latest push to git@git.bioconductor.org:packages/SELEX.git to reflect on this report. See Troubleshooting Build Report for more information. - Use the following Renviron settings to reproduce errors and warnings. - If 'R CMD check' started to fail recently on the Linux builder(s) over a missing dependency, add the missing dependency to 'Suggests:' in your DESCRIPTION file. See Renviron.bioc for more information. |
| Package: SELEX |
| Version: 1.40.0 |
| Command: /home/biocbuild/bbs-3.21-bioc/R/bin/R CMD check --install=check:SELEX.install-out.txt --library=/home/biocbuild/bbs-3.21-bioc/R/site-library --timings SELEX_1.40.0.tar.gz |
| StartedAt: 2025-10-16 03:31:09 -0400 (Thu, 16 Oct 2025) |
| EndedAt: 2025-10-16 03:32:52 -0400 (Thu, 16 Oct 2025) |
| EllapsedTime: 102.1 seconds |
| RetCode: 0 |
| Status: OK |
| CheckDir: SELEX.Rcheck |
| Warnings: 0 |
##############################################################################
##############################################################################
###
### Running command:
###
### /home/biocbuild/bbs-3.21-bioc/R/bin/R CMD check --install=check:SELEX.install-out.txt --library=/home/biocbuild/bbs-3.21-bioc/R/site-library --timings SELEX_1.40.0.tar.gz
###
##############################################################################
##############################################################################
* using log directory ‘/home/biocbuild/bbs-3.21-bioc/meat/SELEX.Rcheck’
* using R version 4.5.1 (2025-06-13)
* using platform: x86_64-pc-linux-gnu
* R was compiled by
gcc (Ubuntu 13.3.0-6ubuntu2~24.04) 13.3.0
GNU Fortran (Ubuntu 13.3.0-6ubuntu2~24.04) 13.3.0
* running under: Ubuntu 24.04.3 LTS
* using session charset: UTF-8
* checking for file ‘SELEX/DESCRIPTION’ ... OK
* this is package ‘SELEX’ version ‘1.40.0’
* checking package namespace information ... OK
* checking package dependencies ... OK
* checking if this is a source package ... OK
* checking if there is a namespace ... OK
* checking for hidden files and directories ... OK
* checking for portable file names ... OK
* checking for sufficient/correct file permissions ... OK
* checking whether package ‘SELEX’ can be installed ... OK
* checking installed package size ... OK
* checking package directory ... OK
* checking ‘build’ directory ... OK
* checking DESCRIPTION meta-information ... OK
* checking top-level files ... OK
* checking for left-over files ... OK
* checking index information ... OK
* checking package subdirectories ... OK
* checking code files for non-ASCII characters ... OK
* checking R files for syntax errors ... OK
* checking whether the package can be loaded ... OK
* checking whether the package can be loaded with stated dependencies ... OK
* checking whether the package can be unloaded cleanly ... OK
* checking whether the namespace can be loaded with stated dependencies ... OK
* checking whether the namespace can be unloaded cleanly ... OK
* checking loading without being on the library search path ... OK
* checking whether startup messages can be suppressed ... OK
* checking dependencies in R code ... OK
* checking S3 generic/method consistency ... OK
* checking replacement functions ... OK
* checking foreign function calls ... OK
* checking R code for possible problems ... OK
* checking Rd files ... NOTE
checkRd: (-1) SELEX.Rd:114: Lost braces
114 | \href{http://www.ncbi.nlm.nih.gov/pubmed/22153072}{{C}ofactor binding evokes latent differences in {D}{N}{A} binding specificity between {H}ox proteins.}
| ^
checkRd: (-1) SELEX.Rd:114: Lost braces
114 | \href{http://www.ncbi.nlm.nih.gov/pubmed/22153072}{{C}ofactor binding evokes latent differences in {D}{N}{A} binding specificity between {H}ox proteins.}
| ^
checkRd: (-1) SELEX.Rd:118: Lost braces
118 | \href{http://www.ncbi.nlm.nih.gov/pubmed/25151169}{{S}{E}{L}{E}{X}-seq: a method for characterizing the complete repertoire of binding site preferences for transcription factor complexes.}
| ^
checkRd: (-1) SELEX.Rd:118: Lost braces
118 | \href{http://www.ncbi.nlm.nih.gov/pubmed/25151169}{{S}{E}{L}{E}{X}-seq: a method for characterizing the complete repertoire of binding site preferences for transcription factor complexes.}
| ^
checkRd: (-1) SELEX.Rd:118: Lost braces
118 | \href{http://www.ncbi.nlm.nih.gov/pubmed/25151169}{{S}{E}{L}{E}{X}-seq: a method for characterizing the complete repertoire of binding site preferences for transcription factor complexes.}
| ^
checkRd: (-1) SELEX.Rd:118: Lost braces
118 | \href{http://www.ncbi.nlm.nih.gov/pubmed/25151169}{{S}{E}{L}{E}{X}-seq: a method for characterizing the complete repertoire of binding site preferences for transcription factor complexes.}
| ^
checkRd: (-1) selex.affinities.Rd:33: Lost braces
33 | \href{http://www.ncbi.nlm.nih.gov/pubmed/22153072}{{C}ofactor binding evokes latent differences in {D}{N}{A} binding specificity between {H}ox proteins.}
| ^
checkRd: (-1) selex.affinities.Rd:33: Lost braces
33 | \href{http://www.ncbi.nlm.nih.gov/pubmed/22153072}{{C}ofactor binding evokes latent differences in {D}{N}{A} binding specificity between {H}ox proteins.}
| ^
checkRd: (-1) selex.affinities.Rd:37: Lost braces
37 | \href{http://www.ncbi.nlm.nih.gov/pubmed/25151169}{{S}{E}{L}{E}{X}-seq: a method for characterizing the complete repertoire of binding site preferences for transcription factor complexes.}
| ^
checkRd: (-1) selex.affinities.Rd:37: Lost braces
37 | \href{http://www.ncbi.nlm.nih.gov/pubmed/25151169}{{S}{E}{L}{E}{X}-seq: a method for characterizing the complete repertoire of binding site preferences for transcription factor complexes.}
| ^
checkRd: (-1) selex.affinities.Rd:37: Lost braces
37 | \href{http://www.ncbi.nlm.nih.gov/pubmed/25151169}{{S}{E}{L}{E}{X}-seq: a method for characterizing the complete repertoire of binding site preferences for transcription factor complexes.}
| ^
checkRd: (-1) selex.affinities.Rd:37: Lost braces
37 | \href{http://www.ncbi.nlm.nih.gov/pubmed/25151169}{{S}{E}{L}{E}{X}-seq: a method for characterizing the complete repertoire of binding site preferences for transcription factor complexes.}
| ^
checkRd: (-1) selex.counts.Rd:38: Lost braces
38 | \href{http://www.ncbi.nlm.nih.gov/pubmed/22153072}{{C}ofactor binding evokes latent differences in {D}{N}{A} binding specificity between {H}ox proteins.}
| ^
checkRd: (-1) selex.counts.Rd:38: Lost braces
38 | \href{http://www.ncbi.nlm.nih.gov/pubmed/22153072}{{C}ofactor binding evokes latent differences in {D}{N}{A} binding specificity between {H}ox proteins.}
| ^
checkRd: (-1) selex.counts.Rd:42: Lost braces
42 | \href{http://www.ncbi.nlm.nih.gov/pubmed/25151169}{{S}{E}{L}{E}{X}-seq: a method for characterizing the complete repertoire of binding site preferences for transcription factor complexes.}
| ^
checkRd: (-1) selex.counts.Rd:42: Lost braces
42 | \href{http://www.ncbi.nlm.nih.gov/pubmed/25151169}{{S}{E}{L}{E}{X}-seq: a method for characterizing the complete repertoire of binding site preferences for transcription factor complexes.}
| ^
checkRd: (-1) selex.counts.Rd:42: Lost braces
42 | \href{http://www.ncbi.nlm.nih.gov/pubmed/25151169}{{S}{E}{L}{E}{X}-seq: a method for characterizing the complete repertoire of binding site preferences for transcription factor complexes.}
| ^
checkRd: (-1) selex.counts.Rd:42: Lost braces
42 | \href{http://www.ncbi.nlm.nih.gov/pubmed/25151169}{{S}{E}{L}{E}{X}-seq: a method for characterizing the complete repertoire of binding site preferences for transcription factor complexes.}
| ^
checkRd: (-1) selex.infogain.Rd:27: Lost braces
27 | \href{http://www.ncbi.nlm.nih.gov/pubmed/22153072}{{C}ofactor binding evokes latent differences in {D}{N}{A} binding specificity between {H}ox proteins.}
| ^
checkRd: (-1) selex.infogain.Rd:27: Lost braces
27 | \href{http://www.ncbi.nlm.nih.gov/pubmed/22153072}{{C}ofactor binding evokes latent differences in {D}{N}{A} binding specificity between {H}ox proteins.}
| ^
checkRd: (-1) selex.infogain.Rd:31: Lost braces
31 | \href{http://www.ncbi.nlm.nih.gov/pubmed/25151169}{{S}{E}{L}{E}{X}-seq: a method for characterizing the complete repertoire of binding site preferences for transcription factor complexes.}
| ^
checkRd: (-1) selex.infogain.Rd:31: Lost braces
31 | \href{http://www.ncbi.nlm.nih.gov/pubmed/25151169}{{S}{E}{L}{E}{X}-seq: a method for characterizing the complete repertoire of binding site preferences for transcription factor complexes.}
| ^
checkRd: (-1) selex.infogain.Rd:31: Lost braces
31 | \href{http://www.ncbi.nlm.nih.gov/pubmed/25151169}{{S}{E}{L}{E}{X}-seq: a method for characterizing the complete repertoire of binding site preferences for transcription factor complexes.}
| ^
checkRd: (-1) selex.infogain.Rd:31: Lost braces
31 | \href{http://www.ncbi.nlm.nih.gov/pubmed/25151169}{{S}{E}{L}{E}{X}-seq: a method for characterizing the complete repertoire of binding site preferences for transcription factor complexes.}
| ^
checkRd: (-1) selex.mm.Rd:60: Lost braces
60 | \href{http://www.ncbi.nlm.nih.gov/pubmed/22153072}{{C}ofactor binding evokes latent differences in {D}{N}{A} binding specificity between {H}ox proteins.}
| ^
checkRd: (-1) selex.mm.Rd:60: Lost braces
60 | \href{http://www.ncbi.nlm.nih.gov/pubmed/22153072}{{C}ofactor binding evokes latent differences in {D}{N}{A} binding specificity between {H}ox proteins.}
| ^
checkRd: (-1) selex.mm.Rd:64: Lost braces
64 | \href{http://www.ncbi.nlm.nih.gov/pubmed/25151169}{{S}{E}{L}{E}{X}-seq: a method for characterizing the complete repertoire of binding site preferences for transcription factor complexes.}
| ^
checkRd: (-1) selex.mm.Rd:64: Lost braces
64 | \href{http://www.ncbi.nlm.nih.gov/pubmed/25151169}{{S}{E}{L}{E}{X}-seq: a method for characterizing the complete repertoire of binding site preferences for transcription factor complexes.}
| ^
checkRd: (-1) selex.mm.Rd:64: Lost braces
64 | \href{http://www.ncbi.nlm.nih.gov/pubmed/25151169}{{S}{E}{L}{E}{X}-seq: a method for characterizing the complete repertoire of binding site preferences for transcription factor complexes.}
| ^
checkRd: (-1) selex.mm.Rd:64: Lost braces
64 | \href{http://www.ncbi.nlm.nih.gov/pubmed/25151169}{{S}{E}{L}{E}{X}-seq: a method for characterizing the complete repertoire of binding site preferences for transcription factor complexes.}
| ^
checkRd: (-1) selex.mmProb.Rd:39: Lost braces
39 | \href{http://www.ncbi.nlm.nih.gov/pubmed/22153072}{{C}ofactor binding evokes latent differences in {D}{N}{A} binding specificity between {H}ox proteins.}
| ^
checkRd: (-1) selex.mmProb.Rd:39: Lost braces
39 | \href{http://www.ncbi.nlm.nih.gov/pubmed/22153072}{{C}ofactor binding evokes latent differences in {D}{N}{A} binding specificity between {H}ox proteins.}
| ^
checkRd: (-1) selex.mmProb.Rd:43: Lost braces
43 | \href{http://www.ncbi.nlm.nih.gov/pubmed/25151169}{{S}{E}{L}{E}{X}-seq: a method for characterizing the complete repertoire of binding site preferences for transcription factor complexes.}
| ^
checkRd: (-1) selex.mmProb.Rd:43: Lost braces
43 | \href{http://www.ncbi.nlm.nih.gov/pubmed/25151169}{{S}{E}{L}{E}{X}-seq: a method for characterizing the complete repertoire of binding site preferences for transcription factor complexes.}
| ^
checkRd: (-1) selex.mmProb.Rd:43: Lost braces
43 | \href{http://www.ncbi.nlm.nih.gov/pubmed/25151169}{{S}{E}{L}{E}{X}-seq: a method for characterizing the complete repertoire of binding site preferences for transcription factor complexes.}
| ^
checkRd: (-1) selex.mmProb.Rd:43: Lost braces
43 | \href{http://www.ncbi.nlm.nih.gov/pubmed/25151169}{{S}{E}{L}{E}{X}-seq: a method for characterizing the complete repertoire of binding site preferences for transcription factor complexes.}
| ^
checkRd: (-1) selex.run.Rd:34: Lost braces
34 | \href{http://www.ncbi.nlm.nih.gov/pubmed/22153072}{{C}ofactor binding evokes latent differences in {D}{N}{A} binding specificity between {H}ox proteins.}
| ^
checkRd: (-1) selex.run.Rd:34: Lost braces
34 | \href{http://www.ncbi.nlm.nih.gov/pubmed/22153072}{{C}ofactor binding evokes latent differences in {D}{N}{A} binding specificity between {H}ox proteins.}
| ^
checkRd: (-1) selex.run.Rd:38: Lost braces
38 | \href{http://www.ncbi.nlm.nih.gov/pubmed/25151169}{{S}{E}{L}{E}{X}-seq: a method for characterizing the complete repertoire of binding site preferences for transcription factor complexes.}
| ^
checkRd: (-1) selex.run.Rd:38: Lost braces
38 | \href{http://www.ncbi.nlm.nih.gov/pubmed/25151169}{{S}{E}{L}{E}{X}-seq: a method for characterizing the complete repertoire of binding site preferences for transcription factor complexes.}
| ^
checkRd: (-1) selex.run.Rd:38: Lost braces
38 | \href{http://www.ncbi.nlm.nih.gov/pubmed/25151169}{{S}{E}{L}{E}{X}-seq: a method for characterizing the complete repertoire of binding site preferences for transcription factor complexes.}
| ^
checkRd: (-1) selex.run.Rd:38: Lost braces
38 | \href{http://www.ncbi.nlm.nih.gov/pubmed/25151169}{{S}{E}{L}{E}{X}-seq: a method for characterizing the complete repertoire of binding site preferences for transcription factor complexes.}
| ^
* checking Rd metadata ... OK
* checking Rd cross-references ... OK
* checking for missing documentation entries ... OK
* checking for code/documentation mismatches ... OK
* checking Rd \usage sections ... OK
* checking Rd contents ... OK
* checking for unstated dependencies in examples ... OK
* checking line endings in Makefiles ... OK
* checking for GNU extensions in Makefiles ... OK
* checking include directives in Makefiles ... OK
* checking files in ‘vignettes’ ... OK
* checking examples ... OK
Examples with CPU (user + system) or elapsed time > 5s
user system elapsed
SELEX 21.145 1.569 7.064
selex.seqfilter 8.433 0.832 2.586
* checking for unstated dependencies in vignettes ... OK
* checking package vignettes ... OK
* checking re-building of vignette outputs ... OK
* checking PDF version of manual ... OK
* DONE
Status: 1 NOTE
See
‘/home/biocbuild/bbs-3.21-bioc/meat/SELEX.Rcheck/00check.log’
for details.
SELEX.Rcheck/00install.out
############################################################################## ############################################################################## ### ### Running command: ### ### /home/biocbuild/bbs-3.21-bioc/R/bin/R CMD INSTALL SELEX ### ############################################################################## ############################################################################## * installing to library ‘/home/biocbuild/bbs-3.21-bioc/R/site-library’ * installing *source* package ‘SELEX’ ... ** this is package ‘SELEX’ version ‘1.40.0’ ** using staged installation ** R ** inst ** byte-compile and prepare package for lazy loading ** help *** installing help indices ** building package indices ** installing vignettes ** testing if installed package can be loaded from temporary location ** testing if installed package can be loaded from final location ** testing if installed package keeps a record of temporary installation path * DONE (SELEX)
SELEX.Rcheck/SELEX-Ex.timings
| name | user | system | elapsed | |
| SELEX | 21.145 | 1.569 | 7.064 | |
| selex.affinities | 0.967 | 0.025 | 0.291 | |
| selex.config | 0.108 | 0.001 | 0.027 | |
| selex.countSummary | 0.792 | 0.015 | 0.249 | |
| selex.counts | 1.212 | 0.029 | 0.401 | |
| selex.defineSample | 0.128 | 0.004 | 0.032 | |
| selex.exampledata | 0.096 | 0.005 | 0.021 | |
| selex.fastqPSFM | 1.012 | 0.018 | 0.316 | |
| selex.getAttributes | 0.216 | 0.013 | 0.049 | |
| selex.getRound0 | 0.328 | 0.010 | 0.083 | |
| selex.getSeqfilter | 0.114 | 0.003 | 0.027 | |
| selex.infogain | 1.728 | 0.096 | 0.382 | |
| selex.infogainSummary | 1.119 | 0.015 | 0.199 | |
| selex.jvmStatus | 0.102 | 0.002 | 0.027 | |
| selex.kmax | 0.983 | 0.233 | 0.791 | |
| selex.kmerPSFM | 0.379 | 0.024 | 0.150 | |
| selex.loadAnnotation | 0.197 | 0.003 | 0.063 | |
| selex.mm | 0.462 | 0.017 | 0.154 | |
| selex.mmProb | 0.653 | 0.012 | 0.158 | |
| selex.mmSummary | 0.561 | 0.015 | 0.170 | |
| selex.revcomp | 1.035 | 0.017 | 0.281 | |
| selex.run | 1.414 | 0.114 | 0.393 | |
| selex.sample | 0.123 | 0.005 | 0.053 | |
| selex.samplePSFM | 0.400 | 0.012 | 0.170 | |
| selex.sampleSummary | 0.186 | 0.002 | 0.052 | |
| selex.saveAnnotation | 0.085 | 0.005 | 0.030 | |
| selex.seqfilter | 8.433 | 0.832 | 2.586 | |
| selex.setwd | 0.026 | 0.000 | 0.013 | |
| selex.split | 0.217 | 0.142 | 0.163 | |
| selex.summary | 0.558 | 0.068 | 0.392 | |