| Back to Multiple platform build/check report for BioC 3.21: simplified long |
|
This page was generated on 2025-10-16 11:40 -0400 (Thu, 16 Oct 2025).
| Hostname | OS | Arch (*) | R version | Installed pkgs |
|---|---|---|---|---|
| nebbiolo1 | Linux (Ubuntu 24.04.3 LTS) | x86_64 | 4.5.1 (2025-06-13) -- "Great Square Root" | 4833 |
| merida1 | macOS 12.7.6 Monterey | x86_64 | 4.5.1 RC (2025-06-05 r88288) -- "Great Square Root" | 4614 |
| kjohnson1 | macOS 13.7.5 Ventura | arm64 | 4.5.1 Patched (2025-06-14 r88325) -- "Great Square Root" | 4555 |
| kunpeng2 | Linux (openEuler 24.03 LTS) | aarch64 | R Under development (unstable) (2025-02-19 r87757) -- "Unsuffered Consequences" | 4586 |
| Click on any hostname to see more info about the system (e.g. compilers) (*) as reported by 'uname -p', except on Windows and Mac OS X | ||||
| Package 1922/2341 | Hostname | OS / Arch | INSTALL | BUILD | CHECK | BUILD BIN | ||||||||
| SCnorm 1.30.1 (landing page) Rhonda Bacher
| nebbiolo1 | Linux (Ubuntu 24.04.3 LTS) / x86_64 | OK | OK | OK | |||||||||
| merida1 | macOS 12.7.6 Monterey / x86_64 | OK | OK | OK | OK | |||||||||
| kjohnson1 | macOS 13.7.5 Ventura / arm64 | OK | OK | OK | OK | |||||||||
| kunpeng2 | Linux (openEuler 24.03 LTS) / aarch64 | OK | OK | OK | ||||||||||
|
To the developers/maintainers of the SCnorm package: - Allow up to 24 hours (and sometimes 48 hours) for your latest push to git@git.bioconductor.org:packages/SCnorm.git to reflect on this report. See Troubleshooting Build Report for more information. - Use the following Renviron settings to reproduce errors and warnings. - If 'R CMD check' started to fail recently on the Linux builder(s) over a missing dependency, add the missing dependency to 'Suggests:' in your DESCRIPTION file. See Renviron.bioc for more information. |
| Package: SCnorm |
| Version: 1.30.1 |
| Command: /Library/Frameworks/R.framework/Resources/bin/R CMD check --install=check:SCnorm.install-out.txt --library=/Library/Frameworks/R.framework/Resources/library --no-vignettes --timings SCnorm_1.30.1.tar.gz |
| StartedAt: 2025-10-15 11:37:02 -0400 (Wed, 15 Oct 2025) |
| EndedAt: 2025-10-15 11:40:40 -0400 (Wed, 15 Oct 2025) |
| EllapsedTime: 218.2 seconds |
| RetCode: 0 |
| Status: OK |
| CheckDir: SCnorm.Rcheck |
| Warnings: 0 |
##############################################################################
##############################################################################
###
### Running command:
###
### /Library/Frameworks/R.framework/Resources/bin/R CMD check --install=check:SCnorm.install-out.txt --library=/Library/Frameworks/R.framework/Resources/library --no-vignettes --timings SCnorm_1.30.1.tar.gz
###
##############################################################################
##############################################################################
* using log directory ‘/Users/biocbuild/bbs-3.21-bioc/meat/SCnorm.Rcheck’
* using R version 4.5.1 Patched (2025-06-14 r88325)
* using platform: aarch64-apple-darwin20
* R was compiled by
Apple clang version 16.0.0 (clang-1600.0.26.6)
GNU Fortran (GCC) 14.2.0
* running under: macOS Ventura 13.7.5
* using session charset: UTF-8
* using option ‘--no-vignettes’
* checking for file ‘SCnorm/DESCRIPTION’ ... OK
* this is package ‘SCnorm’ version ‘1.30.1’
* package encoding: UTF-8
* checking package namespace information ... OK
* checking package dependencies ... OK
* checking if this is a source package ... OK
* checking if there is a namespace ... OK
* checking for hidden files and directories ... OK
* checking for portable file names ... OK
* checking for sufficient/correct file permissions ... OK
* checking whether package ‘SCnorm’ can be installed ... OK
* checking installed package size ... OK
* checking package directory ... OK
* checking ‘build’ directory ... OK
* checking DESCRIPTION meta-information ... OK
* checking top-level files ... OK
* checking for left-over files ... OK
* checking index information ... OK
* checking package subdirectories ... OK
* checking code files for non-ASCII characters ... OK
* checking R files for syntax errors ... OK
* checking whether the package can be loaded ... OK
* checking whether the package can be loaded with stated dependencies ... OK
* checking whether the package can be unloaded cleanly ... OK
* checking whether the namespace can be loaded with stated dependencies ... OK
* checking whether the namespace can be unloaded cleanly ... OK
* checking dependencies in R code ... NOTE
Namespace in Imports field not imported from: ‘stats’
All declared Imports should be used.
* checking S3 generic/method consistency ... OK
* checking replacement functions ... OK
* checking foreign function calls ... OK
* checking R code for possible problems ... NOTE
GetTD: no visible global function definition for ‘poly’
GetTD: no visible global function definition for ‘model.matrix’
GetTD: no visible binding for global variable ‘na.exclude’
GetTD: no visible global function definition for ‘predict’
SCnorm : <anonymous> : <anonymous>: no visible global function
definition for ‘median’
SCnormFit: no visible global function definition for ‘density’
SCnormFit: no visible global function definition for ‘poly’
SCnormFit: no visible binding for global variable ‘na.exclude’
SCnormFit: no visible global function definition for ‘predict’
SCnormFit: no visible global function definition for ‘quantile’
correctWithin: no visible global function definition for ‘quantile’
correctWithin: no visible global function definition for ‘loess’
correctWithin: no visible global function definition for ‘predict’
correctWithin: no visible global function definition for ‘median’
evaluateK : <anonymous>: no visible global function definition for
‘median’
generateEvalPlot: no visible binding for global variable ‘median’
getDens: no visible global function definition for ‘density’
getDens: no visible global function definition for ‘na.omit’
plotCountDepth : <anonymous> : <anonymous>: no visible global function
definition for ‘median’
plotWithinFactor : <anonymous>: no visible global function definition
for ‘median’
plotWithinFactor : <anonymous> : <anonymous>: no visible global
function definition for ‘median’
scaleNormMultCont : <anonymous>: no visible global function definition
for ‘median’
scaleNormMultCont: no visible global function definition for ‘median’
Undefined global functions or variables:
density loess median model.matrix na.exclude na.omit poly predict
quantile
Consider adding
importFrom("stats", "density", "loess", "median", "model.matrix",
"na.exclude", "na.omit", "poly", "predict", "quantile")
to your NAMESPACE file.
* checking Rd files ... OK
* checking Rd metadata ... OK
* checking Rd cross-references ... OK
* checking for missing documentation entries ... OK
* checking for code/documentation mismatches ... OK
* checking Rd \usage sections ... OK
* checking Rd contents ... OK
* checking for unstated dependencies in examples ... OK
* checking contents of ‘data’ directory ... OK
* checking data for non-ASCII characters ... OK
* checking LazyData ... OK
* checking data for ASCII and uncompressed saves ... OK
* checking sizes of PDF files under ‘inst/doc’ ... OK
* checking files in ‘vignettes’ ... OK
* checking examples ... OK
Examples with CPU (user + system) or elapsed time > 5s
user system elapsed
getSlopes 9.396 1.453 7.116
* checking for unstated dependencies in vignettes ... OK
* checking package vignettes ... OK
* checking running R code from vignettes ... SKIPPED
* checking re-building of vignette outputs ... SKIPPED
* checking PDF version of manual ... OK
* DONE
Status: 2 NOTEs
See
‘/Users/biocbuild/bbs-3.21-bioc/meat/SCnorm.Rcheck/00check.log’
for details.
SCnorm.Rcheck/00install.out
############################################################################## ############################################################################## ### ### Running command: ### ### /Library/Frameworks/R.framework/Resources/bin/R CMD INSTALL SCnorm ### ############################################################################## ############################################################################## * installing to library ‘/Library/Frameworks/R.framework/Versions/4.5-arm64/Resources/library’ * installing *source* package ‘SCnorm’ ... ** this is package ‘SCnorm’ version ‘1.30.1’ ** using staged installation ** R ** data *** moving datasets to lazyload DB ** inst ** byte-compile and prepare package for lazy loading ** help *** installing help indices ** building package indices ** installing vignettes ** testing if installed package can be loaded from temporary location ** testing if installed package can be loaded from final location ** testing if installed package keeps a record of temporary installation path * DONE (SCnorm)
SCnorm.Rcheck/SCnorm-Ex.timings
| name | user | system | elapsed | |
| ExampleSimSCData | 0.001 | 0.002 | 0.003 | |
| SCnorm | 0.000 | 0.001 | 0.003 | |
| getCounts | 0.274 | 0.012 | 0.291 | |
| getSlopes | 9.396 | 1.453 | 7.116 | |
| plotCountDepth | 0.001 | 0.002 | 0.004 | |
| plotWithinFactor | 0.026 | 0.007 | 0.034 | |
| results | 0.001 | 0.002 | 0.003 | |