| Back to Multiple platform build/check report for BioC 3.21: simplified long |
|
This page was generated on 2025-10-16 11:40 -0400 (Thu, 16 Oct 2025).
| Hostname | OS | Arch (*) | R version | Installed pkgs |
|---|---|---|---|---|
| nebbiolo1 | Linux (Ubuntu 24.04.3 LTS) | x86_64 | 4.5.1 (2025-06-13) -- "Great Square Root" | 4833 |
| merida1 | macOS 12.7.6 Monterey | x86_64 | 4.5.1 RC (2025-06-05 r88288) -- "Great Square Root" | 4614 |
| kjohnson1 | macOS 13.7.5 Ventura | arm64 | 4.5.1 Patched (2025-06-14 r88325) -- "Great Square Root" | 4555 |
| kunpeng2 | Linux (openEuler 24.03 LTS) | aarch64 | R Under development (unstable) (2025-02-19 r87757) -- "Unsuffered Consequences" | 4586 |
| Click on any hostname to see more info about the system (e.g. compilers) (*) as reported by 'uname -p', except on Windows and Mac OS X | ||||
| Package 1874/2341 | Hostname | OS / Arch | INSTALL | BUILD | CHECK | BUILD BIN | ||||||||
| SARC 1.6.0 (landing page) Krutik Patel
| nebbiolo1 | Linux (Ubuntu 24.04.3 LTS) / x86_64 | OK | OK | ERROR | |||||||||
| merida1 | macOS 12.7.6 Monterey / x86_64 | OK | OK | ERROR | OK | |||||||||
| kjohnson1 | macOS 13.7.5 Ventura / arm64 | OK | OK | ERROR | OK | |||||||||
| kunpeng2 | Linux (openEuler 24.03 LTS) / aarch64 | OK | OK | ERROR | ||||||||||
|
To the developers/maintainers of the SARC package: - Allow up to 24 hours (and sometimes 48 hours) for your latest push to git@git.bioconductor.org:packages/SARC.git to reflect on this report. See Troubleshooting Build Report for more information. - Use the following Renviron settings to reproduce errors and warnings. - If 'R CMD check' started to fail recently on the Linux builder(s) over a missing dependency, add the missing dependency to 'Suggests:' in your DESCRIPTION file. See Renviron.bioc for more information. |
| Package: SARC |
| Version: 1.6.0 |
| Command: /Library/Frameworks/R.framework/Resources/bin/R CMD check --install=check:SARC.install-out.txt --library=/Library/Frameworks/R.framework/Resources/library --no-vignettes --timings SARC_1.6.0.tar.gz |
| StartedAt: 2025-10-15 10:55:09 -0400 (Wed, 15 Oct 2025) |
| EndedAt: 2025-10-15 11:04:32 -0400 (Wed, 15 Oct 2025) |
| EllapsedTime: 562.7 seconds |
| RetCode: 1 |
| Status: ERROR |
| CheckDir: SARC.Rcheck |
| Warnings: NA |
##############################################################################
##############################################################################
###
### Running command:
###
### /Library/Frameworks/R.framework/Resources/bin/R CMD check --install=check:SARC.install-out.txt --library=/Library/Frameworks/R.framework/Resources/library --no-vignettes --timings SARC_1.6.0.tar.gz
###
##############################################################################
##############################################################################
* using log directory ‘/Users/biocbuild/bbs-3.21-bioc/meat/SARC.Rcheck’
* using R version 4.5.1 Patched (2025-06-14 r88325)
* using platform: aarch64-apple-darwin20
* R was compiled by
Apple clang version 16.0.0 (clang-1600.0.26.6)
GNU Fortran (GCC) 14.2.0
* running under: macOS Ventura 13.7.5
* using session charset: UTF-8
* using option ‘--no-vignettes’
* checking for file ‘SARC/DESCRIPTION’ ... OK
* checking extension type ... Package
* this is package ‘SARC’ version ‘1.6.0’
* package encoding: UTF-8
* checking package namespace information ... OK
* checking package dependencies ... OK
* checking if this is a source package ... OK
* checking if there is a namespace ... OK
* checking for hidden files and directories ... OK
* checking for portable file names ... OK
* checking for sufficient/correct file permissions ... OK
* checking whether package ‘SARC’ can be installed ... OK
* checking installed package size ... OK
* checking package directory ... OK
* checking ‘build’ directory ... OK
* checking DESCRIPTION meta-information ... OK
* checking top-level files ... NOTE
File
LICENSE
is not mentioned in the DESCRIPTION file.
* checking for left-over files ... OK
* checking index information ... OK
* checking package subdirectories ... OK
* checking code files for non-ASCII characters ... OK
* checking R files for syntax errors ... OK
* checking whether the package can be loaded ... OK
* checking whether the package can be loaded with stated dependencies ... OK
* checking whether the package can be unloaded cleanly ... OK
* checking whether the namespace can be loaded with stated dependencies ... OK
* checking whether the namespace can be unloaded cleanly ... OK
* checking dependencies in R code ... OK
* checking S3 generic/method consistency ... OK
* checking replacement functions ... OK
* checking foreign function calls ... OK
* checking R code for possible problems ... NOTE
addExonsGenes: no visible global function definition for ‘metadata’
addExonsGenes: no visible global function definition for ‘metadata<-’
anovaOnCNV: no visible global function definition for ‘metadata’
anovaOnCNV: no visible global function definition for ‘metadata<-’
cnvConfidence: no visible global function definition for ‘metadata’
cnvConfidence: no visible global function definition for ‘metadata<-’
pasteExonsGenes: no visible global function definition for ‘metadata’
pasteExonsGenes: no visible global function definition for ‘metadata<-’
phDunnetonCNV: no visible global function definition for ‘metadata’
phDunnetonCNV: no visible global function definition for ‘metadata<-’
plotCovPrep: no visible global function definition for ‘metadata’
plotCovPrep: no visible global function definition for ‘metadata<-’
prepAnova: no visible global function definition for ‘metadata’
prepAnova: no visible global function definition for ‘metadata<-’
regionGrangeMake: no visible global function definition for ‘metadata’
regionGrangeMake: no visible global function definition for
‘metadata<-’
regionMean: no visible global function definition for ‘metadata’
regionMean: no visible global function definition for ‘metadata<-’
regionQuantiles: no visible global function definition for ‘metadata’
regionQuantiles: no visible global function definition for ‘metadata<-’
regionSet: no visible global function definition for ‘sortSeqlevels’
regionSet: no visible global function definition for ‘metadata’
regionSet: no visible global function definition for ‘metadata<-’
regionSplit: no visible global function definition for ‘metadata’
regionSplit: no visible global function definition for ‘metadata<-’
setQDplot: no visible global function definition for ‘metadata’
setQDplot: no visible global function definition for ‘metadata<-’
setupCNVplot: no visible global function definition for ‘metadata’
setupCNVplot: no visible global function definition for ‘metadata<-’
Undefined global functions or variables:
metadata metadata<- sortSeqlevels
* checking Rd files ... OK
* checking Rd metadata ... OK
* checking Rd cross-references ... OK
* checking for missing documentation entries ... OK
* checking for code/documentation mismatches ... OK
* checking Rd \usage sections ... OK
* checking Rd contents ... OK
* checking for unstated dependencies in examples ... OK
* checking contents of ‘data’ directory ... OK
* checking data for non-ASCII characters ... OK
* checking data for ASCII and uncompressed saves ... OK
* checking files in ‘vignettes’ ... OK
* checking examples ... OK
Examples with CPU (user + system) or elapsed time > 5s
user system elapsed
addExonsGenes 46.578 1.690 49.048
pasteExonsGenes 36.068 1.029 37.299
plotCNV 34.889 1.086 36.189
setupCNVplot 33.619 1.199 35.898
* checking for unstated dependencies in ‘tests’ ... OK
* checking tests ...
Running ‘testthat.R’
ERROR
Running the tests in ‘tests/testthat.R’ failed.
Last 13 lines of output:
Error in x$.self$finalize() : attempt to apply non-function
Error in x$.self$finalize() : attempt to apply non-function
[1] "All CNVs are fine for further evaluation"
[ FAIL 1 | WARN 0 | SKIP 0 | PASS 27 ]
══ Failed tests ════════════════════════════════════════════════════════════════
── Failure ('test_plotCNV.R:19:1'): (code run outside of `test_that()`) ────────
class(p)[[1]] not equal to "gg".
1/1 mismatches
x[1]: "ggplot2::ggplot"
y[1]: "gg"
[ FAIL 1 | WARN 0 | SKIP 0 | PASS 27 ]
Error: Test failures
Execution halted
* checking for unstated dependencies in vignettes ... OK
* checking package vignettes ... OK
* checking running R code from vignettes ... SKIPPED
* checking re-building of vignette outputs ... SKIPPED
* checking PDF version of manual ... OK
* DONE
Status: 1 ERROR, 2 NOTEs
See
‘/Users/biocbuild/bbs-3.21-bioc/meat/SARC.Rcheck/00check.log’
for details.
SARC.Rcheck/00install.out
############################################################################## ############################################################################## ### ### Running command: ### ### /Library/Frameworks/R.framework/Resources/bin/R CMD INSTALL SARC ### ############################################################################## ############################################################################## * installing to library ‘/Library/Frameworks/R.framework/Versions/4.5-arm64/Resources/library’ * installing *source* package ‘SARC’ ... ** this is package ‘SARC’ version ‘1.6.0’ ** using staged installation ** R ** data ** inst ** byte-compile and prepare package for lazy loading ** help *** installing help indices ** building package indices ** installing vignettes ** testing if installed package can be loaded from temporary location ** testing if installed package can be loaded from final location ** testing if installed package keeps a record of temporary installation path * DONE (SARC)
SARC.Rcheck/tests/testthat.Rout.fail
R version 4.5.1 Patched (2025-06-14 r88325) -- "Great Square Root"
Copyright (C) 2025 The R Foundation for Statistical Computing
Platform: aarch64-apple-darwin20
R is free software and comes with ABSOLUTELY NO WARRANTY.
You are welcome to redistribute it under certain conditions.
Type 'license()' or 'licence()' for distribution details.
R is a collaborative project with many contributors.
Type 'contributors()' for more information and
'citation()' on how to cite R or R packages in publications.
Type 'demo()' for some demos, 'help()' for on-line help, or
'help.start()' for an HTML browser interface to help.
Type 'q()' to quit R.
> #test SARC unit tests
> #unit test check
> library(testthat)
> library(SARC)
Loading required package: RaggedExperiment
Loading required package: GenomicRanges
Loading required package: stats4
Loading required package: BiocGenerics
Loading required package: generics
Attaching package: 'generics'
The following objects are masked from 'package:base':
as.difftime, as.factor, as.ordered, intersect, is.element, setdiff,
setequal, union
Attaching package: 'BiocGenerics'
The following objects are masked from 'package:stats':
IQR, mad, sd, var, xtabs
The following objects are masked from 'package:base':
Filter, Find, Map, Position, Reduce, anyDuplicated, aperm, append,
as.data.frame, basename, cbind, colnames, dirname, do.call,
duplicated, eval, evalq, get, grep, grepl, is.unsorted, lapply,
mapply, match, mget, order, paste, pmax, pmax.int, pmin, pmin.int,
rank, rbind, rownames, sapply, saveRDS, table, tapply, unique,
unsplit, which.max, which.min
Loading required package: S4Vectors
Attaching package: 'S4Vectors'
The following object is masked from 'package:utils':
findMatches
The following objects are masked from 'package:base':
I, expand.grid, unname
Loading required package: IRanges
Loading required package: GenomeInfoDb
> test_check(package = "SARC")
Error in x$.self$finalize() : attempt to apply non-function
Error in x$.self$finalize() : attempt to apply non-function
In addition: Warning message:
call dbDisconnect() when finished working with a connection
Error in x$.self$finalize() : attempt to apply non-function
Error in x$.self$finalize() : attempt to apply non-function
[1] "All CNVs are fine for further evaluation"
[ FAIL 1 | WARN 0 | SKIP 0 | PASS 27 ]
══ Failed tests ════════════════════════════════════════════════════════════════
── Failure ('test_plotCNV.R:19:1'): (code run outside of `test_that()`) ────────
class(p)[[1]] not equal to "gg".
1/1 mismatches
x[1]: "ggplot2::ggplot"
y[1]: "gg"
[ FAIL 1 | WARN 0 | SKIP 0 | PASS 27 ]
Error: Test failures
Execution halted
SARC.Rcheck/SARC-Ex.timings
| name | user | system | elapsed | |
| addExonsGenes | 46.578 | 1.690 | 49.048 | |
| anovaOnCNV | 1.114 | 0.074 | 1.189 | |
| cnvConfidence | 0.545 | 0.046 | 0.593 | |
| pasteExonsGenes | 36.068 | 1.029 | 37.299 | |
| plotCNV | 34.889 | 1.086 | 36.189 | |
| plotCovPrep | 0.364 | 0.061 | 0.433 | |
| prepAnova | 0.836 | 0.141 | 0.990 | |
| regionGrangeMake | 0.387 | 0.037 | 0.427 | |
| regionMean | 0.776 | 0.133 | 0.918 | |
| regionQuantiles | 0.934 | 0.092 | 1.036 | |
| regionSet | 0.456 | 0.076 | 0.535 | |
| regionSplit | 0.555 | 0.054 | 0.613 | |
| seeDist | 2.215 | 0.220 | 2.440 | |
| setQDplot | 0.692 | 0.078 | 0.769 | |
| setupCNVplot | 33.619 | 1.199 | 35.898 | |
| test_cnv | 0.001 | 0.002 | 0.006 | |
| test_cnv2 | 0.001 | 0.003 | 0.004 | |
| test_cov | 0.127 | 0.009 | 0.148 | |