| Back to Multiple platform build/check report for BioC 3.21: simplified long |
|
This page was generated on 2025-10-16 11:38 -0400 (Thu, 16 Oct 2025).
| Hostname | OS | Arch (*) | R version | Installed pkgs |
|---|---|---|---|---|
| nebbiolo1 | Linux (Ubuntu 24.04.3 LTS) | x86_64 | 4.5.1 (2025-06-13) -- "Great Square Root" | 4833 |
| merida1 | macOS 12.7.6 Monterey | x86_64 | 4.5.1 RC (2025-06-05 r88288) -- "Great Square Root" | 4614 |
| kjohnson1 | macOS 13.7.5 Ventura | arm64 | 4.5.1 Patched (2025-06-14 r88325) -- "Great Square Root" | 4555 |
| kunpeng2 | Linux (openEuler 24.03 LTS) | aarch64 | R Under development (unstable) (2025-02-19 r87757) -- "Unsuffered Consequences" | 4586 |
| Click on any hostname to see more info about the system (e.g. compilers) (*) as reported by 'uname -p', except on Windows and Mac OS X | ||||
| Package 1830/2341 | Hostname | OS / Arch | INSTALL | BUILD | CHECK | BUILD BIN | ||||||||
| Rqc 1.42.0 (landing page) Welliton Souza
| nebbiolo1 | Linux (Ubuntu 24.04.3 LTS) / x86_64 | OK | OK | OK | |||||||||
| merida1 | macOS 12.7.6 Monterey / x86_64 | OK | OK | OK | OK | |||||||||
| kjohnson1 | macOS 13.7.5 Ventura / arm64 | OK | OK | OK | OK | |||||||||
| kunpeng2 | Linux (openEuler 24.03 LTS) / aarch64 | OK | OK | OK | ||||||||||
|
To the developers/maintainers of the Rqc package: - Allow up to 24 hours (and sometimes 48 hours) for your latest push to git@git.bioconductor.org:packages/Rqc.git to reflect on this report. See Troubleshooting Build Report for more information. - Use the following Renviron settings to reproduce errors and warnings. - If 'R CMD check' started to fail recently on the Linux builder(s) over a missing dependency, add the missing dependency to 'Suggests:' in your DESCRIPTION file. See Renviron.bioc for more information. |
| Package: Rqc |
| Version: 1.42.0 |
| Command: /home/biocbuild/bbs-3.21-bioc/R/bin/R CMD check --install=check:Rqc.install-out.txt --library=/home/biocbuild/bbs-3.21-bioc/R/site-library --timings Rqc_1.42.0.tar.gz |
| StartedAt: 2025-10-16 03:02:57 -0400 (Thu, 16 Oct 2025) |
| EndedAt: 2025-10-16 03:09:49 -0400 (Thu, 16 Oct 2025) |
| EllapsedTime: 411.7 seconds |
| RetCode: 0 |
| Status: OK |
| CheckDir: Rqc.Rcheck |
| Warnings: 0 |
##############################################################################
##############################################################################
###
### Running command:
###
### /home/biocbuild/bbs-3.21-bioc/R/bin/R CMD check --install=check:Rqc.install-out.txt --library=/home/biocbuild/bbs-3.21-bioc/R/site-library --timings Rqc_1.42.0.tar.gz
###
##############################################################################
##############################################################################
* using log directory ‘/home/biocbuild/bbs-3.21-bioc/meat/Rqc.Rcheck’
* using R version 4.5.1 (2025-06-13)
* using platform: x86_64-pc-linux-gnu
* R was compiled by
gcc (Ubuntu 13.3.0-6ubuntu2~24.04) 13.3.0
GNU Fortran (Ubuntu 13.3.0-6ubuntu2~24.04) 13.3.0
* running under: Ubuntu 24.04.3 LTS
* using session charset: UTF-8
* checking for file ‘Rqc/DESCRIPTION’ ... OK
* checking extension type ... Package
* this is package ‘Rqc’ version ‘1.42.0’
* package encoding: UTF-8
* checking package namespace information ... OK
* checking package dependencies ... OK
* checking if this is a source package ... OK
* checking if there is a namespace ... OK
* checking for hidden files and directories ... NOTE
Found the following hidden files and directories:
.travis.yml
These were most likely included in error. See section ‘Package
structure’ in the ‘Writing R Extensions’ manual.
* checking for portable file names ... OK
* checking for sufficient/correct file permissions ... OK
* checking whether package ‘Rqc’ can be installed ... OK
* used C++ compiler: ‘g++ (Ubuntu 13.3.0-6ubuntu2~24.04) 13.3.0’
* checking installed package size ... OK
* checking package directory ... OK
* checking ‘build’ directory ... OK
* checking DESCRIPTION meta-information ... OK
* checking top-level files ... OK
* checking for left-over files ... OK
* checking index information ... OK
* checking package subdirectories ... OK
* checking code files for non-ASCII characters ... OK
* checking R files for syntax errors ... OK
* checking whether the package can be loaded ... OK
* checking whether the package can be loaded with stated dependencies ... OK
* checking whether the package can be unloaded cleanly ... OK
* checking whether the namespace can be loaded with stated dependencies ... OK
* checking whether the namespace can be unloaded cleanly ... OK
* checking loading without being on the library search path ... OK
* checking dependencies in R code ... NOTE
Namespaces in Imports field not imported from:
'IRanges' 'Rcpp'
All declared Imports should be used.
* checking S3 generic/method consistency ... OK
* checking replacement functions ... OK
* checking foreign function calls ... OK
* checking R code for possible problems ... OK
* checking Rd files ... OK
* checking Rd metadata ... OK
* checking Rd cross-references ... NOTE
Found the following Rd file(s) with Rd \link{} targets missing package
anchors:
rqc.Rd: multicoreWorkers
rqcCycleAverageQualityPcaPlot.Rd: ggplot
rqcCycleBaseCallsPlot.Rd: ggplot
rqcCycleGCPlot.Rd: ggplot
rqcCycleQualityBoxPlot.Rd: ggplot
rqcCycleQualityPlot.Rd: ggplot
rqcFileHeatmap.Rd: ggplot
rqcQA.Rd: ShortRead, bplapply, BiocParallel
rqcReadFrequencyPlot.Rd: ggplot
rqcReadQualityBoxPlot.Rd: ggplot
rqcReadQualityPlot.Rd: ggplot
rqcReadWidthPlot.Rd: ggplot
rqcReport.Rd: knit, markdownToHTML
Please provide package anchors for all Rd \link{} targets not in the
package itself and the base packages.
* checking for missing documentation entries ... OK
* checking for code/documentation mismatches ... OK
* checking Rd \usage sections ... OK
* checking Rd contents ... OK
* checking for unstated dependencies in examples ... OK
* checking line endings in C/C++/Fortran sources/headers ... OK
* checking compiled code ... NOTE
Note: information on .o files is not available
* checking files in ‘vignettes’ ... OK
* checking examples ... OK
Examples with CPU (user + system) or elapsed time > 5s
user system elapsed
Rqc-package 10.908 0.368 11.269
rqcReport 8.602 0.266 8.869
rqc 7.810 0.133 7.944
* checking for unstated dependencies in ‘tests’ ... OK
* checking tests ...
Running ‘testthat.R’
OK
* checking for unstated dependencies in vignettes ... OK
* checking package vignettes ... OK
* checking re-building of vignette outputs ... OK
* checking PDF version of manual ... OK
* DONE
Status: 4 NOTEs
See
‘/home/biocbuild/bbs-3.21-bioc/meat/Rqc.Rcheck/00check.log’
for details.
Rqc.Rcheck/00install.out
##############################################################################
##############################################################################
###
### Running command:
###
### /home/biocbuild/bbs-3.21-bioc/R/bin/R CMD INSTALL Rqc
###
##############################################################################
##############################################################################
* installing to library ‘/home/biocbuild/bbs-3.21-bioc/R/site-library’
* installing *source* package ‘Rqc’ ...
** this is package ‘Rqc’ version ‘1.42.0’
** using staged installation
** libs
using C++ compiler: ‘g++ (Ubuntu 13.3.0-6ubuntu2~24.04) 13.3.0’
g++ -std=gnu++17 -I"/home/biocbuild/bbs-3.21-bioc/R/include" -DNDEBUG -I'/home/biocbuild/bbs-3.21-bioc/R/site-library/Rcpp/include' -I/usr/local/include -fpic -g -O2 -Wall -Werror=format-security -c RRDNA.cpp -o RRDNA.o
RRDNA.cpp: In function ‘Rcpp::StringVector toRRDNA(Rcpp::StringVector)’:
RRDNA.cpp:51:27: warning: comparison of integer expressions of different signedness: ‘R_len_t’ {aka ‘int’} and ‘std::__cxx11::basic_string<char>::size_type’ {aka ‘long unsigned int’} [-Wsign-compare]
51 | for (j = 0; j < dna.size(); j+=3)
| ~~^~~~~~~~~~~~
RRDNA.cpp: In function ‘Rcpp::StringVector fromRRDNA(Rcpp::StringVector)’:
RRDNA.cpp:102:22: warning: comparison of integer expressions of different signedness: ‘R_len_t’ {aka ‘int’} and ‘std::__cxx11::basic_string<char>::size_type’ {aka ‘long unsigned int’} [-Wsign-compare]
102 | for(j = 1; j < rrdna.size(); ++j) {
| ~~^~~~~~~~~~~~~~
g++ -std=gnu++17 -I"/home/biocbuild/bbs-3.21-bioc/R/include" -DNDEBUG -I'/home/biocbuild/bbs-3.21-bioc/R/site-library/Rcpp/include' -I/usr/local/include -fpic -g -O2 -Wall -Werror=format-security -c RcppExports.cpp -o RcppExports.o
g++ -std=gnu++17 -shared -L/home/biocbuild/bbs-3.21-bioc/R/lib -L/usr/local/lib -o Rqc.so RRDNA.o RcppExports.o -L/home/biocbuild/bbs-3.21-bioc/R/lib -lR
installing to /home/biocbuild/bbs-3.21-bioc/R/site-library/00LOCK-Rqc/00new/Rqc/libs
** R
** inst
** byte-compile and prepare package for lazy loading
** help
*** installing help indices
** building package indices
** installing vignettes
** testing if installed package can be loaded from temporary location
** checking absolute paths in shared objects and dynamic libraries
** testing if installed package can be loaded from final location
** testing if installed package keeps a record of temporary installation path
* DONE (Rqc)
Rqc.Rcheck/tests/testthat.Rout
R version 4.5.1 (2025-06-13) -- "Great Square Root"
Copyright (C) 2025 The R Foundation for Statistical Computing
Platform: x86_64-pc-linux-gnu
R is free software and comes with ABSOLUTELY NO WARRANTY.
You are welcome to redistribute it under certain conditions.
Type 'license()' or 'licence()' for distribution details.
R is a collaborative project with many contributors.
Type 'contributors()' for more information and
'citation()' on how to cite R or R packages in publications.
Type 'demo()' for some demos, 'help()' for on-line help, or
'help.start()' for an HTML browser interface to help.
Type 'q()' to quit R.
> library(testthat)
> library(Rqc)
Loading required package: BiocParallel
Loading required package: ShortRead
Loading required package: BiocGenerics
Loading required package: generics
Attaching package: 'generics'
The following objects are masked from 'package:base':
as.difftime, as.factor, as.ordered, intersect, is.element, setdiff,
setequal, union
Attaching package: 'BiocGenerics'
The following objects are masked from 'package:stats':
IQR, mad, sd, var, xtabs
The following objects are masked from 'package:base':
Filter, Find, Map, Position, Reduce, anyDuplicated, aperm, append,
as.data.frame, basename, cbind, colnames, dirname, do.call,
duplicated, eval, evalq, get, grep, grepl, is.unsorted, lapply,
mapply, match, mget, order, paste, pmax, pmax.int, pmin, pmin.int,
rank, rbind, rownames, sapply, saveRDS, table, tapply, unique,
unsplit, which.max, which.min
Loading required package: Biostrings
Loading required package: S4Vectors
Loading required package: stats4
Attaching package: 'S4Vectors'
The following object is masked from 'package:utils':
findMatches
The following objects are masked from 'package:base':
I, expand.grid, unname
Loading required package: IRanges
Loading required package: XVector
Loading required package: GenomeInfoDb
Attaching package: 'Biostrings'
The following object is masked from 'package:base':
strsplit
Loading required package: Rsamtools
Loading required package: GenomicRanges
Loading required package: GenomicAlignments
Loading required package: SummarizedExperiment
Loading required package: MatrixGenerics
Loading required package: matrixStats
Attaching package: 'MatrixGenerics'
The following objects are masked from 'package:matrixStats':
colAlls, colAnyNAs, colAnys, colAvgsPerRowSet, colCollapse,
colCounts, colCummaxs, colCummins, colCumprods, colCumsums,
colDiffs, colIQRDiffs, colIQRs, colLogSumExps, colMadDiffs,
colMads, colMaxs, colMeans2, colMedians, colMins, colOrderStats,
colProds, colQuantiles, colRanges, colRanks, colSdDiffs, colSds,
colSums2, colTabulates, colVarDiffs, colVars, colWeightedMads,
colWeightedMeans, colWeightedMedians, colWeightedSds,
colWeightedVars, rowAlls, rowAnyNAs, rowAnys, rowAvgsPerColSet,
rowCollapse, rowCounts, rowCummaxs, rowCummins, rowCumprods,
rowCumsums, rowDiffs, rowIQRDiffs, rowIQRs, rowLogSumExps,
rowMadDiffs, rowMads, rowMaxs, rowMeans2, rowMedians, rowMins,
rowOrderStats, rowProds, rowQuantiles, rowRanges, rowRanks,
rowSdDiffs, rowSds, rowSums2, rowTabulates, rowVarDiffs, rowVars,
rowWeightedMads, rowWeightedMeans, rowWeightedMedians,
rowWeightedSds, rowWeightedVars
Loading required package: Biobase
Welcome to Bioconductor
Vignettes contain introductory material; view with
'browseVignettes()'. To cite Bioconductor, see
'citation("Biobase")', and for packages 'citation("pkgname")'.
Attaching package: 'Biobase'
The following object is masked from 'package:MatrixGenerics':
rowMedians
The following objects are masked from 'package:matrixStats':
anyMissing, rowMedians
Loading required package: ggplot2
>
> test_check("Rqc")
[ FAIL 0 | WARN 0 | SKIP 0 | PASS 27 ]
>
> proc.time()
user system elapsed
20.043 1.071 21.102
Rqc.Rcheck/Rqc-Ex.timings
| name | user | system | elapsed | |
| Rqc-package | 10.908 | 0.368 | 11.269 | |
| RqcResultSet-class | 0.019 | 0.001 | 0.020 | |
| checkpoint | 0.002 | 0.001 | 0.002 | |
| detectFileFormat | 0.003 | 0.000 | 0.003 | |
| fromRRDNA | 0.000 | 0.000 | 0.001 | |
| matdist | 0.000 | 0.000 | 0.001 | |
| rqc | 7.810 | 0.133 | 7.944 | |
| rqcCycleAverageQualityPcaPlot | 0.344 | 0.000 | 0.343 | |
| rqcCycleAverageQualityPlot | 0.293 | 0.012 | 0.305 | |
| rqcCycleBaseCallsPlot | 0.482 | 0.001 | 0.483 | |
| rqcCycleGCPlot | 0.243 | 0.001 | 0.244 | |
| rqcCycleQualityBoxPlot | 2.222 | 0.006 | 2.228 | |
| rqcCycleQualityPlot | 0.753 | 0.005 | 0.758 | |
| rqcFileHeatmap | 0.237 | 0.003 | 0.240 | |
| rqcGroupCycleAverageQualityPlot | 0.314 | 0.009 | 0.322 | |
| rqcQA | 0.209 | 0.000 | 0.209 | |
| rqcReadFrequencyPlot | 0.207 | 0.000 | 0.207 | |
| rqcReadQualityBoxPlot | 0.295 | 0.000 | 0.295 | |
| rqcReadQualityPlot | 0.226 | 0.001 | 0.227 | |
| rqcReadWidthPlot | 0.250 | 0.002 | 0.252 | |
| rqcReport | 8.602 | 0.266 | 8.869 | |
| rqcShinyReport | 0.002 | 0.001 | 0.003 | |
| stats4trim | 0.060 | 0.002 | 0.062 | |
| subsetByGroup | 0.446 | 0.009 | 0.455 | |
| subsetByPair | 0.004 | 0.000 | 0.004 | |
| toRRDNA | 0 | 0 | 0 | |