| Back to Multiple platform build/check report for BioC 3.22: simplified long |
|
This page was generated on 2025-11-07 12:01 -0500 (Fri, 07 Nov 2025).
| Hostname | OS | Arch (*) | R version | Installed pkgs |
|---|---|---|---|---|
| nebbiolo2 | Linux (Ubuntu 24.04.3 LTS) | x86_64 | 4.5.1 Patched (2025-08-23 r88802) -- "Great Square Root" | 4902 |
| kjohnson3 | macOS 13.7.7 Ventura | arm64 | 4.5.1 Patched (2025-09-10 r88807) -- "Great Square Root" | 4638 |
| Click on any hostname to see more info about the system (e.g. compilers) (*) as reported by 'uname -p', except on Windows and Mac OS X | ||||
| Package 1757/2361 | Hostname | OS / Arch | INSTALL | BUILD | CHECK | BUILD BIN | ||||||||
| ReducedExperiment 1.2.0 (landing page) Jack Gisby
| nebbiolo2 | Linux (Ubuntu 24.04.3 LTS) / x86_64 | OK | OK | OK | |||||||||
| kjohnson3 | macOS 13.7.7 Ventura / arm64 | OK | OK | OK | OK | |||||||||
|
To the developers/maintainers of the ReducedExperiment package: - Allow up to 24 hours (and sometimes 48 hours) for your latest push to git@git.bioconductor.org:packages/ReducedExperiment.git to reflect on this report. See Troubleshooting Build Report for more information. - Use the following Renviron settings to reproduce errors and warnings. - If 'R CMD check' started to fail recently on the Linux builder(s) over a missing dependency, add the missing dependency to 'Suggests:' in your DESCRIPTION file. See Renviron.bioc for more information. |
| Package: ReducedExperiment |
| Version: 1.2.0 |
| Command: /Library/Frameworks/R.framework/Resources/bin/R CMD check --install=check:ReducedExperiment.install-out.txt --library=/Library/Frameworks/R.framework/Resources/library --no-vignettes --timings ReducedExperiment_1.2.0.tar.gz |
| StartedAt: 2025-11-06 21:36:45 -0500 (Thu, 06 Nov 2025) |
| EndedAt: 2025-11-06 21:39:52 -0500 (Thu, 06 Nov 2025) |
| EllapsedTime: 187.2 seconds |
| RetCode: 0 |
| Status: OK |
| CheckDir: ReducedExperiment.Rcheck |
| Warnings: 0 |
##############################################################################
##############################################################################
###
### Running command:
###
### /Library/Frameworks/R.framework/Resources/bin/R CMD check --install=check:ReducedExperiment.install-out.txt --library=/Library/Frameworks/R.framework/Resources/library --no-vignettes --timings ReducedExperiment_1.2.0.tar.gz
###
##############################################################################
##############################################################################
* using log directory ‘/Users/biocbuild/bbs-3.22-bioc/meat/ReducedExperiment.Rcheck’
* using R version 4.5.1 Patched (2025-09-10 r88807)
* using platform: aarch64-apple-darwin20
* R was compiled by
Apple clang version 16.0.0 (clang-1600.0.26.6)
GNU Fortran (GCC) 14.2.0
* running under: macOS Ventura 13.7.7
* using session charset: UTF-8
* using option ‘--no-vignettes’
* checking for file ‘ReducedExperiment/DESCRIPTION’ ... OK
* checking extension type ... Package
* this is package ‘ReducedExperiment’ version ‘1.2.0’
* package encoding: UTF-8
* checking package namespace information ... OK
* checking package dependencies ... OK
* checking if this is a source package ... OK
* checking if there is a namespace ... OK
* checking for hidden files and directories ... OK
* checking for portable file names ... OK
* checking for sufficient/correct file permissions ... OK
* checking whether package ‘ReducedExperiment’ can be installed ... OK
* checking installed package size ... OK
* checking package directory ... OK
* checking ‘build’ directory ... OK
* checking DESCRIPTION meta-information ... OK
* checking top-level files ... OK
* checking for left-over files ... OK
* checking index information ... OK
* checking package subdirectories ... OK
* checking code files for non-ASCII characters ... OK
* checking R files for syntax errors ... OK
* checking whether the package can be loaded ... OK
* checking whether the package can be loaded with stated dependencies ... OK
* checking whether the package can be unloaded cleanly ... OK
* checking whether the namespace can be loaded with stated dependencies ... OK
* checking whether the namespace can be unloaded cleanly ... OK
* checking dependencies in R code ... NOTE
Unexported objects imported by ':::' calls:
‘BiocGenerics:::replaceSlots’
‘SummarizedExperiment:::.SummarizedExperiment.charbound’
See the note in ?`:::` about the use of this operator.
* checking S3 generic/method consistency ... OK
* checking replacement functions ... OK
* checking foreign function calls ... OK
* checking R code for possible problems ... OK
* checking Rd files ... OK
* checking Rd metadata ... OK
* checking Rd cross-references ... OK
* checking for missing documentation entries ... OK
* checking for code/documentation mismatches ... OK
* checking Rd \usage sections ... OK
* checking Rd contents ... OK
* checking for unstated dependencies in examples ... OK
* checking files in ‘vignettes’ ... OK
* checking examples ... OK
Examples with CPU (user + system) or elapsed time > 5s
user system elapsed
getMsigdbT2G 18.145 0.177 18.416
identifyModules 9.320 0.065 9.423
runWGCNA 9.127 0.049 9.197
* checking for unstated dependencies in ‘tests’ ... OK
* checking tests ...
Running ‘testthat.R’
OK
* checking for unstated dependencies in vignettes ... OK
* checking package vignettes ... OK
* checking running R code from vignettes ... SKIPPED
* checking re-building of vignette outputs ... SKIPPED
* checking PDF version of manual ... OK
* DONE
Status: 1 NOTE
See
‘/Users/biocbuild/bbs-3.22-bioc/meat/ReducedExperiment.Rcheck/00check.log’
for details.
ReducedExperiment.Rcheck/00install.out
############################################################################## ############################################################################## ### ### Running command: ### ### /Library/Frameworks/R.framework/Resources/bin/R CMD INSTALL ReducedExperiment ### ############################################################################## ############################################################################## * installing to library ‘/Library/Frameworks/R.framework/Versions/4.5-arm64/Resources/library’ * installing *source* package ‘ReducedExperiment’ ... ** this is package ‘ReducedExperiment’ version ‘1.2.0’ ** using staged installation ** R ** inst ** byte-compile and prepare package for lazy loading Creating a new generic function for ‘loadings’ in package ‘ReducedExperiment’ ** help *** installing help indices ** building package indices ** installing vignettes ** testing if installed package can be loaded from temporary location ** testing if installed package can be loaded from final location ** testing if installed package keeps a record of temporary installation path * DONE (ReducedExperiment)
ReducedExperiment.Rcheck/tests/testthat.Rout
R version 4.5.1 Patched (2025-09-10 r88807) -- "Great Square Root"
Copyright (C) 2025 The R Foundation for Statistical Computing
Platform: aarch64-apple-darwin20
R is free software and comes with ABSOLUTELY NO WARRANTY.
You are welcome to redistribute it under certain conditions.
Type 'license()' or 'licence()' for distribution details.
R is a collaborative project with many contributors.
Type 'contributors()' for more information and
'citation()' on how to cite R or R packages in publications.
Type 'demo()' for some demos, 'help()' for on-line help, or
'help.start()' for an HTML browser interface to help.
Type 'q()' to quit R.
> library(testthat)
> library(ReducedExperiment)
Loading required package: SummarizedExperiment
Loading required package: MatrixGenerics
Loading required package: matrixStats
Attaching package: 'MatrixGenerics'
The following objects are masked from 'package:matrixStats':
colAlls, colAnyNAs, colAnys, colAvgsPerRowSet, colCollapse,
colCounts, colCummaxs, colCummins, colCumprods, colCumsums,
colDiffs, colIQRDiffs, colIQRs, colLogSumExps, colMadDiffs,
colMads, colMaxs, colMeans2, colMedians, colMins, colOrderStats,
colProds, colQuantiles, colRanges, colRanks, colSdDiffs, colSds,
colSums2, colTabulates, colVarDiffs, colVars, colWeightedMads,
colWeightedMeans, colWeightedMedians, colWeightedSds,
colWeightedVars, rowAlls, rowAnyNAs, rowAnys, rowAvgsPerColSet,
rowCollapse, rowCounts, rowCummaxs, rowCummins, rowCumprods,
rowCumsums, rowDiffs, rowIQRDiffs, rowIQRs, rowLogSumExps,
rowMadDiffs, rowMads, rowMaxs, rowMeans2, rowMedians, rowMins,
rowOrderStats, rowProds, rowQuantiles, rowRanges, rowRanks,
rowSdDiffs, rowSds, rowSums2, rowTabulates, rowVarDiffs, rowVars,
rowWeightedMads, rowWeightedMeans, rowWeightedMedians,
rowWeightedSds, rowWeightedVars
Loading required package: GenomicRanges
Loading required package: stats4
Loading required package: BiocGenerics
Loading required package: generics
Attaching package: 'generics'
The following objects are masked from 'package:base':
as.difftime, as.factor, as.ordered, intersect, is.element, setdiff,
setequal, union
Attaching package: 'BiocGenerics'
The following objects are masked from 'package:stats':
IQR, mad, sd, var, xtabs
The following objects are masked from 'package:base':
Filter, Find, Map, Position, Reduce, anyDuplicated, aperm, append,
as.data.frame, basename, cbind, colnames, dirname, do.call,
duplicated, eval, evalq, get, grep, grepl, is.unsorted, lapply,
mapply, match, mget, order, paste, pmax, pmax.int, pmin, pmin.int,
rank, rbind, rownames, sapply, saveRDS, table, tapply, unique,
unsplit, which.max, which.min
Loading required package: S4Vectors
Attaching package: 'S4Vectors'
The following object is masked from 'package:utils':
findMatches
The following objects are masked from 'package:base':
I, expand.grid, unname
Loading required package: IRanges
Loading required package: Seqinfo
Loading required package: Biobase
Welcome to Bioconductor
Vignettes contain introductory material; view with
'browseVignettes()'. To cite Bioconductor, see
'citation("Biobase")', and for packages 'citation("pkgname")'.
Attaching package: 'Biobase'
The following object is masked from 'package:MatrixGenerics':
rowMedians
The following objects are masked from 'package:matrixStats':
anyMissing, rowMedians
Attaching package: 'ReducedExperiment'
The following objects are masked from 'package:Biobase':
featureNames, featureNames<-, sampleNames, sampleNames<-
The following object is masked from 'package:stats':
loadings
>
> test_check("ReducedExperiment")
class: FactorisedExperiment
dim: 300 100 10
metadata(0):
assays(1): normal
rownames(300): gene_1 gene_2 ... gene_299 gene_300
rowData names(0):
colnames(100): sample_1 sample_2 ... sample_99 sample_100
colData names(0):
10 components
class: ModularExperiment
dim: 300 100 10
metadata(0):
assays(1): normal
rownames(300): gene_1 gene_2 ... gene_299 gene_300
rowData names(0):
colnames(100): sample_1 sample_2 ... sample_99 sample_100
colData names(0):
10 components
class: ReducedExperiment
dim: 300 100 10
metadata(0):
assays(1): normal
rownames(300): gene_1 gene_2 ... gene_299 gene_300
rowData names(0):
colnames(100): sample_1 sample_2 ... sample_99 sample_100
colData names(0):
10 components
|
| | 0%
|
|=================================== | 50%
|
|======================================================================| 100%
|
| | 0%
|
|=================================== | 50%
|
|======================================================================| 100%
[ FAIL 0 | WARN 0 | SKIP 1 | PASS 579 ]
══ Skipped tests (1) ═══════════════════════════════════════════════════════════
• {msigdbdf} is not installed (1): 'test_features.R:83:5'
[ FAIL 0 | WARN 0 | SKIP 1 | PASS 579 ]
>
> proc.time()
user system elapsed
41.460 0.662 42.234
ReducedExperiment.Rcheck/ReducedExperiment-Ex.timings
| name | user | system | elapsed | |
| assessSoftThreshold | 2.577 | 0.070 | 2.670 | |
| associateComponents | 0.337 | 0.019 | 0.361 | |
| calcEigengenes | 0.022 | 0.003 | 0.026 | |
| cbind_rbind | 0.091 | 0.009 | 0.100 | |
| component_names | 0.009 | 0.000 | 0.010 | |
| dim-ReducedExperiment-method | 0.006 | 0.001 | 0.006 | |
| enrichment | 1.276 | 0.051 | 1.330 | |
| estimateFactors | 0.048 | 0.001 | 0.048 | |
| estimateStability | 2.347 | 0.121 | 2.468 | |
| factorised_experiment | 0.011 | 0.000 | 0.011 | |
| feature_names | 0.009 | 0.001 | 0.009 | |
| getAlignedFeatures | 0.036 | 0.000 | 0.036 | |
| getCentrality | 0.019 | 0.001 | 0.020 | |
| getCommonFeatures | 0.043 | 0.002 | 0.045 | |
| getMsigdbT2G | 18.145 | 0.177 | 18.416 | |
| get_gene_ids | 1.103 | 0.017 | 1.154 | |
| identifyModules | 9.320 | 0.065 | 9.423 | |
| individual_dims | 0.013 | 0.001 | 0.014 | |
| loadings | 0.010 | 0.000 | 0.012 | |
| modular_experiment | 0.009 | 0.000 | 0.009 | |
| modulePreservation | 4.594 | 0.007 | 4.603 | |
| module_assignments | 0.018 | 0.001 | 0.020 | |
| module_dendrogram | 0.020 | 0.001 | 0.022 | |
| plotCommonFeatures | 0.051 | 0.002 | 0.053 | |
| plotDendro | 0.016 | 0.001 | 0.016 | |
| plotModulePreservation | 4.496 | 0.010 | 4.530 | |
| plotStability | 1.760 | 0.141 | 1.904 | |
| projectData | 0.025 | 0.001 | 0.025 | |
| reduced | 0.008 | 0.001 | 0.008 | |
| reduced_experiment | 0.008 | 0.000 | 0.008 | |
| runICA | 0.026 | 0.002 | 0.027 | |
| runWGCNA | 9.127 | 0.049 | 9.197 | |
| sample_names | 0.009 | 0.001 | 0.010 | |
| show | 0.007 | 0.000 | 0.007 | |
| slice | 0.042 | 0.001 | 0.043 | |
| stability | 0.108 | 0.001 | 0.108 | |