Back to Multiple platform build/check report for BioC 3.22:   simplified   long
ABCDEFGHIJKLMNOPQ[R]STUVWXYZ

This page was generated on 2025-11-24 12:06 -0500 (Mon, 24 Nov 2025).

HostnameOSArch (*)R versionInstalled pkgs
nebbiolo2Linux (Ubuntu 24.04.3 LTS)x86_644.5.2 (2025-10-31) -- "[Not] Part in a Rumble" 4873
merida1macOS 12.7.6 Montereyx86_644.5.2 Patched (2025-11-05 r88990) -- "[Not] Part in a Rumble" 4654
kjohnson1macOS 13.7.5 Venturaarm644.5.2 Patched (2025-11-04 r88984) -- "[Not] Part in a Rumble" 4600
taishanLinux (openEuler 24.03 LTS)aarch644.5.0 (2025-04-11) -- "How About a Twenty-Six" 4668
Click on any hostname to see more info about the system (e.g. compilers)      (*) as reported by 'uname -p', except on Windows and Mac OS X

Package 1757/2361HostnameOS / ArchINSTALLBUILDCHECKBUILD BIN
ReducedExperiment 1.2.0  (landing page)
Jack Gisby
Snapshot Date: 2025-11-20 15:01 -0500 (Thu, 20 Nov 2025)
git_url: https://git.bioconductor.org/packages/ReducedExperiment
git_branch: RELEASE_3_22
git_last_commit: 5622222
git_last_commit_date: 2025-10-29 11:33:37 -0500 (Wed, 29 Oct 2025)
nebbiolo2Linux (Ubuntu 24.04.3 LTS) / x86_64  OK    OK    OK  UNNEEDED, same version is already published
merida1macOS 12.7.6 Monterey / x86_64  OK    OK    OK    OK  UNNEEDED, same version is already published
kjohnson1macOS 13.7.5 Ventura / arm64  OK    OK    ERROR    OK  
taishanLinux (openEuler 24.03 LTS) / aarch64  OK    OK    OK  


CHECK results for ReducedExperiment on kjohnson1

To the developers/maintainers of the ReducedExperiment package:
- Allow up to 24 hours (and sometimes 48 hours) for your latest push to git@git.bioconductor.org:packages/ReducedExperiment.git to reflect on this report. See Troubleshooting Build Report for more information.
- Use the following Renviron settings to reproduce errors and warnings.
- If 'R CMD check' started to fail recently on the Linux builder(s) over a missing dependency, add the missing dependency to 'Suggests:' in your DESCRIPTION file. See Renviron.bioc for more information.

raw results


Summary

Package: ReducedExperiment
Version: 1.2.0
Command: /Library/Frameworks/R.framework/Resources/bin/R CMD check --install=check:ReducedExperiment.install-out.txt --library=/Library/Frameworks/R.framework/Resources/library --no-vignettes --timings ReducedExperiment_1.2.0.tar.gz
StartedAt: 2025-11-22 19:53:55 -0500 (Sat, 22 Nov 2025)
EndedAt: 2025-11-22 20:06:24 -0500 (Sat, 22 Nov 2025)
EllapsedTime: 748.4 seconds
RetCode: 1
Status:   ERROR  
CheckDir: ReducedExperiment.Rcheck
Warnings: NA

Command output

##############################################################################
##############################################################################
###
### Running command:
###
###   /Library/Frameworks/R.framework/Resources/bin/R CMD check --install=check:ReducedExperiment.install-out.txt --library=/Library/Frameworks/R.framework/Resources/library --no-vignettes --timings ReducedExperiment_1.2.0.tar.gz
###
##############################################################################
##############################################################################


* using log directory ‘/Users/biocbuild/bbs-3.22-bioc/meat/ReducedExperiment.Rcheck’
* using R version 4.5.2 Patched (2025-11-04 r88984)
* using platform: aarch64-apple-darwin20
* R was compiled by
    Apple clang version 16.0.0 (clang-1600.0.26.6)
    GNU Fortran (GCC) 14.2.0
* running under: macOS Ventura 13.7.8
* using session charset: UTF-8
* using option ‘--no-vignettes’
* checking for file ‘ReducedExperiment/DESCRIPTION’ ... OK
* checking extension type ... Package
* this is package ‘ReducedExperiment’ version ‘1.2.0’
* package encoding: UTF-8
* checking package namespace information ... OK
* checking package dependencies ... OK
* checking if this is a source package ... OK
* checking if there is a namespace ... OK
* checking for hidden files and directories ... OK
* checking for portable file names ... OK
* checking for sufficient/correct file permissions ... OK
* checking whether package ‘ReducedExperiment’ can be installed ... OK
* checking installed package size ... OK
* checking package directory ... OK
* checking ‘build’ directory ... OK
* checking DESCRIPTION meta-information ... OK
* checking top-level files ... OK
* checking for left-over files ... OK
* checking index information ... OK
* checking package subdirectories ... OK
* checking code files for non-ASCII characters ... OK
* checking R files for syntax errors ... OK
* checking whether the package can be loaded ... OK
* checking whether the package can be loaded with stated dependencies ... OK
* checking whether the package can be unloaded cleanly ... OK
* checking whether the namespace can be loaded with stated dependencies ... OK
* checking whether the namespace can be unloaded cleanly ... OK
* checking dependencies in R code ... NOTE
Unexported objects imported by ':::' calls:
  ‘BiocGenerics:::replaceSlots’
  ‘SummarizedExperiment:::.SummarizedExperiment.charbound’
  See the note in ?`:::` about the use of this operator.
* checking S3 generic/method consistency ... OK
* checking replacement functions ... OK
* checking foreign function calls ... OK
* checking R code for possible problems ... OK
* checking Rd files ... OK
* checking Rd metadata ... OK
* checking Rd cross-references ... OK
* checking for missing documentation entries ... OK
* checking for code/documentation mismatches ... OK
* checking Rd \usage sections ... OK
* checking Rd contents ... OK
* checking for unstated dependencies in examples ... OK
* checking files in ‘vignettes’ ... OK
* checking examples ... OK
Examples with CPU (user + system) or elapsed time > 5s
                         user system elapsed
getMsigdbT2G           57.740  0.664  69.831
identifyModules        28.991  0.331  38.353
runWGCNA               28.843  0.296  41.123
modulePreservation     14.793  0.104  20.238
plotModulePreservation 13.841  0.084  18.504
assessSoftThreshold     8.321  0.233  10.366
estimateStability       5.141  0.161   6.667
enrichment              4.295  0.183   5.638
plotStability           3.628  0.316   5.097
* checking for unstated dependencies in ‘tests’ ... OK
* checking tests ...
  Running ‘testthat.R’
 ERROR
Running the tests in ‘tests/testthat.R’ failed.
Last 13 lines of output:
  Differences:
  2/2 mismatches (average diff: 0.82)
  [1] -1.24 - -0.646 == -0.597
  [2] -0.20 - -1.243 ==  1.043
  ── Failure ('test_factors.R:57:5'): Stability ──────────────────────────────────
  Expected `loadings(airway_fe_bootstrap)[1, ]` to equal `c(factor_1 = -0.6539, factor_2 = -0.0837)`.
  Differences:
  2/2 mismatches (average diff: 0.523)
  [1] -0.0837 - -0.6539 ==  0.570
  [2] -0.5602 - -0.0837 == -0.476
  
  [ FAIL 2 | WARN 2 | SKIP 1 | PASS 577 ]
  Error:
  ! Test failures.
  Execution halted
* checking for unstated dependencies in vignettes ... OK
* checking package vignettes ... OK
* checking running R code from vignettes ... SKIPPED
* checking re-building of vignette outputs ... SKIPPED
* checking PDF version of manual ... OK
* DONE

Status: 1 ERROR, 1 NOTE
See
  ‘/Users/biocbuild/bbs-3.22-bioc/meat/ReducedExperiment.Rcheck/00check.log’
for details.


Installation output

ReducedExperiment.Rcheck/00install.out

##############################################################################
##############################################################################
###
### Running command:
###
###   /Library/Frameworks/R.framework/Resources/bin/R CMD INSTALL ReducedExperiment
###
##############################################################################
##############################################################################


* installing to library ‘/Library/Frameworks/R.framework/Versions/4.5-arm64/Resources/library’
* installing *source* package ‘ReducedExperiment’ ...
** this is package ‘ReducedExperiment’ version ‘1.2.0’
** using staged installation
** R
** inst
** byte-compile and prepare package for lazy loading
Creating a new generic function for ‘loadings’ in package ‘ReducedExperiment’
** help
*** installing help indices
** building package indices
** installing vignettes
** testing if installed package can be loaded from temporary location
** testing if installed package can be loaded from final location
** testing if installed package keeps a record of temporary installation path
* DONE (ReducedExperiment)

Tests output

ReducedExperiment.Rcheck/tests/testthat.Rout.fail


R version 4.5.2 Patched (2025-11-04 r88984) -- "[Not] Part in a Rumble"
Copyright (C) 2025 The R Foundation for Statistical Computing
Platform: aarch64-apple-darwin20

R is free software and comes with ABSOLUTELY NO WARRANTY.
You are welcome to redistribute it under certain conditions.
Type 'license()' or 'licence()' for distribution details.

R is a collaborative project with many contributors.
Type 'contributors()' for more information and
'citation()' on how to cite R or R packages in publications.

Type 'demo()' for some demos, 'help()' for on-line help, or
'help.start()' for an HTML browser interface to help.
Type 'q()' to quit R.

> library(testthat)
> library(ReducedExperiment)
Loading required package: SummarizedExperiment
Loading required package: MatrixGenerics
Loading required package: matrixStats

Attaching package: 'MatrixGenerics'

The following objects are masked from 'package:matrixStats':

    colAlls, colAnyNAs, colAnys, colAvgsPerRowSet, colCollapse,
    colCounts, colCummaxs, colCummins, colCumprods, colCumsums,
    colDiffs, colIQRDiffs, colIQRs, colLogSumExps, colMadDiffs,
    colMads, colMaxs, colMeans2, colMedians, colMins, colOrderStats,
    colProds, colQuantiles, colRanges, colRanks, colSdDiffs, colSds,
    colSums2, colTabulates, colVarDiffs, colVars, colWeightedMads,
    colWeightedMeans, colWeightedMedians, colWeightedSds,
    colWeightedVars, rowAlls, rowAnyNAs, rowAnys, rowAvgsPerColSet,
    rowCollapse, rowCounts, rowCummaxs, rowCummins, rowCumprods,
    rowCumsums, rowDiffs, rowIQRDiffs, rowIQRs, rowLogSumExps,
    rowMadDiffs, rowMads, rowMaxs, rowMeans2, rowMedians, rowMins,
    rowOrderStats, rowProds, rowQuantiles, rowRanges, rowRanks,
    rowSdDiffs, rowSds, rowSums2, rowTabulates, rowVarDiffs, rowVars,
    rowWeightedMads, rowWeightedMeans, rowWeightedMedians,
    rowWeightedSds, rowWeightedVars

Loading required package: GenomicRanges
Loading required package: stats4
Loading required package: BiocGenerics
Loading required package: generics

Attaching package: 'generics'

The following objects are masked from 'package:base':

    as.difftime, as.factor, as.ordered, intersect, is.element, setdiff,
    setequal, union


Attaching package: 'BiocGenerics'

The following objects are masked from 'package:stats':

    IQR, mad, sd, var, xtabs

The following objects are masked from 'package:base':

    Filter, Find, Map, Position, Reduce, anyDuplicated, aperm, append,
    as.data.frame, basename, cbind, colnames, dirname, do.call,
    duplicated, eval, evalq, get, grep, grepl, is.unsorted, lapply,
    mapply, match, mget, order, paste, pmax, pmax.int, pmin, pmin.int,
    rank, rbind, rownames, sapply, saveRDS, table, tapply, unique,
    unsplit, which.max, which.min

Loading required package: S4Vectors

Attaching package: 'S4Vectors'

The following object is masked from 'package:utils':

    findMatches

The following objects are masked from 'package:base':

    I, expand.grid, unname

Loading required package: IRanges
Loading required package: Seqinfo
Loading required package: Biobase
Welcome to Bioconductor

    Vignettes contain introductory material; view with
    'browseVignettes()'. To cite Bioconductor, see
    'citation("Biobase")', and for packages 'citation("pkgname")'.


Attaching package: 'Biobase'

The following object is masked from 'package:MatrixGenerics':

    rowMedians

The following objects are masked from 'package:matrixStats':

    anyMissing, rowMedians


Attaching package: 'ReducedExperiment'

The following objects are masked from 'package:Biobase':

    featureNames, featureNames<-, sampleNames, sampleNames<-

The following object is masked from 'package:stats':

    loadings

> 
> test_check("ReducedExperiment")
class: FactorisedExperiment 
dim: 300 100 10 
metadata(0):
assays(1): normal
rownames(300): gene_1 gene_2 ... gene_299 gene_300
rowData names(0):
colnames(100): sample_1 sample_2 ... sample_99 sample_100
colData names(0):
10 components
class: ModularExperiment 
dim: 300 100 10 
metadata(0):
assays(1): normal
rownames(300): gene_1 gene_2 ... gene_299 gene_300
rowData names(0):
colnames(100): sample_1 sample_2 ... sample_99 sample_100
colData names(0):
10 components
class: ReducedExperiment 
dim: 300 100 10 
metadata(0):
assays(1): normal
rownames(300): gene_1 gene_2 ... gene_299 gene_300
rowData names(0):
colnames(100): sample_1 sample_2 ... sample_99 sample_100
colData names(0):
10 components

  |                                                                            
  |                                                                      |   0%
  |                                                                            
  |===================================                                   |  50%
  |                                                                            
  |======================================================================| 100%

  |                                                                            
  |                                                                      |   0%
  |                                                                            
  |===================================                                   |  50%
  |                                                                            
  |======================================================================| 100%
Saving _problems/test_factors-56.R
Saving _problems/test_factors-57.R
[ FAIL 2 | WARN 2 | SKIP 1 | PASS 577 ]

══ Skipped tests (1) ═══════════════════════════════════════════════════════════
• {msigdbdf} is not installed (1): 'test_features.R:83:5'

══ Failed tests ════════════════════════════════════════════════════════════════
── Failure ('test_factors.R:56:5'): Stability ──────────────────────────────────
Expected `reduced(airway_fe_bootstrap)[1, ]` to equal `c(factor_1 = -0.6462, factor_2 = -1.2427)`.
Differences:
2/2 mismatches (average diff: 0.82)
[1] -1.24 - -0.646 == -0.597
[2] -0.20 - -1.243 ==  1.043
── Failure ('test_factors.R:57:5'): Stability ──────────────────────────────────
Expected `loadings(airway_fe_bootstrap)[1, ]` to equal `c(factor_1 = -0.6539, factor_2 = -0.0837)`.
Differences:
2/2 mismatches (average diff: 0.523)
[1] -0.0837 - -0.6539 ==  0.570
[2] -0.5602 - -0.0837 == -0.476

[ FAIL 2 | WARN 2 | SKIP 1 | PASS 577 ]
Error:
! Test failures.
Execution halted

Example timings

ReducedExperiment.Rcheck/ReducedExperiment-Ex.timings

nameusersystemelapsed
assessSoftThreshold 8.321 0.23310.366
associateComponents1.2140.0591.627
calcEigengenes0.0820.0080.097
cbind_rbind0.3530.0290.449
component_names0.0780.0050.090
dim-ReducedExperiment-method0.0210.0000.026
enrichment4.2950.1835.638
estimateFactors0.1710.0030.191
estimateStability5.1410.1616.667
factorised_experiment0.0440.0010.055
feature_names0.0280.0000.029
getAlignedFeatures0.1280.0020.157
getCentrality0.0710.0030.090
getCommonFeatures0.1400.0050.201
getMsigdbT2G57.740 0.66469.831
get_gene_ids3.5710.0704.462
identifyModules28.991 0.33138.353
individual_dims0.0500.0010.053
loadings0.0420.0010.044
modular_experiment0.0360.0010.037
modulePreservation14.793 0.10420.238
module_assignments0.0730.0030.104
module_dendrogram0.0700.0030.086
plotCommonFeatures0.1800.0050.267
plotDendro0.0490.0030.064
plotModulePreservation13.841 0.08418.504
plotStability3.6280.3165.097
projectData0.0870.0030.102
reduced0.0330.0010.037
reduced_experiment0.0290.0010.033
runICA0.0930.0020.118
runWGCNA28.843 0.29641.123
sample_names0.0320.0010.034
show0.0270.0010.030
slice0.1550.0020.179
stability0.3800.0070.436