Back to Multiple platform build/check report for BioC 3.20:   simplified   long
ABCDEFGHIJKLMNOPQ[R]STUVWXYZ

This page was generated on 2025-02-03 12:09 -0500 (Mon, 03 Feb 2025).

HostnameOSArch (*)R versionInstalled pkgs
nebbiolo2Linux (Ubuntu 24.04.1 LTS)x86_644.4.2 (2024-10-31) -- "Pile of Leaves" 4746
palomino8Windows Server 2022 Datacenterx644.4.2 (2024-10-31 ucrt) -- "Pile of Leaves" 4494
merida1macOS 12.7.5 Montereyx86_644.4.2 (2024-10-31) -- "Pile of Leaves" 4517
kjohnson1macOS 13.6.6 Venturaarm644.4.2 (2024-10-31) -- "Pile of Leaves" 4469
taishanLinux (openEuler 24.03 LTS)aarch644.4.2 (2024-10-31) -- "Pile of Leaves" 4400
Click on any hostname to see more info about the system (e.g. compilers)      (*) as reported by 'uname -p', except on Windows and Mac OS X

Package 1686/2289HostnameOS / ArchINSTALLBUILDCHECKBUILD BIN
Rcpi 1.42.0  (landing page)
Nan Xiao
Snapshot Date: 2025-01-30 13:00 -0500 (Thu, 30 Jan 2025)
git_url: https://git.bioconductor.org/packages/Rcpi
git_branch: RELEASE_3_20
git_last_commit: c03a28c
git_last_commit_date: 2024-10-29 09:50:50 -0500 (Tue, 29 Oct 2024)
nebbiolo2Linux (Ubuntu 24.04.1 LTS) / x86_64  OK    OK    OK  UNNEEDED, same version is already published
palomino8Windows Server 2022 Datacenter / x64  OK    OK    OK    OK  UNNEEDED, same version is already published
merida1macOS 12.7.5 Monterey / x86_64  OK    OK    OK    OK  UNNEEDED, same version is already published
kjohnson1macOS 13.6.6 Ventura / arm64  OK    OK    OK    OK  UNNEEDED, same version is already published
taishanLinux (openEuler 24.03 LTS) / aarch64  OK    OK    OK  


CHECK results for Rcpi on merida1

To the developers/maintainers of the Rcpi package:
- Allow up to 24 hours (and sometimes 48 hours) for your latest push to git@git.bioconductor.org:packages/Rcpi.git to reflect on this report. See Troubleshooting Build Report for more information.
- Use the following Renviron settings to reproduce errors and warnings.
- If 'R CMD check' started to fail recently on the Linux builder(s) over a missing dependency, add the missing dependency to 'Suggests:' in your DESCRIPTION file. See Renviron.bioc for more information.

raw results


Summary

Package: Rcpi
Version: 1.42.0
Command: /Library/Frameworks/R.framework/Resources/bin/R CMD check --install=check:Rcpi.install-out.txt --library=/Library/Frameworks/R.framework/Resources/library --no-vignettes --timings Rcpi_1.42.0.tar.gz
StartedAt: 2025-01-31 08:40:45 -0500 (Fri, 31 Jan 2025)
EndedAt: 2025-01-31 08:45:02 -0500 (Fri, 31 Jan 2025)
EllapsedTime: 257.1 seconds
RetCode: 0
Status:   OK  
CheckDir: Rcpi.Rcheck
Warnings: 0

Command output

##############################################################################
##############################################################################
###
### Running command:
###
###   /Library/Frameworks/R.framework/Resources/bin/R CMD check --install=check:Rcpi.install-out.txt --library=/Library/Frameworks/R.framework/Resources/library --no-vignettes --timings Rcpi_1.42.0.tar.gz
###
##############################################################################
##############################################################################


* using log directory ‘/Users/biocbuild/bbs-3.20-bioc/meat/Rcpi.Rcheck’
* using R version 4.4.2 (2024-10-31)
* using platform: x86_64-apple-darwin20
* R was compiled by
    Apple clang version 14.0.0 (clang-1400.0.29.202)
    GNU Fortran (GCC) 12.2.0
* running under: macOS Monterey 12.7.6
* using session charset: UTF-8
* using option ‘--no-vignettes’
* checking for file ‘Rcpi/DESCRIPTION’ ... OK
* checking extension type ... Package
* this is package ‘Rcpi’ version ‘1.42.0’
* package encoding: UTF-8
* checking package namespace information ... OK
* checking package dependencies ... OK
* checking if this is a source package ... OK
* checking if there is a namespace ... OK
* checking for hidden files and directories ... OK
* checking for portable file names ... OK
* checking for sufficient/correct file permissions ... OK
* checking whether package ‘Rcpi’ can be installed ... OK
* checking installed package size ... OK
* checking package directory ... OK
* checking ‘build’ directory ... OK
* checking DESCRIPTION meta-information ... OK
* checking top-level files ... OK
* checking for left-over files ... OK
* checking index information ... OK
* checking package subdirectories ... OK
* checking code files for non-ASCII characters ... OK
* checking R files for syntax errors ... OK
* checking whether the package can be loaded ... OK
* checking whether the package can be loaded with stated dependencies ... OK
* checking whether the package can be unloaded cleanly ... OK
* checking whether the namespace can be loaded with stated dependencies ... OK
* checking whether the namespace can be unloaded cleanly ... OK
* checking dependencies in R code ... OK
* checking S3 generic/method consistency ... OK
* checking replacement functions ... OK
* checking foreign function calls ... OK
* checking R code for possible problems ... OK
* checking Rd files ... OK
* checking Rd metadata ... OK
* checking Rd cross-references ... OK
* checking for missing documentation entries ... OK
* checking for code/documentation mismatches ... OK
* checking Rd \usage sections ... OK
* checking Rd contents ... OK
* checking for unstated dependencies in examples ... OK
* checking contents of ‘data’ directory ... OK
* checking data for non-ASCII characters ... OK
* checking LazyData ... OK
* checking data for ASCII and uncompressed saves ... OK
* checking files in ‘vignettes’ ... OK
* checking examples ... OK
* checking for unstated dependencies in ‘tests’ ... OK
* checking tests ...
  Running ‘testthat.R’
 OK
* checking for unstated dependencies in vignettes ... OK
* checking package vignettes ... OK
* checking running R code from vignettes ... SKIPPED
* checking re-building of vignette outputs ... SKIPPED
* checking PDF version of manual ... OK
* DONE

Status: OK


Installation output

Rcpi.Rcheck/00install.out

##############################################################################
##############################################################################
###
### Running command:
###
###   /Library/Frameworks/R.framework/Resources/bin/R CMD INSTALL Rcpi
###
##############################################################################
##############################################################################


* installing to library ‘/Library/Frameworks/R.framework/Versions/4.4-x86_64/Resources/library’
* installing *source* package ‘Rcpi’ ...
** using staged installation
** R
** data
*** moving datasets to lazyload DB
** inst
** byte-compile and prepare package for lazy loading
** help
*** installing help indices
*** copying figures
** building package indices
** installing vignettes
** testing if installed package can be loaded from temporary location
** testing if installed package can be loaded from final location
** testing if installed package keeps a record of temporary installation path
* DONE (Rcpi)

Tests output

Rcpi.Rcheck/tests/testthat.Rout


R version 4.4.2 (2024-10-31) -- "Pile of Leaves"
Copyright (C) 2024 The R Foundation for Statistical Computing
Platform: x86_64-apple-darwin20

R is free software and comes with ABSOLUTELY NO WARRANTY.
You are welcome to redistribute it under certain conditions.
Type 'license()' or 'licence()' for distribution details.

R is a collaborative project with many contributors.
Type 'contributors()' for more information and
'citation()' on how to cite R or R packages in publications.

Type 'demo()' for some demos, 'help()' for on-line help, or
'help.start()' for an HTML browser interface to help.
Type 'q()' to quit R.

> library(testthat)
> library(Rcpi)

> 
> test_check("Rcpi")
[ FAIL 0 | WARN 0 | SKIP 0 | PASS 22 ]
> 
> proc.time()
   user  system elapsed 
 13.167   1.001  14.378 

Example timings

Rcpi.Rcheck/Rcpi-Ex.timings

nameusersystemelapsed
AA2DACOR0.0030.0030.005
AA3DMoRSE0.0020.0020.005
AAACF0.0010.0030.005
AABLOSUM1000.0020.0030.004
AABLOSUM450.0010.0020.004
AABLOSUM500.0020.0020.004
AABLOSUM620.0010.0010.004
AABLOSUM800.0020.0020.004
AABurden0.0010.0020.004
AACPSA0.0020.0030.004
AAConn0.0020.0030.003
AAConst0.0010.0030.004
AADescAll0.0020.0020.004
AAEdgeAdj0.0020.0030.003
AAEigIdx0.0010.0030.004
AAFGC0.0020.0020.004
AAGETAWAY0.0020.0020.003
AAGeom0.0010.0020.004
AAInfo0.0020.0020.003
AAMOE2D0.0010.0010.003
AAMOE3D0.0020.0020.003
AAMetaInfo0.0010.0020.003
AAMolProp0.0020.0030.004
AAPAM1200.0020.0020.004
AAPAM2500.0010.0020.004
AAPAM300.0020.0030.004
AAPAM400.0010.0030.004
AAPAM700.0020.0030.004
AARDF0.0020.0030.004
AARandic0.0010.0020.003
AATopo0.0020.0030.004
AATopoChg0.0020.0030.004
AAWHIM0.0010.0020.003
AAWalk0.0020.0020.004
AAindex0.0010.0020.003
OptAA3d000
acc0.0200.0190.038
calcDrugFPSim0.0000.0000.001
calcDrugMCSSim0.0060.0060.014
calcParProtGOSim0.0000.0000.001
calcParProtSeqSim0.0110.0050.017
calcTwoProtGOSim0.0000.0010.001
calcTwoProtSeqSim0.0030.0010.005
checkProt0.0020.0010.003
convMolFormat0.0020.0010.003
extractDrugAIO0.0020.0000.002
extractDrugALOGP0.0010.0010.002
extractDrugAminoAcidCount0.0010.0000.002
extractDrugApol0.0020.0010.003
extractDrugAromaticAtomsCount0.0010.0010.003
extractDrugAromaticBondsCount0.0020.0010.003
extractDrugAtomCount0.0010.0000.003
extractDrugAutocorrelationCharge0.0020.0010.003
extractDrugAutocorrelationMass0.0010.0010.003
extractDrugAutocorrelationPolarizability0.0010.0010.002
extractDrugBCUT0.0020.0010.002
extractDrugBPol0.0010.0000.002
extractDrugBondCount0.0020.0010.002
extractDrugCPSA0.0010.0010.002
extractDrugCarbonTypes0.0020.0010.002
extractDrugChiChain0.0010.0010.002
extractDrugChiCluster0.0020.0010.002
extractDrugChiPath0.0020.0000.002
extractDrugChiPathCluster0.0010.0010.002
extractDrugDescOB0.0200.0080.029
extractDrugECI0.0010.0010.003
extractDrugEstate0.0020.0010.003
extractDrugEstateComplete0.0010.0000.002
extractDrugExtended0.0010.0010.002
extractDrugExtendedComplete0.0020.0010.003
extractDrugFMF0.0010.0010.003
extractDrugFragmentComplexity0.0020.0010.003
extractDrugGraph0.0010.0010.002
extractDrugGraphComplete0.0010.0000.002
extractDrugGravitationalIndex0.0020.0010.002
extractDrugHBondAcceptorCount0.0010.0000.003
extractDrugHBondDonorCount0.0010.0010.002
extractDrugHybridization0.0020.0010.002
extractDrugHybridizationComplete0.0010.0010.002
extractDrugHybridizationRatio0.0020.0010.002
extractDrugIPMolecularLearning0.0010.0010.002
extractDrugKR0.0020.0010.002
extractDrugKRComplete0.0010.0010.002
extractDrugKappaShapeIndices0.0010.0000.002
extractDrugKierHallSmarts0.0020.0010.002
extractDrugLargestChain0.0010.0010.002
extractDrugLargestPiSystem0.0010.0010.002
extractDrugLengthOverBreadth0.0020.0000.002
extractDrugLongestAliphaticChain0.0010.0010.003
extractDrugMACCS0.0010.0010.003
extractDrugMACCSComplete0.0020.0010.002
extractDrugMDE0.0010.0010.003
extractDrugMannholdLogP0.0020.0000.003
extractDrugMomentOfInertia0.0010.0010.003
extractDrugOBFP20.0100.0040.013
extractDrugOBFP30.0180.0070.025
extractDrugOBFP40.0100.0040.014
extractDrugOBMACCS0.0110.0060.017
extractDrugPetitjeanNumber0.0020.0010.002
extractDrugPetitjeanShapeIndex0.0010.0000.003
extractDrugPubChem0.0020.0010.002
extractDrugPubChemComplete0.0010.0010.002
extractDrugRotatableBondsCount0.0010.0000.003
extractDrugRuleOfFive0.0020.0010.002
extractDrugShortestPath0.0010.0010.002
extractDrugShortestPathComplete0.0010.0000.003
extractDrugStandard0.0020.0010.002
extractDrugStandardComplete0.0010.0010.002
extractDrugTPSA0.0020.0010.003
extractDrugVABC0.0010.0000.003
extractDrugVAdjMa0.0020.0010.002
extractDrugWHIM0.0010.0010.002
extractDrugWeight0.0020.0010.002
extractDrugWeightedPath0.0010.0000.002
extractDrugWienerNumbers0.0010.0010.003
extractDrugXLogP0.0020.0010.002
extractDrugZagrebIndex0.0010.0000.002
extractPCMBLOSUM0.1220.0080.132
extractPCMDescScales0.0210.0050.026
extractPCMFAScales0.0310.0070.038
extractPCMMDSScales0.0170.0060.023
extractPCMPropScales0.0210.0040.024
extractPCMScales0.0430.0060.049
extractProtAAC0.0040.0020.005
extractProtAPAAC1.8420.0561.910
extractProtCTDC0.0040.0020.006
extractProtCTDD0.0080.0040.012
extractProtCTDT0.0090.0030.013
extractProtCTriad0.1950.0230.219
extractProtDC0.0080.0130.022
extractProtGeary0.3120.0260.339
extractProtMoran0.2970.0260.329
extractProtMoreauBroto0.2930.0210.316
extractProtPAAC1.1970.0161.219
extractProtPSSM0.0020.0010.003
extractProtPSSMAcc0.0020.0010.003
extractProtPSSMFeature0.0020.0010.003
extractProtQSO2.2800.0222.312
extractProtSOCN2.2820.0172.387
extractProtTC0.0900.2430.376
getCPI0.0050.0030.011
getDrug000
getFASTAFromKEGG0.0000.0000.001
getFASTAFromUniProt0.0000.0000.001
getMolFromCAS0.0000.0000.002
getMolFromChEMBL000
getMolFromDrugBank0.0010.0000.000
getMolFromKEGG0.0000.0010.000
getMolFromPubChem0.0000.0010.000
getPDBFromRCSBPDB0.0000.0010.001
getPPI0.0050.0050.011
getProt0.0000.0000.001
getSeqFromKEGG0.0000.0000.001
getSeqFromRCSBPDB000
getSeqFromUniProt0.0000.0000.001
getSmiFromChEMBL000
getSmiFromDrugBank000
getSmiFromKEGG000
getSmiFromPubChem0.0000.0000.001
readFASTA0.0020.0010.006
readMolFromSDF0.0040.0020.007
readMolFromSmi0.0020.0010.002
readPDB1.5880.0111.816
searchDrug0.0030.0010.009
segProt0.0040.0040.010