Back to Multiple platform build/check report for BioC 3.20:   simplified   long
ABCDEFGHIJKLMNOPQ[R]STUVWXYZ

This page was generated on 2025-02-03 12:09 -0500 (Mon, 03 Feb 2025).

HostnameOSArch (*)R versionInstalled pkgs
nebbiolo2Linux (Ubuntu 24.04.1 LTS)x86_644.4.2 (2024-10-31) -- "Pile of Leaves" 4746
palomino8Windows Server 2022 Datacenterx644.4.2 (2024-10-31 ucrt) -- "Pile of Leaves" 4494
merida1macOS 12.7.5 Montereyx86_644.4.2 (2024-10-31) -- "Pile of Leaves" 4517
kjohnson1macOS 13.6.6 Venturaarm644.4.2 (2024-10-31) -- "Pile of Leaves" 4469
taishanLinux (openEuler 24.03 LTS)aarch644.4.2 (2024-10-31) -- "Pile of Leaves" 4400
Click on any hostname to see more info about the system (e.g. compilers)      (*) as reported by 'uname -p', except on Windows and Mac OS X

Package 1691/2289HostnameOS / ArchINSTALLBUILDCHECKBUILD BIN
RCy3 2.26.0  (landing page)
Alex Pico
Snapshot Date: 2025-01-30 13:00 -0500 (Thu, 30 Jan 2025)
git_url: https://git.bioconductor.org/packages/RCy3
git_branch: RELEASE_3_20
git_last_commit: c3be18a
git_last_commit_date: 2024-10-29 10:04:47 -0500 (Tue, 29 Oct 2024)
nebbiolo2Linux (Ubuntu 24.04.1 LTS) / x86_64  OK    OK    OK  UNNEEDED, same version is already published
palomino8Windows Server 2022 Datacenter / x64  OK    OK    OK    OK  UNNEEDED, same version is already published
merida1macOS 12.7.5 Monterey / x86_64  OK    OK    OK    OK  UNNEEDED, same version is already published
kjohnson1macOS 13.6.6 Ventura / arm64  OK    OK    OK    OK  UNNEEDED, same version is already published
taishanLinux (openEuler 24.03 LTS) / aarch64  OK    OK    OK  


CHECK results for RCy3 on merida1

To the developers/maintainers of the RCy3 package:
- Allow up to 24 hours (and sometimes 48 hours) for your latest push to git@git.bioconductor.org:packages/RCy3.git to reflect on this report. See Troubleshooting Build Report for more information.
- Use the following Renviron settings to reproduce errors and warnings.
- If 'R CMD check' started to fail recently on the Linux builder(s) over a missing dependency, add the missing dependency to 'Suggests:' in your DESCRIPTION file. See Renviron.bioc for more information.

raw results


Summary

Package: RCy3
Version: 2.26.0
Command: /Library/Frameworks/R.framework/Resources/bin/R CMD check --install=check:RCy3.install-out.txt --library=/Library/Frameworks/R.framework/Resources/library --no-vignettes --timings RCy3_2.26.0.tar.gz
StartedAt: 2025-01-31 08:41:00 -0500 (Fri, 31 Jan 2025)
EndedAt: 2025-01-31 08:43:40 -0500 (Fri, 31 Jan 2025)
EllapsedTime: 159.5 seconds
RetCode: 0
Status:   OK  
CheckDir: RCy3.Rcheck
Warnings: 0

Command output

##############################################################################
##############################################################################
###
### Running command:
###
###   /Library/Frameworks/R.framework/Resources/bin/R CMD check --install=check:RCy3.install-out.txt --library=/Library/Frameworks/R.framework/Resources/library --no-vignettes --timings RCy3_2.26.0.tar.gz
###
##############################################################################
##############################################################################


* using log directory ‘/Users/biocbuild/bbs-3.20-bioc/meat/RCy3.Rcheck’
* using R version 4.4.2 (2024-10-31)
* using platform: x86_64-apple-darwin20
* R was compiled by
    Apple clang version 14.0.0 (clang-1400.0.29.202)
    GNU Fortran (GCC) 12.2.0
* running under: macOS Monterey 12.7.6
* using session charset: UTF-8
* using option ‘--no-vignettes’
* checking for file ‘RCy3/DESCRIPTION’ ... OK
* checking extension type ... Package
* this is package ‘RCy3’ version ‘2.26.0’
* package encoding: UTF-8
* checking package namespace information ... OK
* checking package dependencies ... OK
* checking if this is a source package ... OK
* checking if there is a namespace ... OK
* checking for hidden files and directories ... NOTE
Found the following hidden files and directories:
  .travis.yml
These were most likely included in error. See section ‘Package
structure’ in the ‘Writing R Extensions’ manual.
* checking for portable file names ... OK
* checking for sufficient/correct file permissions ... OK
* checking whether package ‘RCy3’ can be installed ... OK
* checking installed package size ... OK
* checking package directory ... OK
* checking ‘build’ directory ... OK
* checking DESCRIPTION meta-information ... NOTE
License stub is invalid DCF.
* checking top-level files ... OK
* checking for left-over files ... OK
* checking index information ... OK
* checking package subdirectories ... OK
* checking code files for non-ASCII characters ... OK
* checking R files for syntax errors ... OK
* checking whether the package can be loaded ... OK
* checking whether the package can be loaded with stated dependencies ... OK
* checking whether the package can be unloaded cleanly ... OK
* checking whether the namespace can be loaded with stated dependencies ... OK
* checking whether the namespace can be unloaded cleanly ... OK
* checking dependencies in R code ... OK
* checking S3 generic/method consistency ... OK
* checking replacement functions ... OK
* checking foreign function calls ... OK
* checking R code for possible problems ... NOTE
.checkHexColor: no visible global function definition for ‘colors’
.edgeNameToEdgeSUID: no visible binding for global variable ‘SUID’
.nodeNameToNodeSUID: no visible binding for global variable ‘SUID’
createNetworkFromDataFrames: no visible binding for global variable
  ‘SUID’
Undefined global functions or variables:
  SUID colors
Consider adding
  importFrom("grDevices", "colors")
to your NAMESPACE file.
* checking Rd files ... NOTE
checkRd: (-1) importFileFromUrl.Rd:24: Lost braces; missing escapes or markup?
    24 | dict: {'filePath': <new file's absolute path in Cytoscape workstation>, 'fileByteCount': number of bytes read}
       |       ^
checkRd: (-1) sandboxGetFileInfo.Rd:17: Lost braces; missing escapes or markup?
    17 | dict: {'filePath': <full path on Cytoscape workstation>, 'modifiedTime': <last changed time, '' if file doesn't exist>, 'isFile': <True if file, False if directory>}
       |       ^
checkRd: (-1) sandboxRemove.Rd:15: Lost braces; missing escapes or markup?
    15 | dict: {'sandboxPath': <directory on Cytoscape workstation>, 'existed': <True if sandbox existed>}
       |       ^
checkRd: (-1) sandboxRemoveFile.Rd:17: Lost braces; missing escapes or markup?
    17 | dict: {'filePath': <file's absolute path in Cytoscape workstation>, 'existed': True if file existed before being deleted}
       |       ^
checkRd: (-1) sandboxUrlTo.Rd:27: Lost braces; missing escapes or markup?
    27 | dict: {'filePath': <new file's absolute path in Cytoscape workstation>, 'fileByteCount': number of bytes read}
       |       ^
* checking Rd metadata ... OK
* checking Rd cross-references ... OK
* checking for missing documentation entries ... OK
* checking for code/documentation mismatches ... OK
* checking Rd \usage sections ... OK
* checking Rd contents ... OK
* checking for unstated dependencies in examples ... OK
* checking files in ‘vignettes’ ... OK
* checking examples ... OK
* checking for unstated dependencies in ‘tests’ ... OK
* checking tests ...
  Running ‘runTests.R’
 OK
* checking for unstated dependencies in vignettes ... OK
* checking package vignettes ... OK
* checking running R code from vignettes ... SKIPPED
* checking re-building of vignette outputs ... SKIPPED
* checking PDF version of manual ... OK
* DONE

Status: 4 NOTEs
See
  ‘/Users/biocbuild/bbs-3.20-bioc/meat/RCy3.Rcheck/00check.log’
for details.


Installation output

RCy3.Rcheck/00install.out

##############################################################################
##############################################################################
###
### Running command:
###
###   /Library/Frameworks/R.framework/Resources/bin/R CMD INSTALL RCy3
###
##############################################################################
##############################################################################


* installing to library ‘/Library/Frameworks/R.framework/Versions/4.4-x86_64/Resources/library’
* installing *source* package ‘RCy3’ ...
** using staged installation
** R
** inst
** byte-compile and prepare package for lazy loading
** help
*** installing help indices
** building package indices
** installing vignettes
** testing if installed package can be loaded from temporary location
** testing if installed package can be loaded from final location
** testing if installed package keeps a record of temporary installation path
* DONE (RCy3)

Tests output

RCy3.Rcheck/tests/runTests.Rout


R version 4.4.2 (2024-10-31) -- "Pile of Leaves"
Copyright (C) 2024 The R Foundation for Statistical Computing
Platform: x86_64-apple-darwin20

R is free software and comes with ABSOLUTELY NO WARRANTY.
You are welcome to redistribute it under certain conditions.
Type 'license()' or 'licence()' for distribution details.

R is a collaborative project with many contributors.
Type 'contributors()' for more information and
'citation()' on how to cite R or R packages in publications.

Type 'demo()' for some demos, 'help()' for on-line help, or
'help.start()' for an HTML browser interface to help.
Type 'q()' to quit R.

> # tests disabled as the Bioconductor build system no longer supports interactive sessions
> #require(RCy3) || stop("unable to load RCy3")
> #BiocGenerics:::testPackage('RCy3')
> 
> proc.time()
   user  system elapsed 
  0.353   0.116   0.434 

Example timings

RCy3.Rcheck/RCy3-Ex.timings

nameusersystemelapsed
AddToGroup0.0000.0000.001
RemoveFromGroup0.0000.0000.001
UpdateAnnotationBoundedText000
addAnnotationBoundedText0.0000.0000.001
addAnnotationImage0.0010.0010.001
addAnnotationShape0.0010.0000.000
addAnnotationText0.0010.0000.000
addCyEdges000
addCyNodes000
analyzeNetwork000
applyFilter000
bundleEdges000
checkNotebookIsRunning0.0000.0000.001
checkRunningRemote0.0000.0000.001
clearEdgeBends000
clearEdgePropertyBypass000
clearNetworkCenterBypass000
clearNetworkPropertyBypass0.0010.0000.000
clearNetworkZoomBypass0.0010.0010.000
clearNodeOpacityBypass0.0000.0010.000
clearNodePropertyBypass0.0000.0010.000
clearSelection000
cloneNetwork0.0000.0000.001
closeSession0.0000.0000.001
collapseGroup000
commandEcho000
commandOpenDialog000
commandPause000
commandQuit000
commandRunFile0.0000.0010.001
commandSleep0.0010.0010.001
commandsAPI000
commandsGET0.0000.0000.001
commandsHelp000
commandsPOST000
commandsRun000
copyVisualStyle0.0010.0000.000
createColumnFilter0.0000.0000.001
createCompositeFilter0.0000.0000.001
createCytoscapejsFromNetwork0.0000.0000.001
createDegreeFilter000
createGraphFromNetwork000
createGroup000
createGroupByColumn000
createIgraphFromNetwork0.0010.0000.000
createNetworkFromCytoscapejs0.0000.0010.000
createNetworkFromDataFrames0.0000.0010.000
createNetworkFromGraph0.0000.0010.001
createNetworkFromIgraph0.0000.0010.001
createSubnetwork000
createView0.0000.0000.001
createVisualStyle000
cybrowserClose000
cybrowserDialog0.0010.0000.001
cybrowserHide0.0000.0000.001
cybrowserList0.0000.0010.000
cybrowserSend0.0000.0010.001
cybrowserShow0.0000.0010.001
cybrowserVersion000
cyrestAPI0.0010.0000.000
cyrestDELETE0.0000.0000.001
cyrestGET0.0000.0010.001
cyrestPOST000
cyrestPUT0.0000.0000.001
cytoscapeApiVersions000
cytoscapeFreeMemory0.0000.0010.000
cytoscapeMemoryStatus0.0000.0010.000
cytoscapeNumberOfCores000
cytoscapePing0.0000.0010.001
cytoscapeVersionInfo0.0000.0010.001
deleteAllNetworks0.0000.0010.001
deleteAllVisualStyle0.0000.0010.000
deleteAnnotation000
deleteDuplicateEdges0.0000.0010.000
deleteGroup0.0000.0010.000
deleteNetwork0.0000.0010.000
deleteSelectedEdges0.0010.0000.000
deleteSelectedNodes0.0010.0000.000
deleteSelfLoops0.0010.0000.001
deleteStyleMapping000
deleteTableColumn0.0000.0000.001
deleteVisualStyle0.0010.0010.001
diffusionAdvanced0.0010.0010.001
diffusionBasic000
disableApp000
doInitializeSandbox000
doRequestRemote000
doSetSandbox0.0000.0010.001
dockPanel0.0010.0000.000
dot-exportShowImage000
dot-getDefaultSandbox000
dot-getRequester000
enableApp0.0010.0000.000
expandGroup0.0010.0000.000
exportFilters000
exportImage0.0000.0000.001
exportJPG0.0000.0000.001
exportNetwork0.0000.0000.001
exportNetworkToNDEx0.0000.0000.001
exportPDF0.0000.0000.001
exportPNG0.0000.0000.001
exportPS0.0000.0000.001
exportSVG0.0000.0000.001
exportVisualStyles0.0000.0000.001
findRemoteCytoscape0.0010.0000.000
fitContent000
floatPanel000
getAbsSandboxPath000
getAllEdges000
getAllNodes0.0000.0000.001
getAllStyleMappings000
getAnnotationList0.0010.0010.001
getAppInformation0.0000.0010.001
getAppStatus0.0000.0010.000
getAppUpdates0.0000.0010.001
getArrowShapes0.0000.0000.001
getAvailableApps000
getBackgroundColorDefault000
getBrowserClientChannel0.0010.0000.001
getBrowserClientJs000
getCollectionList000
getCollectionName000
getCollectionNetworks000
getCollectionSuid000
getCurrentSandbox0.0000.0000.001
getCurrentSandboxName000
getCurrentSandboxPath0.0000.0010.001
getCurrentStyle0.0010.0010.000
getDefaultSandbox000
getDefaultSandboxPath000
getDisabledApps0.0000.0000.001
getEdgeColor0.0000.0000.001
getEdgeCount000
getEdgeInfo000
getEdgeLineStyle000
getEdgeLineWidth000
getEdgeProperty000
getEdgeSelectionColorDefault000
getEdgeTargetArrowShape000
getFilterList0.0000.0010.000
getFirstNeighbors0.0010.0010.000
getGroupInfo000
getInstalledApps000
getJupyterBridgeURL0.0000.0000.001
getLayoutNameMapping0.0000.0000.001
getLayoutNames0.0000.0000.001
getLayoutPropertyNames0.0000.0000.001
getLayoutPropertyType000
getLayoutPropertyValue000
getLineStyles000
getNetworkCenter000
getNetworkCount0.0000.0000.001
getNetworkList0.0000.0010.001
getNetworkNDExId000
getNetworkName000
getNetworkProperty000
getNetworkSuid0.0000.0000.001
getNetworkViewSuid0.0000.0010.000
getNetworkViews0.0000.0010.000
getNetworkZoom000
getNodeColor0.0010.0000.001
getNodeCount0.0010.0000.001
getNodeHeight0.0010.0000.001
getNodeLabelPosition0.0010.0000.001
getNodeLabelPositionDefault0.0010.0000.001
getNodePosition0.0010.0000.001
getNodeProperty0.0010.0000.001
getNodeSelectionColorDefault0.0010.0000.001
getNodeShapes0.0010.0000.001
getNodeSize0.0010.0000.001
getNodeWidth000
getNotebookIsRunning000
getSandboxReinitialize000
getSelectedEdgeCount000
getSelectedEdges0.0010.0000.001
getSelectedNodeCount0.0010.0000.001
getSelectedNodes0.0010.0000.001
getStyleDependencies000
getStyleMapping000
getTableColumnNames000
getTableColumnTypes000
getTableColumns000
getTableValue000
getUninstalledApps000
getVisualPropertyDefault000
getVisualPropertyNames000
getVisualStyleJSON000
getVisualStyleNames0.0010.0000.001
groupAnnotation0.0000.0010.000
hideAllPanels0.0000.0010.000
hideEdges0.0000.0000.001
hideNodes0.0000.0000.001
hidePanel0.0000.0000.001
hideSelectedEdges0.0000.0000.001
hideSelectedNodes0.0000.0000.001
importFileFromUrl0.0000.0000.001
importFilters000
importNetworkFromFile0.0000.0010.000
importNetworkFromNDEx000
importVisualStyles000
installApp0.0000.0000.001
invertEdgeSelection0.0000.0000.001
invertNodeSelection000
layoutCopycat000
layoutNetwork0.0000.0010.000
listGroups0.0000.0010.000
lockNodeDimensions0.0000.0010.000
makeSimpleGraph0.1370.0020.139
makeSimpleIgraph0.1900.0110.202
mapTableColumn0.0000.0000.001
mapVisualProperty0.0000.0000.001
matchArrowColorToEdge0.0000.0000.001
mergeNetworks0.0000.0000.001
notebookExportShowImage0.0000.0000.001
notebookShowImage000
openAppStore0.0000.0010.001
openSession0.0010.0010.000
paletteColorBrewerAccent0.0080.0010.009
paletteColorBrewerBlues0.0000.0000.001
paletteColorBrewerBrBG0.0010.0000.001
paletteColorBrewerBuGn0.0000.0000.001
paletteColorBrewerBuPu0.0000.0000.001
paletteColorBrewerDark20.0010.0010.001
paletteColorBrewerGnBu0.0000.0010.001
paletteColorBrewerGreens0.0000.0010.001
paletteColorBrewerGreys0.0010.0000.001
paletteColorBrewerOrRd0.0000.0000.001
paletteColorBrewerOranges0.0000.0000.001
paletteColorBrewerPRGn0.0010.0000.001
paletteColorBrewerPaired0.0000.0000.001
paletteColorBrewerPastel10.0010.0010.001
paletteColorBrewerPastel20.0000.0010.000
paletteColorBrewerPiYG0.0000.0010.000
paletteColorBrewerPuBu0.0000.0010.001
paletteColorBrewerPuBuGn0.0010.0000.001
paletteColorBrewerPuOr0.0000.0000.001
paletteColorBrewerPuRd000
paletteColorBrewerPurples0.0000.0000.001
paletteColorBrewerRdBu0.0010.0000.001
paletteColorBrewerRdPu0.0000.0000.001
paletteColorBrewerRdYlBu0.0000.0010.001
paletteColorBrewerReds0.0000.0000.001
paletteColorBrewerSet10.0010.0000.001
paletteColorBrewerSet20.0000.0000.001
paletteColorBrewerSet30.0000.0000.001
paletteColorBrewerYlGn0.0000.0000.001
paletteColorBrewerYlGnBu0.0010.0000.000
paletteColorBrewerYlOrBr0.0000.0000.001
paletteColorBrewerYlOrRd0.0000.0000.001
paletteColorRandom0.0010.0000.001
paletteColorVirdis0.0000.0010.001
removeNodeCustomGraphics0.0000.0010.001
renameNetwork0.0010.0010.001
renameTableColumn0.0010.0010.001
resetDefaultSandbox0.0010.0010.000
rotateLayout0.0010.0000.000
runningRemoteCheck000
sandboxGetFileInfo000
sandboxGetFrom000
sandboxInitializer000
sandboxRemove000
sandboxRemoveFile0.0000.0000.001
sandboxSendTo0.0000.0000.001
sandboxSet0.0000.0000.001
sandboxUrlTo0.0000.0000.001
saveSession0.0000.0000.001
scaleLayout000
selectAll000
selectAllEdges000
selectAllNodes000
selectEdges000
selectEdgesAdjacentToNodes0.0000.0000.001
selectEdgesAdjacentToSelectedNodes000
selectEdgesConnectingSelectedNodes000
selectFirstNeighbors0.0000.0010.000
selectNodes0.0010.0000.001
selectNodesConnectedBySelectedEdges000
setBackgroundColorDefault000
setCatchupFilterSecs0.0010.0000.001
setCatchupNetworkSecs000
setCurrentNetwork000
setCurrentSandbox000
setCurrentView000
setDefaultSandbox000
setDefaultSandboxPath0.0000.0010.001
setEdgeColorBypass0.0000.0010.001
setEdgeColorDefault0.0000.0010.000
setEdgeColorMapping0.0000.0010.000
setEdgeFontFaceBypass0.0010.0010.000
setEdgeFontFaceDefault0.0010.0010.000
setEdgeFontFaceMapping0.0000.0000.001
setEdgeFontSizeBypass000
setEdgeFontSizeDefault000
setEdgeFontSizeMapping000
setEdgeLabelBypass000
setEdgeLabelColorBypass000
setEdgeLabelColorDefault000
setEdgeLabelColorMapping000
setEdgeLabelDefault0.0010.0000.001
setEdgeLabelMapping0.0010.0000.001
setEdgeLabelOpacityBypass0.0010.0000.001
setEdgeLabelOpacityDefault0.0000.0000.001
setEdgeLabelOpacityMapping000
setEdgeLineStyleBypass000
setEdgeLineStyleDefault000
setEdgeLineStyleMapping0.0000.0000.001
setEdgeLineWidthBypass0.0000.0000.001
setEdgeLineWidthDefault000
setEdgeLineWidthMapping000
setEdgeOpacityBypass000
setEdgeOpacityDefault000
setEdgeOpacityMapping000
setEdgePropertyBypass000
setEdgeSelectionColorDefault0.0010.0000.001
setEdgeSourceArrowColorBypass0.0000.0010.000
setEdgeSourceArrowColorDefault0.0000.0000.001
setEdgeSourceArrowColorMapping000
setEdgeSourceArrowMapping000
setEdgeSourceArrowShapeBypass000
setEdgeSourceArrowShapeDefault000
setEdgeSourceArrowShapeMapping0.0000.0000.001
setEdgeTargetArrowColorBypass0.0000.0010.001
setEdgeTargetArrowColorDefault000
setEdgeTargetArrowColorMapping000
setEdgeTargetArrowMapping000
setEdgeTargetArrowShapeBypass0.0000.0000.001
setEdgeTargetArrowShapeDefault0.0010.0000.001
setEdgeTargetArrowShapeMapping0.0000.0000.001
setEdgeTooltipBypass0.0000.0000.001
setEdgeTooltipDefault0.0000.0000.001
setEdgeTooltipMapping0.0000.0000.001
setLayoutProperties000
setModelPropagationSecs000
setNetworkCenterBypass000
setNetworkPropertyBypass000
setNetworkZoomBypass000
setNodeBorderColorBypass000
setNodeBorderColorDefault000
setNodeBorderColorMapping000
setNodeBorderOpacityBypass000
setNodeBorderOpacityDefault0.0000.0010.000
setNodeBorderOpacityMapping0.0000.0010.000
setNodeBorderWidthBypass0.0000.0010.000
setNodeBorderWidthDefault0.0000.0010.000
setNodeBorderWidthMapping0.0010.0010.000
setNodeColorBypass0.0010.0010.001
setNodeColorDefault0.0010.0010.001
setNodeColorMapping0.0000.0010.001
setNodeComboOpacityMapping000
setNodeCustomBarChart000
setNodeCustomBoxChart0.0000.0000.001
setNodeCustomHeatMapChart0.0000.0000.001
setNodeCustomLineChart0.0010.0000.000
setNodeCustomLinearGradient000
setNodeCustomPieChart0.0000.0000.001
setNodeCustomPosition0.0000.0000.001
setNodeCustomRadialGradient000
setNodeCustomRingChart000
setNodeFillOpacityBypass000
setNodeFillOpacityDefault0.0010.0000.000
setNodeFillOpacityMapping0.0010.0000.000
setNodeFontFaceBypass0.0010.0000.001
setNodeFontFaceDefault0.0000.0000.001
setNodeFontFaceMapping000
setNodeFontSizeBypass0.0000.0000.001
setNodeFontSizeDefault0.0000.0000.001
setNodeFontSizeMapping000
setNodeHeightBypass0.0010.0010.000
setNodeHeightDefault0.0010.0010.000
setNodeHeightMapping0.0000.0000.001
setNodeLabelBypass0.0000.0000.001
setNodeLabelColorBypass000
setNodeLabelColorDefault000
setNodeLabelColorMapping000
setNodeLabelDefault000
setNodeLabelMapping000
setNodeLabelOpacityBypass000
setNodeLabelOpacityDefault0.0000.0010.000
setNodeLabelOpacityMapping0.0000.0010.000
setNodeLabelPositionBypass000
setNodeLabelPositionDefault000
setNodeOpacityBypass000
setNodePositionBypass000
setNodePropertyBypass000
setNodeSelectionColorDefault000
setNodeShapeBypass000
setNodeShapeDefault0.0010.0000.000
setNodeShapeMapping0.0010.0000.000
setNodeSizeBypass0.0000.0000.001
setNodeSizeDefault000
setNodeSizeMapping000
setNodeTooltipBypass000
setNodeTooltipDefault0.0000.0010.000
setNodeTooltipMapping0.0000.0010.000
setNodeWidthBypass0.0000.0010.000
setNodeWidthDefault0.0000.0010.000
setNodeWidthMapping0.0000.0000.001
setNotebookIsRunning0.0000.0000.001
setSandboxReinitialize0.0000.0010.000
setStyleDependencies0.0000.0010.001
setVisualPropertyDefault0.0010.0000.001
setVisualStyle0.0010.0000.000
syncNodeCustomGraphicsSize000
toggleGraphicsDetails000
ungroupAnnotation000
unhideAll0.0000.0000.001
unhideEdges0.0000.0000.001
unhideNodes0.0000.0000.001
uninstallApp0.0000.0000.001
updateAnnotationImage000
updateAnnotationShape000
updateAnnotationText0.0010.0000.000
updateApp0.0010.0000.000
updateGroupAnnotation000
updateNetworkInNDEx0.0000.0010.000
updateStyleDefaults0.0000.0010.000
updateStyleMapping000