Back to Multiple platform build/check report for BioC 3.22:   simplified   long
ABCDEFGHIJKLMNOPQ[R]STUVWXYZ

This page was generated on 2025-11-03 12:05 -0500 (Mon, 03 Nov 2025).

HostnameOSArch (*)R versionInstalled pkgs
nebbiolo2Linux (Ubuntu 24.04.3 LTS)x86_644.5.1 Patched (2025-08-23 r88802) -- "Great Square Root" 4902
lconwaymacOS 12.7.6 Montereyx86_644.5.1 Patched (2025-09-10 r88807) -- "Great Square Root" 4692
kjohnson3macOS 13.7.7 Venturaarm644.5.1 Patched (2025-09-10 r88807) -- "Great Square Root" 4638
Click on any hostname to see more info about the system (e.g. compilers)      (*) as reported by 'uname -p', except on Windows and Mac OS X

Package 1702/2361HostnameOS / ArchINSTALLBUILDCHECKBUILD BIN
RAIDS 1.8.0  (landing page)
Pascal Belleau
Snapshot Date: 2025-11-02 13:45 -0500 (Sun, 02 Nov 2025)
git_url: https://git.bioconductor.org/packages/RAIDS
git_branch: RELEASE_3_22
git_last_commit: 4c9a678
git_last_commit_date: 2025-10-29 11:25:36 -0500 (Wed, 29 Oct 2025)
nebbiolo2Linux (Ubuntu 24.04.3 LTS) / x86_64  OK    OK    OK  UNNEEDED, same version is already published
lconwaymacOS 12.7.6 Monterey / x86_64  OK    OK    OK    OK  UNNEEDED, same version is already published
kjohnson3macOS 13.7.7 Ventura / arm64  OK    OK    OK    OK  UNNEEDED, same version is already published


CHECK results for RAIDS on kjohnson3

To the developers/maintainers of the RAIDS package:
- Allow up to 24 hours (and sometimes 48 hours) for your latest push to git@git.bioconductor.org:packages/RAIDS.git to reflect on this report. See Troubleshooting Build Report for more information.
- Use the following Renviron settings to reproduce errors and warnings.
- If 'R CMD check' started to fail recently on the Linux builder(s) over a missing dependency, add the missing dependency to 'Suggests:' in your DESCRIPTION file. See Renviron.bioc for more information.

raw results


Summary

Package: RAIDS
Version: 1.8.0
Command: /Library/Frameworks/R.framework/Resources/bin/R CMD check --install=check:RAIDS.install-out.txt --library=/Library/Frameworks/R.framework/Resources/library --no-vignettes --timings RAIDS_1.8.0.tar.gz
StartedAt: 2025-11-02 21:35:31 -0500 (Sun, 02 Nov 2025)
EndedAt: 2025-11-02 21:38:19 -0500 (Sun, 02 Nov 2025)
EllapsedTime: 168.4 seconds
RetCode: 0
Status:   OK  
CheckDir: RAIDS.Rcheck
Warnings: 0

Command output

##############################################################################
##############################################################################
###
### Running command:
###
###   /Library/Frameworks/R.framework/Resources/bin/R CMD check --install=check:RAIDS.install-out.txt --library=/Library/Frameworks/R.framework/Resources/library --no-vignettes --timings RAIDS_1.8.0.tar.gz
###
##############################################################################
##############################################################################


* using log directory ‘/Users/biocbuild/bbs-3.22-bioc/meat/RAIDS.Rcheck’
* using R version 4.5.1 Patched (2025-09-10 r88807)
* using platform: aarch64-apple-darwin20
* R was compiled by
    Apple clang version 16.0.0 (clang-1600.0.26.6)
    GNU Fortran (GCC) 14.2.0
* running under: macOS Ventura 13.7.7
* using session charset: UTF-8
* using option ‘--no-vignettes’
* checking for file ‘RAIDS/DESCRIPTION’ ... OK
* checking extension type ... Package
* this is package ‘RAIDS’ version ‘1.8.0’
* package encoding: UTF-8
* checking package namespace information ... OK
* checking package dependencies ... OK
* checking if this is a source package ... OK
* checking if there is a namespace ... OK
* checking for hidden files and directories ... OK
* checking for portable file names ... OK
* checking for sufficient/correct file permissions ... OK
* checking whether package ‘RAIDS’ can be installed ... OK
* checking installed package size ... OK
* checking package directory ... OK
* checking ‘build’ directory ... OK
* checking DESCRIPTION meta-information ... OK
* checking top-level files ... OK
* checking for left-over files ... OK
* checking index information ... OK
* checking package subdirectories ... OK
* checking code files for non-ASCII characters ... OK
* checking R files for syntax errors ... OK
* checking whether the package can be loaded ... OK
* checking whether the package can be loaded with stated dependencies ... OK
* checking whether the package can be unloaded cleanly ... OK
* checking whether the namespace can be loaded with stated dependencies ... OK
* checking whether the namespace can be unloaded cleanly ... OK
* checking dependencies in R code ... OK
* checking S3 generic/method consistency ... OK
* checking replacement functions ... OK
* checking foreign function calls ... OK
* checking R code for possible problems ... OK
* checking Rd files ... OK
* checking Rd metadata ... OK
* checking Rd cross-references ... OK
* checking for missing documentation entries ... OK
* checking for code/documentation mismatches ... OK
* checking Rd \usage sections ... NOTE
Documented arguments not in \usage in Rd file 'wrapperAncestry.Rd':
  ‘pathGeno’

Functions with \usage entries need to have the appropriate \alias
entries, and all their arguments documented.
The \usage entries must correspond to syntactically valid R code.
See chapter ‘Writing R documentation files’ in the ‘Writing R
Extensions’ manual.
* checking Rd contents ... OK
* checking for unstated dependencies in examples ... OK
* checking contents of ‘data’ directory ... OK
* checking data for non-ASCII characters ... OK
* checking data for ASCII and uncompressed saves ... OK
* checking files in ‘vignettes’ ... OK
* checking examples ... OK
* checking for unstated dependencies in ‘tests’ ... OK
* checking tests ...
  Running ‘testthat.R’
 OK
* checking for unstated dependencies in vignettes ... OK
* checking package vignettes ... OK
* checking running R code from vignettes ... SKIPPED
* checking re-building of vignette outputs ... SKIPPED
* checking PDF version of manual ... OK
* DONE

Status: 1 NOTE
See
  ‘/Users/biocbuild/bbs-3.22-bioc/meat/RAIDS.Rcheck/00check.log’
for details.


Installation output

RAIDS.Rcheck/00install.out

##############################################################################
##############################################################################
###
### Running command:
###
###   /Library/Frameworks/R.framework/Resources/bin/R CMD INSTALL RAIDS
###
##############################################################################
##############################################################################


* installing to library ‘/Library/Frameworks/R.framework/Versions/4.5-arm64/Resources/library’
* installing *source* package ‘RAIDS’ ...
** this is package ‘RAIDS’ version ‘1.8.0’
** using staged installation
** R
** data
** inst
** byte-compile and prepare package for lazy loading
** help
*** installing help indices
** building package indices
** installing vignettes
** testing if installed package can be loaded from temporary location
** testing if installed package can be loaded from final location
** testing if installed package keeps a record of temporary installation path
* DONE (RAIDS)

Tests output

RAIDS.Rcheck/tests/testthat.Rout


R version 4.5.1 Patched (2025-09-10 r88807) -- "Great Square Root"
Copyright (C) 2025 The R Foundation for Statistical Computing
Platform: aarch64-apple-darwin20

R is free software and comes with ABSOLUTELY NO WARRANTY.
You are welcome to redistribute it under certain conditions.
Type 'license()' or 'licence()' for distribution details.

R is a collaborative project with many contributors.
Type 'contributors()' for more information and
'citation()' on how to cite R or R packages in publications.

Type 'demo()' for some demos, 'help()' for on-line help, or
'help.start()' for an HTML browser interface to help.
Type 'q()' to quit R.

> library(testthat)
> library(RAIDS)
Loading required package: gdsfmt
Loading required package: SNPRelate
Loading required package: GENESIS
Loading required package: dplyr

Attaching package: 'dplyr'

The following object is masked from 'package:testthat':

    matches

The following objects are masked from 'package:stats':

    filter, lag

The following objects are masked from 'package:base':

    intersect, setdiff, setequal, union

Loading required package: Rsamtools
Loading required package: Seqinfo
Loading required package: BiocGenerics
Loading required package: generics

Attaching package: 'generics'

The following object is masked from 'package:dplyr':

    explain

The following objects are masked from 'package:base':

    as.difftime, as.factor, as.ordered, intersect, is.element, setdiff,
    setequal, union


Attaching package: 'BiocGenerics'

The following object is masked from 'package:dplyr':

    combine

The following objects are masked from 'package:stats':

    IQR, mad, sd, var, xtabs

The following objects are masked from 'package:base':

    Filter, Find, Map, Position, Reduce, anyDuplicated, aperm, append,
    as.data.frame, basename, cbind, colnames, dirname, do.call,
    duplicated, eval, evalq, get, grep, grepl, is.unsorted, lapply,
    mapply, match, mget, order, paste, pmax, pmax.int, pmin, pmin.int,
    rank, rbind, rownames, sapply, saveRDS, table, tapply, unique,
    unsplit, which.max, which.min

Loading required package: GenomicRanges
Loading required package: stats4
Loading required package: S4Vectors

Attaching package: 'S4Vectors'

The following objects are masked from 'package:dplyr':

    first, rename

The following object is masked from 'package:utils':

    findMatches

The following objects are masked from 'package:base':

    I, expand.grid, unname

Loading required package: IRanges

Attaching package: 'IRanges'

The following objects are masked from 'package:dplyr':

    collapse, desc, slice

Loading required package: Biostrings
Loading required package: XVector

Attaching package: 'Biostrings'

The following object is masked from 'package:base':

    strsplit

> 
> ## Run all unit tests
> test_check("RAIDS")

Attaching package: 'Matrix'

The following object is masked from 'package:S4Vectors':

    expand

[ FAIL 0 | WARN 0 | SKIP 0 | PASS 478 ]
> 
> proc.time()
   user  system elapsed 
 13.999   0.675  14.763 

Example timings

RAIDS.Rcheck/RAIDS-Ex.timings

nameusersystemelapsed
add1KG2SampleGDS0.0180.0060.027
addBlockFromDetFile0.0000.0010.003
addBlockInGDSAnnot0.0020.0010.003
addGDS1KGLDBlock0.0010.0010.001
addGDSRef0.0010.0010.002
addGDSStudyPruning0.0000.0000.001
addGeneBlockGDSRefAnnot0.4320.0400.488
addGeneBlockRefAnnot0.0010.0000.002
addRef2GDS1KG0.0010.0020.003
addStudy1Kg0.0030.0020.007
addStudyGDSSample0.0020.0020.005
addUpdateLap0.0010.0010.002
addUpdateSegment0.0000.0000.001
appendGDSRefSample0.0020.0010.004
appendGDSSampleOnly0.0010.0010.001
appendGDSgenotype0.0050.0040.010
appendGDSgenotypeMat0.0000.0010.002
calcAFMLRNA0.0020.0010.003
computeAlleleFraction0.0010.0010.001
computeAllelicFractionDNA0.0470.0040.052
computeAllelicFractionRNA0.0690.0020.071
computeAllelicImbDNAChr0.0020.0000.003
computeAncestryFromSynthetic0.0070.0020.009
computeAncestryFromSyntheticFile2.0980.0502.154
computeKNNRefSample0.0050.0030.008
computeKNNRefSynthetic0.9450.0501.005
computeLOHBlocksDNAChr0.0040.0010.004
computePCAMultiSynthetic0.0030.0020.005
computePCARefRMMulti0.0430.0030.048
computePCARefSample0.0520.0030.056
computePoolSyntheticAncestryGr0.1210.0120.134
computeSyntheticConfMat0.0050.0020.007
computeSyntheticROC0.0130.0030.016
createAUROCGraph0.2940.0150.313
createAccuracyGraph0.2470.0020.250
createProfile0.0230.0050.030
createStudy2GDS1KG0.0210.0050.027
demoKnownSuperPop1KG0.9580.0631.022
demoPCA1KG0.0020.0020.006
demoPCASyntheticProfiles0.4320.0470.486
demoPedigreeEx10.0050.0020.007
estimateAllelicFraction0.0250.0020.030
extractNucleotide000
generateGDS1KG0.0040.0040.008
generateGDS1KGgenotypeFromSNPPileup0.0200.0040.026
generateGDSRefSample0.0010.0010.002
generateGDSSNPinfo0.0010.0010.003
generateGDSgenotype0.0040.0030.007
generateGeneBlock0.0000.0010.001
generateMapSnvSel0.0010.0010.002
generatePhase1KG2GDS0.0030.0040.008
generatePhaseRef0.0040.0030.008
generateProfileGDS0.0190.0050.024
getBlockIDs0.0010.0000.001
getRef1KGPop0.0010.0010.002
getRefSuperPop0.0010.0000.001
getTableSNV0.0030.0010.004
groupChr1KGSNV0.0310.0350.072
identifyRelative0.0030.0010.006
identifyRelativeRef0.0020.0010.003
inferAncestry0.0040.0010.005
inferAncestryDNA0.0040.0010.005
inferAncestryGeneAware0.0040.0000.005
matKNNSynthetic0.0140.0030.017
pedSynthetic0.0130.0030.017
prepPed1KG0.0020.0010.003
prepPedSynthetic1KG0.0020.0010.002
prepSynthetic0.0030.0020.005
processBlockChr0.0010.0000.001
processPileupChrBin1.5750.0031.578
profileAncestry0.0070.0020.008
pruning1KGbyChr0.0010.0010.002
pruningSample0.0140.0050.019
readSNVBAM2.6060.0022.615
readSNVFileGeneric0.0010.0000.002
readSNVPileupFile0.0150.0000.017
readSNVVCF1.5900.0291.678
runExomeAncestry0.0050.0010.006
runIBDKING0.0210.0020.022
runLDPruning0.0090.0050.013
runProfileAncestry0.0060.0010.008
runRNAAncestry0.0050.0010.006
runWrapperAncestry0.0050.0010.006
selParaPCAUpQuartile1.5000.0201.552
select1KGPop0.0010.0000.002
select1KGPopForSynthetic0.0020.0010.001
snpPositionDemo0.0010.0020.002
snvListVCF0.0010.0010.002
splitSelectByPop0.0010.0000.000
syntheticGeno0.0100.0020.013
tableBlockAF0.0070.0010.009
testAlleleFractionChange0.0010.0000.001
testEmptyBox0.0000.0000.001
validateAccuracyGraphInternal000
validateAdd1KG2SampleGDS0.0000.0010.001
validateAddStudy1Kg0.0010.0000.001
validateCharacterString000
validateComputeAncestryFromSyntheticFile0.0010.0000.001
validateComputeKNNRefSample0.0010.0020.004
validateComputeKNNRefSynthetic0.0010.0030.005
validateComputePCAMultiSynthetic0.0010.0010.004
validateComputePCARefSample0.0010.0000.001
validateComputePoolSyntheticAncestryGr0.0000.0000.001
validateComputeSyntheticRoc0.0040.0020.007
validateCreateAccuracyGraph000
validateCreateStudy2GDS1KG0.0010.0010.001
validateDataRefSynParameter000
validateEstimateAllelicFraction0.0010.0010.002
validateGDSClass000
validateGenerateGDS1KG0.0000.0010.000
validateLogical000
validatePEDStudyParameter000
validatePepSynthetic0.0000.0010.000
validatePositiveIntegerVector0.0000.0000.001
validatePrepPed1KG000
validateProfileGDSExist0.0000.0000.001
validatePruningSample0.0010.0010.001
validateRunExomeOrRNAAncestry0.0020.0000.002
validateSingleRatio000
validateStudyDataFrameParameter000
validateSyntheticGeno0.0010.0010.002
validatecreateAUROCGraph0.0000.0000.001
validatecreateProfile0.0010.0000.001
wrapperAncestry0.0050.0020.007