| Back to Multiple platform build/check report for BioC 3.21: simplified long |
|
This page was generated on 2025-08-18 11:42 -0400 (Mon, 18 Aug 2025).
| Hostname | OS | Arch (*) | R version | Installed pkgs |
|---|---|---|---|---|
| nebbiolo1 | Linux (Ubuntu 24.04.3 LTS) | x86_64 | 4.5.1 (2025-06-13) -- "Great Square Root" | 4824 |
| palomino7 | Windows Server 2022 Datacenter | x64 | 4.5.1 (2025-06-13 ucrt) -- "Great Square Root" | 4566 |
| merida1 | macOS 12.7.5 Monterey | x86_64 | 4.5.1 RC (2025-06-05 r88288) -- "Great Square Root" | 4604 |
| kjohnson1 | macOS 13.6.6 Ventura | arm64 | 4.5.1 Patched (2025-06-14 r88325) -- "Great Square Root" | 4545 |
| kunpeng2 | Linux (openEuler 24.03 LTS) | aarch64 | R Under development (unstable) (2025-02-19 r87757) -- "Unsuffered Consequences" | 4579 |
| Click on any hostname to see more info about the system (e.g. compilers) (*) as reported by 'uname -p', except on Windows and Mac OS X | ||||
| Package 1680/2341 | Hostname | OS / Arch | INSTALL | BUILD | CHECK | BUILD BIN | ||||||||
| R453Plus1Toolbox 1.58.0 (landing page) Hans-Ulrich Klein
| nebbiolo1 | Linux (Ubuntu 24.04.3 LTS) / x86_64 | OK | OK | OK | |||||||||
| palomino7 | Windows Server 2022 Datacenter / x64 | OK | OK | OK | OK | |||||||||
| merida1 | macOS 12.7.5 Monterey / x86_64 | OK | OK | OK | OK | |||||||||
| kjohnson1 | macOS 13.6.6 Ventura / arm64 | OK | OK | OK | OK | |||||||||
| kunpeng2 | Linux (openEuler 24.03 LTS) / aarch64 | OK | OK | OK | ||||||||||
|
To the developers/maintainers of the R453Plus1Toolbox package: - Allow up to 24 hours (and sometimes 48 hours) for your latest push to git@git.bioconductor.org:packages/R453Plus1Toolbox.git to reflect on this report. See Troubleshooting Build Report for more information. - Use the following Renviron settings to reproduce errors and warnings. - If 'R CMD check' started to fail recently on the Linux builder(s) over a missing dependency, add the missing dependency to 'Suggests:' in your DESCRIPTION file. See Renviron.bioc for more information. |
| Package: R453Plus1Toolbox |
| Version: 1.58.0 |
| Command: E:\biocbuild\bbs-3.21-bioc\R\bin\R.exe CMD check --no-multiarch --install=check:R453Plus1Toolbox.install-out.txt --library=E:\biocbuild\bbs-3.21-bioc\R\library --no-vignettes --timings R453Plus1Toolbox_1.58.0.tar.gz |
| StartedAt: 2025-08-15 05:49:04 -0400 (Fri, 15 Aug 2025) |
| EndedAt: 2025-08-15 05:57:19 -0400 (Fri, 15 Aug 2025) |
| EllapsedTime: 495.6 seconds |
| RetCode: 0 |
| Status: OK |
| CheckDir: R453Plus1Toolbox.Rcheck |
| Warnings: 0 |
##############################################################################
##############################################################################
###
### Running command:
###
### E:\biocbuild\bbs-3.21-bioc\R\bin\R.exe CMD check --no-multiarch --install=check:R453Plus1Toolbox.install-out.txt --library=E:\biocbuild\bbs-3.21-bioc\R\library --no-vignettes --timings R453Plus1Toolbox_1.58.0.tar.gz
###
##############################################################################
##############################################################################
* using log directory 'E:/biocbuild/bbs-3.21-bioc/meat/R453Plus1Toolbox.Rcheck'
* using R version 4.5.1 (2025-06-13 ucrt)
* using platform: x86_64-w64-mingw32
* R was compiled by
gcc.exe (GCC) 14.2.0
GNU Fortran (GCC) 14.2.0
* running under: Windows Server 2022 x64 (build 20348)
* using session charset: UTF-8
* using option '--no-vignettes'
* checking for file 'R453Plus1Toolbox/DESCRIPTION' ... OK
* checking extension type ... Package
* this is package 'R453Plus1Toolbox' version '1.58.0'
* checking package namespace information ... OK
* checking package dependencies ... OK
* checking if this is a source package ... OK
* checking if there is a namespace ... OK
* checking for hidden files and directories ... OK
* checking for portable file names ... OK
* checking whether package 'R453Plus1Toolbox' can be installed ... OK
* used C compiler: 'gcc.exe (GCC) 14.2.0'
* checking installed package size ... OK
* checking package directory ... OK
* checking 'build' directory ... OK
* checking DESCRIPTION meta-information ... OK
* checking top-level files ... OK
* checking for left-over files ... OK
* checking index information ... OK
* checking package subdirectories ... OK
* checking code files for non-ASCII characters ... OK
* checking R files for syntax errors ... OK
* checking whether the package can be loaded ... OK
* checking whether the package can be loaded with stated dependencies ... OK
* checking whether the package can be unloaded cleanly ... OK
* checking whether the namespace can be loaded with stated dependencies ... OK
* checking whether the namespace can be unloaded cleanly ... OK
* checking dependencies in R code ... NOTE
'library' or 'require' call to 'BSgenome.Hsapiens.UCSC.hg19' in package code.
Please use :: or requireNamespace() instead.
See section 'Suggested packages' in the 'Writing R Extensions' manual.
* checking S3 generic/method consistency ... OK
* checking replacement functions ... OK
* checking foreign function calls ... OK
* checking R code for possible problems ... NOTE
.annotateVariants_MapperSet: no visible binding for global variable
'Hsapiens'
.ava2vcf: no visible binding for global variable 'Hsapiens'
.detectBreakpoints: no visible binding for global variable 'Hsapiens'
.getEnsemblInfo: no visible binding for global variable 'cds_length'
.getEnsemblInfo: no visible binding for global variable
'ensembl_transcript_id'
.getMutations: no visible binding for global variable 'PatternStart'
.getMutations: no visible binding for global variable 'PatternEnd'
.htmlReport: no visible binding for global variable 'VarFreqForward'
.htmlReport: no visible binding for global variable 'VarFreqReverse'
.plotVariants: no visible binding for global variable 'mutation'
qualityReportSFF: no visible binding for '<<-' assignment to 'tmp'
annotateVariants,MapperSet-BSgenome: no visible binding for global
variable 'Hsapiens'
annotateVariants,MapperSet-missing: no visible binding for global
variable 'Hsapiens'
ava2vcf,AVASet: no visible binding for global variable 'Hsapiens'
detectBreakpoints,list: no visible binding for global variable
'Hsapiens'
subset,AVASet: no visible binding for global variable 'referenceSeqID'
Undefined global functions or variables:
Hsapiens PatternEnd PatternStart VarFreqForward VarFreqReverse
cds_length ensembl_transcript_id mutation referenceSeqID
* checking Rd files ... OK
* checking Rd metadata ... OK
* checking Rd cross-references ... NOTE
Found the following Rd file(s) with Rd \link{} targets missing package
anchors:
AVASet-class.Rd: eSet-class, VersionedBiobase-class, Versioned-class
Breakpoints-class.Rd: PairwiseAlignmentsSingleSubject-class,
AlignedRead-class
MapperSet-class.Rd: eSet-class, VersionedBiobase-class,
Versioned-class
alignShortReads.Rd: matchPDict, DNAStringSet, AlignedRead
ava2vcf.Rd: VCF-class, writeVcf
baseFrequency.Rd: DNAStringSet, ShortRead, alphabetFrequency
baseQualityHist.Rd: QualityScaledDNAStringSet, ShortReadQ
baseQualityStats.Rd: QualityScaledDNAStringSet, ShortReadQ
complexity.dust.Rd: DNAStringSet, ShortRead
complexity.entropy.Rd: DNAStringSet, ShortRead
coverageOnTarget.Rd: scanBam
demultiplexReads.Rd: DNAStringSet
detectBreakpoints.Rd: scanBam, IRanges,
PairwiseAlignmentsSingleSubject, AlignedRead
dinucleotideOddsRatio.Rd: DNAStringSet, ShortRead
featureDataAmp.Rd: AnnotatedDataFrame
filterChimericReads.Rd: scanBam
gcContent.Rd: DNAStringSet, ShortRead
gcContentHist.Rd: DNAStringSet, ShortRead
gcPerPosition.Rd: DNAStringSet, ShortRead
getAlignedReads.Rd: DNAStringSet
htmlReport.Rd: fData
nucleotideCharts.Rd: DNAStringSet, ShortRead
positionQualityBoxplot.Rd: QualityScaledDNAStringSet, ShortReadQ
readLengthHist.Rd: DNAStringSet, ShortRead
readLengthStats.Rd: DNAStringSet, ShortRead
readsOnTarget.Rd: scanBam
removeLinker.Rd: DNAStringSet, pairwiseAlignment
sequenceQualityHist.Rd: QualityScaledDNAStringSet, ShortReadQ
Please provide package anchors for all Rd \link{} targets not in the
package itself and the base packages.
* checking for missing documentation entries ... OK
* checking for code/documentation mismatches ... OK
* checking Rd \usage sections ... OK
* checking Rd contents ... OK
* checking for unstated dependencies in examples ... OK
* checking contents of 'data' directory ... OK
* checking data for non-ASCII characters ... OK
* checking data for ASCII and uncompressed saves ... OK
* checking line endings in C/C++/Fortran sources/headers ... OK
* checking compiled code ... NOTE
Note: information on .o files for x64 is not available
File 'E:/biocbuild/bbs-3.21-bioc/R/library/R453Plus1Toolbox/libs/x64/R453Plus1Toolbox.dll':
Found '_exit', possibly from '_exit' (C)
Found 'abort', possibly from 'abort' (C), 'runtime' (Fortran)
Compiled code should not call entry points which might terminate R nor
write to stdout/stderr instead of to the console, nor use Fortran I/O
nor system RNGs nor [v]sprintf. The detected symbols are linked into
the code but might come from libraries and not actually be called.
See 'Writing portable packages' in the 'Writing R Extensions' manual.
* checking sizes of PDF files under 'inst/doc' ... OK
* checking files in 'vignettes' ... OK
* checking examples ... OK
Examples with CPU (user + system) or elapsed time > 5s
user system elapsed
mergeBreakpoints 11.81 0.15 12
* checking for unstated dependencies in vignettes ... OK
* checking package vignettes ... OK
* checking running R code from vignettes ... SKIPPED
* checking re-building of vignette outputs ... SKIPPED
* checking PDF version of manual ... OK
* DONE
Status: 4 NOTEs
See
'E:/biocbuild/bbs-3.21-bioc/meat/R453Plus1Toolbox.Rcheck/00check.log'
for details.
R453Plus1Toolbox.Rcheck/00install.out
##############################################################################
##############################################################################
###
### Running command:
###
### E:\biocbuild\bbs-3.21-bioc\R\bin\R.exe CMD INSTALL R453Plus1Toolbox
###
##############################################################################
##############################################################################
* installing to library 'E:/biocbuild/bbs-3.21-bioc/R/library'
* installing *source* package 'R453Plus1Toolbox' ...
** this is package 'R453Plus1Toolbox' version '1.58.0'
** using staged installation
** libs
using C compiler: 'gcc.exe (GCC) 14.2.0'
gcc -I"E:/biocbuild/bbs-3.21-bioc/R/include" -DNDEBUG -I"C:/rtools45/x86_64-w64-mingw32.static.posix/include" -O2 -Wall -std=gnu2x -mfpmath=sse -msse2 -mstackrealign -c readSFF.c -o readSFF.o
readSFF.c: In function 'readSFF':
readSFF.c:27:7: warning: variable 'block_count' set but not used [-Wunused-but-set-variable]
27 | int block_count;
| ^~~~~~~~~~~
gcc -I"E:/biocbuild/bbs-3.21-bioc/R/include" -DNDEBUG -I"C:/rtools45/x86_64-w64-mingw32.static.posix/include" -O2 -Wall -std=gnu2x -mfpmath=sse -msse2 -mstackrealign -c writeSFF.c -o writeSFF.o
gcc -shared -s -static-libgcc -o R453Plus1Toolbox.dll tmp.def readSFF.o writeSFF.o -LC:/rtools45/x86_64-w64-mingw32.static.posix/lib/x64 -LC:/rtools45/x86_64-w64-mingw32.static.posix/lib -LE:/biocbuild/bbs-3.21-bioc/R/bin/x64 -lR
installing to E:/biocbuild/bbs-3.21-bioc/R/library/00LOCK-R453Plus1Toolbox/00new/R453Plus1Toolbox/libs/x64
** R
** data
** inst
** byte-compile and prepare package for lazy loading
** help
*** installing help indices
** building package indices
** installing vignettes
** testing if installed package can be loaded from temporary location
** testing if installed package can be loaded from final location
** testing if installed package keeps a record of temporary installation path
* DONE (R453Plus1Toolbox)
R453Plus1Toolbox.Rcheck/R453Plus1Toolbox-Ex.timings
| name | user | system | elapsed | |
| AVASet-class | 0.23 | 0.04 | 0.36 | |
| AVASet | 0.14 | 0.03 | 0.17 | |
| AnnotatedVariants-class | 0 | 0 | 0 | |
| MapperSet-class | 0.05 | 0.01 | 0.06 | |
| MapperSet | 0.00 | 0.02 | 0.02 | |
| SFFContainer-class | 0 | 0 | 0 | |
| SFFRead-class | 0 | 0 | 0 | |
| alignShortReads | 2.72 | 0.00 | 3.12 | |
| annotateVariants | 0 | 0 | 0 | |
| assayDataAmp | 0.02 | 0.00 | 0.02 | |
| ava2vcf | 0.34 | 0.01 | 0.36 | |
| avaSetExample | 0.02 | 0.00 | 0.01 | |
| avaSetFiltered | 0.01 | 0.02 | 0.03 | |
| avaSetFiltered_annot | 0.00 | 0.02 | 0.02 | |
| breakpoints | 0.00 | 0.01 | 0.01 | |
| calculateTiTv | 0.02 | 0.00 | 0.02 | |
| captureArray | 0 | 0 | 0 | |
| coverageOnTarget | 0.22 | 0.02 | 0.25 | |
| demultiplexReads | 0.11 | 0.00 | 0.11 | |
| detectBreakpoints | 0.89 | 0.09 | 0.98 | |
| fDataAmp | 0.01 | 0.02 | 0.04 | |
| featureDataAmp | 0.05 | 0.00 | 0.04 | |
| filterChimericReads | 4.20 | 0.04 | 4.27 | |
| genomeSequencerMIDs | 0.04 | 0.00 | 0.03 | |
| getAlignedReads | 0.07 | 0.00 | 0.11 | |
| getVariantPercentages | 0.04 | 0.03 | 0.06 | |
| htmlReport | 2.46 | 0.54 | 3.22 | |
| mapperSetExample | 0.02 | 0.00 | 0.02 | |
| mergeBreakpoints | 11.81 | 0.15 | 12.00 | |
| mutationInfo | 0 | 0 | 0 | |
| plotAmpliconCoverage | 0 | 0 | 0 | |
| plotChimericReads | 2.97 | 0.10 | 3.06 | |
| plotVariants | 0.01 | 0.00 | 0.01 | |
| plotVariationFrequency | 0 | 0 | 0 | |
| qualityReportSFF | 0 | 0 | 0 | |
| readSFF | 0.13 | 0.01 | 0.19 | |
| readsOnTarget | 0.06 | 0.00 | 0.06 | |
| referenceSequences | 0 | 0 | 0 | |
| regions | 0.00 | 0.02 | 0.02 | |
| removeLinker | 0.02 | 0.00 | 0.01 | |
| sequenceCaptureLinkers | 0.01 | 0.00 | 0.02 | |
| setVariantFilter | 0.05 | 0.00 | 0.05 | |
| variants | 0.01 | 0.00 | 0.01 | |
| writeSFF | 0.03 | 0.00 | 0.03 | |